Workbook
Name Earn_etc: '[1]4부.Ⅱ.1.3)'!$R$6
Name Rent_SUM: '[1]4부.Ⅱ.1.1)'!$R$10
Name Rent_SUM: '3부.Ⅱ.4'!#REF!
Name Rent_SUM: '[1]4부.Ⅱ.1.1)'!$R$10
Name Rent_SUM: '[1]4부.Ⅱ.1.1)'!$R$10
Name Rent_SUM: '[1]4부.Ⅱ.1.1)'!$R$10
Name Rent_SUM: '[1]4부.Ⅱ.1.1)'!$R$10
Name Rent_SUM: '[1]4부.Ⅱ.1.1)'!$R$10
Name Rent_SUM: '[1]4부.Ⅱ.1.1)'!$R$10
Name Rent_SUM: '[1]4부.Ⅱ.1.1)'!$R$10
Name Rent_SUM: '[1]4부.Ⅱ.1.1)'!$R$10
Name Rent_SUM: '[1]4부.Ⅱ.1.1)'!$R$10
Name Rent_SUM: '[1]4부.Ⅱ.1.1)'!$R$10
Name Rent_SUM: '[1]4부.Ⅱ.1.1)'!$R$10
Name Rent_SUM: '3부.Ⅱ.1.1)'!#REF!
Name Rent_SUM: '3부.Ⅱ.1.1)'!#REF!
Name Rent_SUM: '3부.Ⅱ.1.1)'!#REF!
Name Rent_SUM: '3부.Ⅱ.1.1)'!#REF!

Sheet 표지
A3: 투 자 보 고 서
D6: 2020.01.01 | F6: 부터 | G6: 2020.03.31 | I6: 까지
D8: ( 제 | E8: 3 | F8: 기 | G8: 1 | H8: 분기 )
B11: 국토교통부장관, 금융위원회 귀중
B14: 부동산투자회사법 제37조, 동법 시행령 제40조 및 부동산투자회사등에 관한 감독규정 제7조의 규정에 의하여 투자보고서를 작성하여 제출합니다.
J17: 2020.05.15
D28: 회 사 명 : | E28: ㈜대한제22호평택고평위탁관리부동산투자회사
D29: 대 표 이 사 : | E29: 전태경
D30: 본점소재지 : | E30: 서울특별시 강남구 영동대로 517, 26층(삼성동, 아셈타워)
E31: (전화번호) | G31: 02-528-0521
E32: (홈페이지) | G32: http://www.reitpia.com/
D33: 작성책임자 : | E33: (회사) | G33: 대한토지신탁㈜ | J33: (직책) | K33: 대리
E34: (전화번호) | G34: 02-528-0521 | J34: 성명 | K34: 윤영주
D35: 공시책임자 : | E35: (회사) | G35: 대한토지신탁㈜ | J35: (직책) | K35: 대리
E36: (전화번호) | G36: 02-528-0521 | J36: 성명 | K36: 윤영주
A39: *입력도움말 1. 제출날짜(YYYY.MM.DD) 및 회사명, 대표이사, 본점소재지 등 내용을 직접 입력하시기 바랍니다. 2. 대표이사, 작성책임자, 공시책임자의 도장 스캔본을 '(인)' 위에 각각 삽입 후 마우스 오른쪽버튼을 클릭하여 '맨 뒤로 보내기'를 클릭하시기 바랍니다. 3. 표지 작성 후 '8부(재무제표) -> 그외 시트' 순으로 작성 바랍니다.

Sheet 1부.Ⅰ.1
A2: 제 1 부 부동산투자회사의 현황
A5: Ⅰ. 회사의 현황
B7: 1. 회사의 개요
AL8: 상장여부
E9: 1) 회사명 | P9: =표지!E28 -> ㈜대한제22호평택고평위탁관리부동산투자회사 | AA9: =IF(AL9="상장","(","") | AB9: =IF(AL9="상장","상장일자:","") | AF9: =IF(AL9="상장","상장일자 입력","") | AK9: =IF(AL9="상장",")","") | AL9: 비상장
E10: 2) 설립일 | P10: 2018.08.08
E11: 3) 소재지 | P11: =표지!E30 -> 서울특별시 강남구 영동대로 517, 26층(삼성동, 아셈타워)
E12: 4) 자산 및 자본금, 부채 | P12: (기준일자) | U12: =표지!G6 -> 2020.03.31 | AA12: (단위: 원)
E13: 총 자 산 | P13: ='5부.Ⅰ'!U79 -> 135089223771
E14: 자 본 금 | P14: ='5부.Ⅰ'!U112 -> 13725125000
E15: 부 채 | P15: ='5부.Ⅰ'!U110 -> 80598672082
E16: 5) 자산관리회사 | P16: 대한토지신탁(주)
E17: 6) 사무수탁회사 | P17: 우리펀드서비스(주)
E18: 7) 자산보관회사 | P18: 엔에이치투자증권(주)
E19: 8) 비고 | P19: (1) 정관에서 정한 회사의 존속기간 및 해산사유
P20: - 존속기간 : 정관에서 별도 정함이 없음. - 해산사유: 1. 존립기간을 정한 경우 그 존립기간의 만료 2. 주주총회의 해산결의 3. 합병 4. 파산 5. 법원의 해산명령 또는 해산판결 6. 국토교통부장관의 영업인가 또는 등록의 취소 7. 부투법 제3조부터 제7조까지의 규정을 위반하여 영업인가 또는 등록이 거부된 경우 8. 설립 후 1년 6개월 이내에 영업인가를 받지 못하거나 등록 을 하지 못한 경우
P21: (2) 신용평가결과
P22: 해당사항 없음
AL24: ← 필요시 주석 기재
A27: * 입력도움말 1. 양식 수정은 절대 금지하며, 셀 높이 조절만 가능합니다. 2. 바탕색이 황갈색인 셀에만 데이터를 입력하시기 바랍니다. 3. 날짜는 0000.00.00 형식으로 입력하시기 바랍니다. 4. 상장여부를 반드시 체크하시기 바랍니다. 5. '신용평가결과'는 추후 시행예정으로 시행 전까지 '해당사항 없음'으로 기재 바랍니다.

Sheet 1부.Ⅰ.2.1)
B2: 2. 회사의 연혁
C4: 1) 설립경과 및 설립이후의 변동사항(상호의 변경, 영업양수 또는 영업양도, 주요 자산취득일 등을 기재)
E6: 가) 설립경과 및 설립이후의 변동사항(주요 자산취득일 포함) 2018.08.08. 발기인총회 개최 2018.08.08. 회사 설립 2018.09.14. 일반사무위탁계약 체결 [우리펀드서비스(주)] 2018.09.14. 자산관리계약 체결 [대한토지신탁(주)] 2018.09.14. 자산보관계약 체결 [엔에이치투자증권(주)] 2019.01.03. 국토교통부 영업인가 2019.05.20. 부동산매매계약 체결(경기도 평택시 고평지구) 2019.05.22. 1차 유상증자 2019.10.14. 유상감자(감자 후 자본금 137억원) 나) 상호의 변경 해당사항 없음 다) 합병, 영업양수 또는 영업양도 해당사항 없음
A12: * 입력도움말 1. 양식 수정은 절대 금지하며, 셀 높이 조절만 가능합니다. 2. 바탕색이 황갈색인 셀에만 데이터를 입력하시기 바랍니다.

Sheet 1부.Ⅰ.2.2)
C2: 2) 발기인·이사 및 감사에 관한 사항
D4: (1) 발기인에 관한 사항
E6: 성 명 | M6: 생년월일 또는 법인등록번호 | T6: 주요경력 및 연혁 | AF6: 비 고
E7: 두리산업개발㈜ | M7: 131311-0083257 | T7: 2018.05.공공지원 민간임대주택 민간제안사업 우선협상대상자 | AF7: 결격사항 없음
E13: ※ 비고란에는 법 제7조의 결격요건 해당여부를 기재
E14: ※ 주요경력은 주요근무지, 근무기간 및 직위등을 구체적으로 기재
AL15: ← 필요시 주석 기재
D17: (2) 이사 및 감사에 관한 사항
E19: 직 명 | K19: 성 명 | Q19: 생년월일 | V19: 주요경력 및 연혁 | AF19: 비 고
E20: 대표이사 | K20: 전태경 | Q20: 1992.05.08 | V20: 아테네주식회사 대표 | AF20: 결격사항 없음
E21: 기타비상무이사 | K21: 김세관 | Q21: 1956.07.18 | V21: 前. SK건설 본부장 | AF21: 결격사항 없음
E22: 기타비상무이사 | K22: 이규석 | Q22: 1968.04.14 | V22: 우리실내인테리어 실장 | AF22: 결격사항 없음
E23: 감사 | K23: 최준영 | Q23: 1983.12.22 | V23: 삼덕회계법인 | AF23: 결격사항 없음
E26: ※ 비고란에는 법 제14조의 결격요건 해당여부를 기재
E27: ※ 주요경력은 주요근무지, 근무기간 및 직위등을 구체적으로 기재
AL28: ← 필요시 주석 기재
A31: * 입력도움말 1. 양식 수정은 절대 금지하며, 셀 높이 조절만 가능합니다. 2. 바탕색이 황갈색인 셀에만 데이터를 입력하시기 바랍니다. 3. 필요시 행추가(복사한 셀 삽입)하여 추가 작성하시기 바랍니다. 4. 생년월일은 0000.00.00 형식으로 입력하시기 바랍니다.

Sheet 1부.Ⅰ.3.1)
B2: 3. 주식 및 자본에 관한 사항
C4: 1) 주식에 관한 사항
D6: (1) 발행한 주식의 내용
AD7: [ | AE7: =표지!G6 -> 2020.03.31 | AJ7: 현재]
AF8: (단위 : 원, 주)
C9: 구 분 | I9: 종 류 | O9: 발행주식수 | V9: 주당 발행가액 | AA9: 주당 액면가액 | AF9: 비 고
C10: 기명식 | I10: 보통주 | O10: 875000 | V10: 20000 | AA10: 5000
C11: 기명식 | I11: 종류주 | O11: 1870025 | V11: 20000 | AA11: 5000
AL15: ← 필요시 주석 기재
D17: (2) 자기주식 취득현황
AF18: (단위 : 원, 주)
C19: 취득일자 | I19: 종 류 | O19: 주식수량 | V19: 취득가액 | AE19: 비 고
AL23: ← 필요시 주석 기재
D25: (3) 현물출자 현황
D29: (4) 비고(주식매수선택권 여부, 의결권이 있는 주식수, 의결권이 제한된 주식수 등을 기재)
C31: 종류주식은 누적적, 참가적 우선주이며, 의결권이 있는 주식임.
A35: * 입력도움말 1. 필요시 행추가(복사한 셀 삽입)하여 추가 작성하시기 바랍니다. 2. 날짜는 0000.00.00 형식으로 입력하시기 바랍니다. 3. 해당사항 없는 항목은 기재하지 마시기 바랍니다.

Sheet 1부.Ⅰ.3.2)
C2: 2) 자본금 변동상황
AE3: (단위 : 원, 주)
C4: 일자 | G4: 원인 | I4: 증가(감소)한 주식의 내용 | W4: 증(감)자한 자본금 | AC4: 증(감)자 후 자본금 | AI4: 증(감)자 비율
I5: 종류 | L5: 수량 | Q5: 주당 발행가액 | T5: 주당 액면가액
C6: 2018.08.08 | G6: 설립 | I6: 보통주 | L6: 60000 | Q6: 5000 | T6: 5000 | W6: =L6*T6 -> 300000000 | AC6: =W6 -> 300000000 | AI6: 0
C7: 2019.05.22 | G7: 증자 | I7: 보통주 | L7: 875000 | Q7: 20000 | T7: 5000 | W7: =L7*T7 -> 4375000000 | AC7: =AC6+W7 -> 4675000000 | AI7: =L7*Q7/AC6 -> 58.333333
C8: 2019.05.22 | G8: 증자 | I8: 종류주 | L8: 1870025 | Q8: 20000 | T8: 5000 | W8: =L8*T8 -> 9350125000 | AC8: =AC7+W8 -> 14025125000 | AI8: =L8*Q8/AC6 -> 124.66833
C9: 2019.10.14 | G9: 감자 | I9: 보통주 | L9: -60000 | Q9: 5000 | T9: 5000 | W9: =L9*T9 -> -300000000 | AC9: =W9+AC8 -> 13725125000 | AI9: =L9*Q9/AC8 -> -0.021390184
AM12: ← 필요시 주석 기재
C14: 3) 자본금 변동예정 등
A22: * 입력도움말 1. 2) 자본금 변동상황은 설립시부터 적어주시기 바라며, 필요시 행추가(복사한 셀 삽입)하여 작성해주시기 바랍니다. 2. 감자로 자본금이 감소할 경우는 수량을 음수(-)로 작성해주시기 바랍니다. (예) : △50,000,000 (X) / -50,000,000(O) 3. 증자비율: 증가금액(수량X주당액면가액)/증(감)자 전 자본금 감자비율: 감소금액(수량X주당액면가액)/증(감)자 전 자본금 4. 해당사항 없는 항목은 기재하지 마시기 바랍니다.

Sheet 1부.Ⅰ.4.1)
B2: 4. 주주현황
C4: 1) 최대주주 및 그 특별관계자의 주식소유현황
AL5: 【 | AM5: =표지!G6 -> 2020.03.31 | AR5: 현재 | AU5: 】
C6: 성명 | H6: 관계 | K6: 내/ 외국인 | N6: 국적 | Q6: 기관/개인 | S6: 청약 예외주주 | V6: 주식의 종류 | Y6: 소유주식수(지분율) | AQ6: 변동원인
Y7: 기초 | AD7: 증가 | AH7: 감소 | AL7: 기말
C8: ㈜민간허브임대제4호위탁관리부동산투자회사 주1) | H8: 최대주주 | K8: 내국인 | N8: 대한민국 | Q8: 기관 | S8: 제25호 | V8: 종류주 | Y8: 1870025 | AL8: =Y8+AD8-AH8 -> 1870025
Y9: 0.6812 | AL9: 0.6812
AL10: =Y10+AD10-AH10 -> 0
AL12: =Y12+AD12-AH12 -> 0
AL14: =Y14+AD14-AH14 -> 0
AL16: =Y16+AD16-AH16 -> 0
E19: ※ 특별관계자는 자본시장법 시행령 제141조제1항의 특수관계인 및 공동보유자를 말함
E20: ※ 청약예외주주란에는 시행령 제12조의3(일반청약에 대한 예외) 각 호 중 해당되는 호를 기재
E21: 주1) ㈜대한제22호평택고평위탁관리부동산투자회사의 모리츠 주2) 청약예외주주의 경우 부동산투자회사법 제14조의8제3항제2호를 준용하기에 공란으로 기재함 : 부동산투자회사가 보유하거나 개발할 건축물 연면적의 100분의 70 이상을 임대주택(「민간임대주택에 관한 특별법」 에 따른 민간임대주택 및 「공공주택 특별법」에 따른 공공임대주택을 말한다)으로 제공하는 경우(임대주택의 주거여건 조성과 관계없이 「건축법」 제2조제2항제15호부터 제17호까지, 제19호, 제23호부터 제27호까지의 건축물에 투자하는 경우에는 그러하지 아니한다) | AV21: ← 필요시 주석 기재
A24: * 입력도움말 1. 필요시 행추가(복사한 셀 삽입)하여 추가 작성하시기 바랍니다. 2. 지분율은 숫자만 입력하시기 바랍니다.(괄호 자동표시) 3. 공모 회사 중 필요한 경우 기준일자를 직접 입력하고, 그 일자 기준의 주주현황을 입력하시기 바랍니다.

Sheet 1부.Ⅰ.4.2)
C2: 2) 주요주주(10%이상 주주)의 주식소유현황
AO3: 【 | AP3: =표지!G6 -> 2020.03.31 | AU3: 현재 | AX3: 】
C4: 순위 | G4: 성명 | L4: 내/ 외국인 | P4: 국적 | T4: 기관/ 개인 | X4: 청약예외주주 | AB4: 주식의 종류 | AF4: 소유주식수 | AN4: 지분율 | AT4: 비고
C5: 1 | G5: 두리산업개발㈜ | L5: 내국인 | P5: 대한 민국 | T5: 기관 | X5: 해당사항 없음 | AB5: 보통주 | AF5: 737500 | AN5: 0.2687
AY11: ← 필요시 주석 기재
A16: * 입력도움말 1. 필요시 행추가(복사한 셀 삽입)하여 추가 작성하시기 바랍니다. 2. 공모 회사 중 필요한 경우 기준일자를 직접 입력하고, 그 일자 기준의 주주현황을 입력하시기 바랍니다.

Sheet 1부.Ⅰ.4.3)
C2: 3) 소액주주, 최대주주 및 기타주주 분포
AB3: 【 | AC3: =표지!G6 -> 2020.03.31 | AH3: 현재 | AK3: 】
C4: 구분 | J4: 주주수(명) | N4: 비율 | T4: 주식수 | AA4: 비율 | AG4: 비고
C5: 최대주주 | J5: 1 | N5: =IFERROR(J5/SUM($J$5:$M$8),"") -> 0.25 | T5: 1870025 | AA5: =IFERROR(T5/SUM($T$5:$Z$8),"") -> 0.68124152
C6: 주요주주 | J6: 1 | N6: =IFERROR(J6/SUM($J$5:$M$8),"") -> 0.25 | T6: 737500 | AA6: =IFERROR(T6/SUM($T$5:$Z$8),"") -> 0.26866786
C7: 소액주주 - 개인 | N7: =IFERROR(J7/SUM($J$5:$M$8),"") -> 0 | AA7: =IFERROR(T7/SUM($T$5:$Z$8),"") -> 0
C8: 소액주주 - 법인 | J8: 2 | N8: =IFERROR(J8/SUM($J$5:$M$8),"") -> 0.5 | T8: 137500 | AA8: =IFERROR(T8/SUM($T$5:$Z$8),"") -> 0.050090618
C9: 합 계 | J9: =SUM(J5:M8) -> 4 | N9: =SUM(N5:S8) -> 1 | T9: =SUM(T5:Z8) -> 2745025 | AA9: =SUM(AA5:AF8) -> 1
AL11: ← 필요시 주석 기재
C14: 4) 주가변동사항
C16: 월별 | N16: 년 | Q16: 월 | U16: 년 | X16: 월 | AB16: 년 | AE16: 월 | AG16: 비고
C17: 최고가(일자)
C18: 최저가(일자)
C19: 월간 거래량
C20: 일평균 거래량
E21: ※ 주가는 월별 종가기준으로 기재
AL22: ← 필요시 주석 기재
A25: * 입력도움말 1. 공모 회사 중 필요한 경우 기준일자를 직접 입력하고, 그 일자 기준의 주주현황을 입력하시기 바랍니다. 2. 해당사항 없는 항목은 기재하지 마시기 바랍니다.

Sheet 1부.Ⅰ.5
B2: 5. 배당에 관한 사항
C4: 1) 이익 등의 분배방침
C6: 정관 제52조(이익의 배당) ①회사는 매 사업연도 이익배당한도의 100분의 90 이상을 주주총회 또는 제49조 제5항에 따른 이사회의 결의에 따라 주주에게 배당하여야 한다. 이 경우 상법 제458조에 따른 이익준비금은 적립하지 아니한다. ②회사가 제1항에 따라 이익을 배당할 때에는 상법 제462조 제1항에도 불구하고 부투법 시행령 제32조가 정하는 바에 따라 해당 사업연도의 감가상각비의 범위에서 초과배당할 수 있다. 다만, 초과배당으로 인하여 전기에서 이월된 결손금은 당기의 배당가능이익 산정 시 포함하지 아니한다. 초과배당은 현금으로 하여야 한다. ③회사가 제11조에 따라 상장한 경우, 총자산에서 100분의 10 이상을 차지하는 부동산을 매각하여 그 이익을 배당할 때에는 해당 사업연도 말 10일 전까지 이사회를 개최하여 이사회의 결의로 배당 여부 및 배당 예정금액을 결정하여야 한다. 정관 제53조(이익배당의 지급) ①배당금은 정기주주총회 또는 제49조 제5항에 따른 이사회의 결의로 승인을 받아 매 사업연도 종료일 현재 주주명부에 기재된 주주 또는 등록된 질권자에게 지급하되, 지급방법 및 시기는 이사회에서 결정한다. ②회사는 이익 배당을 정기주주총회 또는 제49조 제5항에 따른 이사회의 결의를 한 날부터 1개월 이내에 하여야 한다. 다만, 주주총회 또는 이사회에서 배당금의 지급시기를 따로 정한 경우에는 그러하지 아니하다.
C8: 2) 최근 사업연도의 배당에 관한 사항
D9: [주당액면가액 : | K9: 5000 | N9: 원 | O9: ] | AA9: (단위 : 원, %)
C10: 구분 | K10: 제 | L10: 2 | M10: 기 | Q10: 제 | R10: 1 | S10: 기 | W10: 제 | X10: - | Y10: 기 | AC10: 제 | AD10: - | AE10: 기
C11: 당기순이익 | I11: -243954218 | O11: 0
C12: 상법상 배당가능이익 | I12: -243954218 | O12: 0
C13: 당기감가상각비 등 | I13: =I32+I33 -> 0 | O13: =O32+O33 -> 0 | U13: =U32+U33 -> 0 | AA13: =AA32+AA33 -> 0
C14: 이익배당한도 | I14: =I12+I13 -> -243954218 | O14: =O12+O13 -> 0 | U14: =U12+U13 -> 0 | AA14: =AA12+AA13 -> 0
C15: 배당금 | I15: 0 | O15: 0
C16: 주당배당금 | I16: 0 | O16: 0
C17: 배당수익율 | I17: =IF(ISERROR(I15/((I34+I35)/2)*100),"-",I15/((I34+I35)/2)) -> 0 | O17: =IF(ISERROR(O15/((O34+O35)/2)*100),"-",O15/((O34+O35)/2)) -> 0 | U17: =IF(ISERROR(U15/((U34+U35)/2)*100),"-",U15/((U34+U35)/2)) -> - | AA17: =IF(ISERROR(AA15/((AA34+AA35)/2)*100),"-",AA15/((AA34+AA35)/2)) -> -
C18: 연환산배당율 | I18: =IF(ISERROR(I17*365/I31),"-",I17*365/I31) -> 0 | O18: =IF(ISERROR(O17*365/O31),"-",O17*365/O31) -> 0 | U18: =IF(ISERROR(U17*365/U31),"-",U17*365/U31) -> - | AA18: =IF(ISERROR(AA17*365/AA31),"-",AA17*365/AA31) -> -
E19: ※ 상법상 배당가능이익 : 순자산가액 - 자본금 - 자본준비금 - 상법 시행령 제19조의 미실현이익 - 기타(주식할인발행차금 상각액 등)
E20: ※ 당기 감가상각비 등 : 당기 감가상각비 + 전기이전 감가상각비 초과배당누적액
E21: ※ 이익배당한도 : 상법상 배당가능이익 + 당기 감가상각비 등
E22: ※ 주당배당금 : 배당금 / 발행주식수
E23: ※ 배당수익율 : 배당액 / [ (기초납입자본금+기말납입자본금)/2 ] 로 계산
E24: ※ 1기의 사업연도가 1년 미만일 경우, 비교목적으로 연환산배당율을 다음의 산식으로 추가기재 연환산배당율 : 배당수익율 x 365일 / (해당사업연도의 일수)
AG25: ← 필요시 주석 기재
D27: * 산출근거자료 | AA27: (단위 : 원)
C28: 구분 | K28: 제 | L28: =L10 -> 2 | M28: 기 | Q28: 제 | R28: =R10 -> 1 | S28: 기 | W28: 제 | X28: =X10 -> - | Y28: 기 | AC28: 제 | AD28: =AD10 -> - | AE28: 기
C29: 기수시작일 | I29: 43466 | O29: 43320
C30: 기수종료일 | I30: 43830 | O30: 43465
C31: 사업일수 | I31: =IFERROR(IF(I29>0, I30-I29+1, " "),"") -> 365 | O31: =IFERROR(IF(O29>0, O30-O29+1, " "),"") -> 146 | U31: =IFERROR(IF(U29>0, U30-U29+1, " "),"") | AA31: =IFERROR(IF(AA29>0, AA30-AA29+1, " "),"")
C32: 당기 감가상각비 | I32: 0 | O32: 0
C33: 전기이전 감가상각비 초과배당누적액 | I33: 0 | O33: 0
C34: 기초납입자본금 | I34: 300000000 | O34: 300000000
C35: 기말납입자본금 | I35: 54832509680 | O35: 300000000
D37: ※ 납입자본금은 액면가액이 아닌 발행가액을 기준하여 적용
D39: - 우선주 및 보통주의 배당에 관한 사항 | AA39: (단위 : 원, %)
C40: 구분 | K40: 제 | L40: =L10 -> 2 | M40: 기 | Q40: 제 | R40: =R10 -> 1 | S40: 기 | W40: 제 | X40: =X10 -> - | Y40: 기 | AC40: 제 | AD40: =AD10 -> - | AE40: 기
C41: (우선주) 배당금총액 | I41: 0 | O41: 0
C42: (우선주) 배당수익율 | I42: =IF(ISERROR(I41/((I47+I48)/2)*100),"-",I41/((I47+I48)/2)) -> 0 | O42: =IF(ISERROR(O41/((O47+O48)/2)*100),"-",O41/((O47+O48)/2)) -> - | U42: =IF(ISERROR(U41/((U47+U48)/2)*100),"-",U41/((U47+U48)/2)) -> - | AA42: =IF(ISERROR(AA41/((AA47+AA48)/2)*100),"-",AA41/((AA47+AA48)/2)) -> -
C43: (우선주) 연환산배당율 | I43: =IF(ISERROR(I42*365/I31),"-",I42*365/I31) -> 0 | O43: =IF(ISERROR(O42*365/O31),"-",O42*365/O31) -> - | U43: =IF(ISERROR(U42*365/U31),"-",U42*365/U31) -> - | AA43: =IF(ISERROR(AA42*365/AA31),"-",AA42*365/AA31) -> -
C44: (보통주) 배당금총액 | I44: 0 | O44: 0
C45: (보통주) 배당수익율 | I45: =IF(ISERROR(I44/((I49+I50)/2)*100),"-",I44/((I49+I50)/2)) -> 0 | O45: =IF(ISERROR(O44/((O49+O50)/2)*100),"-",O44/((O49+O50)/2)) -> 0 | U45: =IF(ISERROR(U44/((U49+U50)/2)*100),"-",U44/((U49+U50)/2)) -> - | AA45: =IF(ISERROR(AA44/((AA49+AA50)/2)*100),"-",AA44/((AA49+AA50)/2)) -> -
C46: (보통주) 연환산배당율 | I46: =IF(ISERROR(I45*365/I31),"-",I45*365/I31) -> 0 | O46: =IF(ISERROR(O45*365/O31),"-",O45*365/O31) -> 0 | U46: =IF(ISERROR(U45*365/U31),"-",U45*365/U31) -> - | AA46: =IF(ISERROR(AA45*365/AA31),"-",AA45*365/AA31) -> -
C47: (우선주) 기초납입자본금 | I47: 0 | O47: 0
...

Sheet 2부.Ⅰ
A2: 제 2 부 자산의 투자·운용 및 자산의 구성·변경 현황
A4: Ⅰ. 총자산의 투자·운용 및 구성현황
AA6: (단위 : 백만원, %)
C7: 항 목 | N7: 전분기 | V7: 당분기 | AD7: 총자산대비 구성비율
N8: 자산총액 | S8: 비율 | V8: 자산총액 | AA8: 비율
C9: 부동산 | S9: =IFERROR(N9/SUM($N$9:$R$13)*100,"") -> 0 | AA9: =IFERROR(V9/SUM($V$9:$Z$13)*100,"") -> 0 | AD9: =IFERROR(AA9+AA10,"") -> 96.813936
F10: 부동산개발사업 | N10: 88018237392 | S10: =IFERROR(N10/SUM($N$9:$R$13)*100,"") -> 96.929458 | V10: 130785194291 | AA10: =IFERROR(V10/SUM($V$9:$Z$13)*100,"") -> 96.813936
C11: 부동산관련 유가증권 | S11: =IFERROR(N11/SUM($N$9:$R$13)*100,"") -> 0 | AA11: =IFERROR(V11/SUM($V$9:$Z$13)*100,"") -> 0 | AD11: =AA11 -> 0
C12: 현금 | N12: 1754755770 | S12: =IFERROR(N12/SUM($N$9:$R$13)*100,"") -> 1.9324123 | V12: 2060308638 | AA12: =IFERROR(V12/SUM($V$9:$Z$13)*100,"") -> 1.5251466 | AD12: =AA12 -> 1.5251466 | AL12: 현금 및 현금성자산+미수수익
C13: 기타 자산 | N13: 1033495732 | S13: =IFERROR(N13/SUM($N$9:$R$13)*100,"") -> 1.1381298 | V13: =2242976143+689360+55339 -> 2243720842 | AA13: =IFERROR(V13/SUM($V$9:$Z$13)*100,"") -> 1.6609177 | AD13: =AA13 -> 1.6609177 | AL13: 부가세대급금+선납세금+선급비용, 미수법인세환급액
C14: 총계 | N14: =SUM(N9:R13) -> 90806488894 | S14: =IFERROR(N14/SUM($N$14:$R$14)*100,"") -> 100 | V14: =SUM(V9:Z13) -> 135089223771 | AA14: =IFERROR(V14/SUM($V$14:$Z$14)*100,"") -> 100 | AD14: =AA14 -> 100
E16: ※ 1. 부동산은 지상권·임차권 등 부동산 사용에 관한 권리, 부동산개발사업, 설립할 때 납입된 주금(株金), 신주발행으로 조성한 자금 및 소유 부동산의 매각대금, 시행령 제27조에 의하여 부동산에 포함되는 자산을 말함(기업구조조정부동산투자회사의 경우, 구조조정부동산을 별도 표시)
E17: 2. 부동산관련 유가증권은 법제2조3항 각 목의 어느 하나에 해당하는 자산을 말함
E18: 3. 현금은 금융기관에의 예치금을 포함하며, 부동산에 포함되는 자산은 제외함
E19: 4. 기타는 자산 중 부동산, 부동산관련 유가증권, 현금에 해당되지 않는 자산을 말함
AL20: ← 필요시 주석 기재
A23: * 입력도움말 1. 자산총액의 입력은 반드시 '원' 단위로 입력하시기 바랍니다. ('백만원' 단위로 자동표시)

Sheet 2부.Ⅰ.1.1)
B2: 1. 부동산(지상권·임차권 등 부동산사용에 관한 권리도 포함)
C4: 1) 소유 부동산별 개요
C6: 부동산명 | I6: 위치 | T6: 완공 (개축)일자 | Y6: 취득일자 | AD6: 담보 및 부채내역 | AL6: 유형 | AM6: 투자대상 | AN6: 대지면적(㎡) | AO6: 연면적(㎡) | AP6: 건축면적(㎡)
C7: 1
C8: 2
C9: 3
C10: 4
C11: 5
C12: 6
C13: 7
C14: 8
C15: 9
C16: 10
C17: 11
C18: 12
... C21: 15
E22: ※ 준공시 잔금지급예정으로 준공후 소유권이 넘어오는 경우는 제외
AL23: ← 필요시 주석 기재
A26: * 입력도움말 1. 부동산이 15개를 초과할 경우 행추가(복사한 셀 삽입)하여 추가 작성(16번부터 이어서 작성)하시기 바라며, 아직 소유한 부동산이 없을 경우 기재하지 마시기 바랍니다. 2. 완공일자와 취득일자는 YYYY-MM-DD 형식으로 입력바랍니다. 3. 개발관련부동산으로 토지만 소유시 부동산명은 토지(개발사업명)로 입력하시고, 하나의 개발사업에 여러 필지가 해당되는 경우에는 위치에 대표번지 입력하고 '외 0필지'로 입력하시기 바랍니다. 4. 준공시 잔금지급예정으로 준공후 소유권이 넘어오는 경우는 소유부동산 표에 입력하지 마시고 표 하단에 별도로 주석처리하시기 바랍니다. 5. 열 AL~AP의 내용을 선택 또는 입력하여 주시기 바랍니다.
A27: <투자대상 분류기준> (분류유형) 투자대상은 투자하는 부동산의 주된 유형에 따라 주택, 오피스, 리테일, 호텔, 물류, 복합형으로 구분된 6가지 유형 중 한가지로 분류함 (복합형) 하나의 리츠가 둘이상 유형의 복수 부동산에 투자하는 경우 복합형으로 분류, 하나의 투자부동산에 둘이상 유형이 존재하여 주된 유형의 구분이 어려운 경우 복합형으로 분류 (지분투자) 지분투자하는 경우에는 투자하는 부동산 유형에 따라 분류하며, 투자유형이 여러개인 경우 복합형 으로 분류 (토지지원) 토지지원리츠는 토지지원으로 개발되는 부동산 유형에 따라 분류

Sheet 2부.Ⅰ.1.2)
C2: 2) 소유 부동산별 금액현황
S4: (단위 : 백만원)
C5: 부동산명 | G5: 취득가액 | K5: 취득후 자본적지출 | O5: 평가손익 | S5: 감가 상각 누계액 | U5: 손상 차손 누계액 | W5: 장부가액
G6: 토지 | I6: 건물 | K6: 토지 | M6: 건물 | O6: 토지 | Q6: 건물
C7: 1 | D7: ='2부.Ⅰ.1.1)'!D7 -> 0 | W7: =G7+I7+K7+M7+O7+Q7-S7-U7 -> 0
C8: 2 | D8: ='2부.Ⅰ.1.1)'!D8 -> 0 | W8: =G8+I8+K8+M8+O8+Q8-S8-U8 -> 0
C9: 3 | D9: ='2부.Ⅰ.1.1)'!D9 -> 0 | W9: =G9+I9+K9+M9+O9+Q9-S9-U9 -> 0
C10: 4 | D10: ='2부.Ⅰ.1.1)'!D10 -> 0 | W10: =G10+I10+K10+M10+O10+Q10-S10-U10 -> 0
C11: 5 | D11: ='2부.Ⅰ.1.1)'!D11 -> 0 | W11: =G11+I11+K11+M11+O11+Q11-S11-U11 -> 0
C12: 6 | D12: ='2부.Ⅰ.1.1)'!D12 -> 0 | W12: =G12+I12+K12+M12+O12+Q12-S12-U12 -> 0
C13: 7 | D13: ='2부.Ⅰ.1.1)'!D13 -> 0 | W13: =G13+I13+K13+M13+O13+Q13-S13-U13 -> 0
C14: 8 | D14: ='2부.Ⅰ.1.1)'!D14 -> 0 | W14: =G14+I14+K14+M14+O14+Q14-S14-U14 -> 0
C15: 9 | D15: ='2부.Ⅰ.1.1)'!D15 -> 0 | W15: =G15+I15+K15+M15+O15+Q15-S15-U15 -> 0
C16: 10 | D16: ='2부.Ⅰ.1.1)'!D16 -> 0 | W16: =G16+I16+K16+M16+O16+Q16-S16-U16 -> 0
C17: 11 | D17: ='2부.Ⅰ.1.1)'!D17 -> 0 | W17: =G17+I17+K17+M17+O17+Q17-S17-U17 -> 0
C18: 12 | D18: ='2부.Ⅰ.1.1)'!D18 -> 0 | W18: =G18+I18+K18+M18+O18+Q18-S18-U18 -> 0
... C21: 15 | D21: ='2부.Ⅰ.1.1)'!D21 -> 0 | W21: =G21+I21+K21+M21+O21+Q21-S21-U21 -> 0
Z23: ← 필요시 주석 기재
A26: * 입력도움말 1. 부동산이 15개를 초과할 경우 행추가(복사한 셀 삽입)하여 추가 작성(16번부터 이어서 작성하고 '부동산명'은 2부.Ⅰ.1.1) 시트와 동일하게 작성)하시기 바라며, 아직 소유한 부동산이 없을 경우 기재하지 마시기 바랍니다.

Sheet 2부.Ⅰ.1.3)
C2: 3) 소유 부동산별 임대현황
C4: 부동산명 | I4: 임대가능 면적 (㎡) | N4: 임대면적 (㎡) | R4: 임대율 (임대면적/임대가능면적, %) | W4: 임대차 계약수
C5: 1 | D5: ='2부.Ⅰ.1.1)'!D7 -> 0 | R5: =IFERROR(N5/I5,"")
C6: 2 | D6: ='2부.Ⅰ.1.1)'!D8 -> 0 | R6: =IFERROR(N6/I6,"")
C7: 3 | D7: ='2부.Ⅰ.1.1)'!D9 -> 0 | R7: =IFERROR(N7/I7,"")
C8: 4 | D8: ='2부.Ⅰ.1.1)'!D10 -> 0 | R8: =IFERROR(N8/I8,"")
C9: 5 | D9: ='2부.Ⅰ.1.1)'!D11 -> 0 | R9: =IFERROR(N9/I9,"")
C10: 6 | D10: ='2부.Ⅰ.1.1)'!D12 -> 0 | R10: =IFERROR(N10/I10,"")
C11: 7 | D11: ='2부.Ⅰ.1.1)'!D13 -> 0 | R11: =IFERROR(N11/I11,"")
C12: 8 | D12: ='2부.Ⅰ.1.1)'!D14 -> 0 | R12: =IFERROR(N12/I12,"")
C13: 9 | D13: ='2부.Ⅰ.1.1)'!D15 -> 0 | R13: =IFERROR(N13/I13,"")
C14: 10 | D14: ='2부.Ⅰ.1.1)'!D16 -> 0 | R14: =IFERROR(N14/I14,"")
C15: 11 | D15: ='2부.Ⅰ.1.1)'!D17 -> 0 | R15: =IFERROR(N15/I15,"")
C16: 12 | D16: ='2부.Ⅰ.1.1)'!D18 -> 0 | R16: =IFERROR(N16/I16,"")
... C19: 15 | D19: ='2부.Ⅰ.1.1)'!D21 -> 0 | R19: =IFERROR(N19/I19,"")
Z21: ← 필요시 주석 기재
A24: * 입력도움말 1. 부동산이 15개를 초과할 경우 행추가(복사한 셀 삽입)하여 추가 작성(16번부터 이어서 작성 하고 '부동산명'은 2부.Ⅰ.1.1) 시트와 동일하게 작성)하시기 바라며, 아직 소유한 부동산이 없을 경우 기재하지 마시기 바랍니다. 2. 임대내역이 없을 경우 '임대가능 면적, 임대면적, 임대차 계약수' 입력 칸에 0을 입력하시기 바랍니다.

Sheet 2부.Ⅰ.2
B2: 2. 분기말 현재 부동산 관련 유가증권 현황
Y4: (단위 : 백만원, %)
C5: 구분 | K5: 종 목 명 | Q5: 취득금액 | V5: 당해 분기말 현재 가액 | AB5: 자산구성비
C6: 부동산관련 유가증권
C7: 부동산관련 유가증권
C8: 부동산관련 유가증권
C9: 부동산관련 유가증권
C10: 부동산관련 유가증권
AG12: ← 필요시 주석 기재
A15: * 입력도움말 1. 필요시 행추가(복사한 셀 삽입)하여 추가 작성하시기 바랍니다. 2. 해당사항 없는 항목은 기재하지 마시기 바랍니다.

Sheet 2부.Ⅰ.3
B2: 3. 현금(금융기관 예치내역 포함) 현황
AD4: (단위 : %, 백만원)
E5: 예치 금융상품 | M5: 예치 금융회사 | V5: 이자율 | Z5: 전분기예치금 | AF5: 당분기예치금 | AL5: 비고
E6: 보통예금 | M6: 우리은행 | V6: 변동금리 | Z6: 0 | AF6: 0
E7: 보통예금 | M7: IBK중소기업은행 | V7: 변동금리 | Z7: 1755 | AF7: 2060
E12: ※ 2부.Ⅰ.3상의 현금현황에는 미수이자 금액이 포함되어 않은 예치금만 표시되어 있으며, 2부.Ⅰ 총자산의 구성현황의 현금 [금융기관 예치]금액에는 위의 예치금에 미수이자 금액이 포함되어 있음. | AP12: ← 필요시 주석 기재
A15: * 입력도움말 1. 필요시 행추가(복사한 셀 삽입)하여 추가 작성하시기 바랍니다. 2. 해당사항 없는 항목은 기재하지 마시기 바랍니다.

Sheet 2부.Ⅰ.4
B2: 4. 분기말 기타 자산 현황
Y4: (단위 : 백만원, %)
C5: 구분 | K5: 종 목 명 | Q5: 취득금액 | V5: 당해 분기말 현재 가액 | AB5: 비고
C6: 유가증권
C7: 유가증권
C8: 유가증권
C9: 유가증권
C10: 유가증권
C11: 파생상품자산
C12: 파생상품자산
C13: 파생상품자산
C14: 기타자산 | K14: 선급비용 | Q14: 2243 | V14: 2243
C15: 기타자산 | K15: 미수법인세환급액 | Q15: 1 | V15: 1
C16: 기타자산
AG18: ← 필요시 주석 기재
A21: * 입력도움말 1. 필요시 행추가(복사한 셀 삽입)하여 추가 작성하시기 바랍니다. 2. 해당사항 없는 항목은 기재하지 마시기 바랍니다.

Sheet 2부.Ⅱ
A2: Ⅱ. 총자산의 변경내역
B4: 1. 당분기동안의 부동산 매입·매각
AA5: (단위 : 백만원)
C6: 구분 | F6: 부동산명 | K6: 위치 | S6: 거래일자 | X6: 매매가액 | AB6: 거래비용 | AF6: 비고
E9: ※ 매각의 경우 비고란에 취득한 금액, 보유기간 등 간략히 기재
AL10: ← 필요시 주석 기재
B12: 2. 당분기동안의 부동산관련 유가증권 거래내역 | AL12: 해당사항 없음
E13: - 당분기동안에 거래된 부동산관련 유가증권의 거래내역, 거래에 따른 이익현황, 거래비용 등을 간략하게 기재
E15: =IF(AL12="해당사항 없음","거래내역 없음"," ") -> 거래내역 없음
B17: 3. 현금(금융기관 예치내역 포함) 변경내역
AD18: (단위 : %, 백만원)
E19: 예치 금융상품 | M19: 예치 금융회사 | V19: 이자율 | Z19: 전분기예치금 | AF19: 당분기예치금
E20: 보통예금 | M20: IBK중소기업은행 | V20: 변동금리 | Z20: 1755 | AF20: 2060
E26: ※ 2부.Ⅱ.3상의 현금변경내역에는 미수이자 금액이 포함되어 않은 예치금만 표시되어 있으며, 2부.Ⅰ 총자산의 구성현황의 현금 [금융기관 예치]금액에는 위의 예치금에 미수이자 금액이 포함되어 있음. | AL26: ← 필요시 주석 기재
B28: 4. 기타 자산 변경내역
E30: 선급비용 : 전분기 1,032,790,492원/ 당분기 2,242,976,143원 미수법인세환급액 : 전분기 613,120원/ 당분기 689,360원 미수금 : 전분기 92,120원/ 당분기 55,339원
A33: * 입력도움말 1. 필요시 행추가(복사한 셀 삽입)하여 추가 작성하시기 바랍니다. 2. 해당사항 없는 항목은 기재하지 마시기 바랍니다.

Sheet 3부.Ⅰ
A2: 제 3 부 자산 및 수익과 비용에 관한 사항
A4: Ⅰ. 총수입금액 및 수입구조
C6: 구 분 | O6: 금액(원) | W6: 비율(%) | AE6: 비 고
C7: 부동산 | H7: 임 대 료 | O7: =SUM('3부.Ⅱ.1.1)'!O9:W24) -> 0 | W7: =IFERROR(O7/$O$16,"") -> 0
H8: 분양수익 | O8: =SUM('3부.Ⅱ.1.2)'!AB5:AE9) -> 0 | W8: =IFERROR(O8/$O$16,"") -> 0
H9: 기타수익 | W9: =IFERROR(O9/$O$16,"") -> 0
C10: 부동산관련 유가증권 | H10: 평가이익 | O10: =SUM('3부.Ⅱ.2'!Q6:U10) -> 0 | W10: =IFERROR(O10/$O$16,"") -> 0
H11: 처분이익 | O11: =SUM('3부.Ⅱ.2'!K6:P10) -> 0 | W11: =IFERROR(O11/$O$16,"") -> 0
H12: 이자,배당금 등 | O12: =SUM('3부.Ⅱ.2'!V6:AA10) -> 0 | W12: =IFERROR(O12/$O$16,"") -> 0
C13: 현금 | H13: 현금관련수익 | O13: =SUM('3부.Ⅱ.3'!AF6:AK10) -> 495278 | W13: =IFERROR(O13/$O$16,"") -> 1
C14: 기타자산 | H14: 기타자산관련수익 | O14: =SUM('3부.Ⅱ.4'!O5:W9) -> 0 | W14: =IFERROR(O14/$O$16,"") -> 0
C15: 기타 | W15: =IFERROR(O15/$O$16,"") -> 0
C16: 총 수 익 | O16: =SUM(O7:V15) -> 495278 | W16: =SUM(W7:AD15) -> 1
E17: ※ 부동산관련 유가증권 평가이익란에는 당기손익에 반영되는 평가이익만 포함
E18: ※ 기타란에는 자산별로 구분되지 않는 수익을 기재
AL19: ← 필요시 주석 기재
A23: * 입력도움말 1. 부동산(임대료, 분양수익), 부동산관련 유가증권(평가이익, 처분이익, 이자, 배당금 등) 등의 금액은 뒤 시트와 연결되어 있으므로 수정 불가합니다. 2. 부동산(기타수익), 기타 및 각 항목의 비고, 주석 사항만 직접 기재 바랍니다.

Sheet 3부.Ⅱ.1.1)
A2: Ⅱ. 부문별 상세내역
B4: 1. 부동산(지상권·임차권 등 부동산사용에 관한 권리도 포함)
C6: 1) 부동산 임대료 수익
C8: 부동산명 | O8: 임대료(원) | X8: 비율(%) | AC8: 비 고
C9: 1 | D9: ='2부.Ⅰ.1.1)'!D7 -> 0 | X9: =IFERROR(O9/SUM(O9:W24),"")
C10: 2 | D10: ='2부.Ⅰ.1.1)'!D8 -> 0 | X10: =IFERROR(O10/SUM(O9:W24),"")
C11: 3 | D11: ='2부.Ⅰ.1.1)'!D9 -> 0 | X11: =IFERROR(O11/SUM(O9:W24),"")
C12: 4 | D12: ='2부.Ⅰ.1.1)'!D10 -> 0 | X12: =IFERROR(O12/SUM(O9:W24),"")
C13: 5 | D13: ='2부.Ⅰ.1.1)'!D11 -> 0 | X13: =IFERROR(O13/SUM(O9:W24),"")
C14: 6 | D14: ='2부.Ⅰ.1.1)'!D12 -> 0 | X14: =IFERROR(O14/SUM(O9:W24),"")
C15: 7 | D15: ='2부.Ⅰ.1.1)'!D13 -> 0 | X15: =IFERROR(O15/SUM(O9:W24),"")
C16: 8 | D16: ='2부.Ⅰ.1.1)'!D14 -> 0 | X16: =IFERROR(O16/SUM(O9:W24),"")
C17: 9 | D17: ='2부.Ⅰ.1.1)'!D15 -> 0 | X17: =IFERROR(O17/SUM(O9:W24),"")
C18: 10 | D18: ='2부.Ⅰ.1.1)'!D16 -> 0 | X18: =IFERROR(O18/SUM(O9:W24),"")
C19: 11 | D19: ='2부.Ⅰ.1.1)'!D17 -> 0 | X19: =IFERROR(O19/SUM(O9:W24),"")
C20: 12 | D20: ='2부.Ⅰ.1.1)'!D18 -> 0 | X20: =IFERROR(O20/SUM(O9:W24),"")
C21: 13 | D21: ='2부.Ⅰ.1.1)'!D19 -> 0 | X21: =IFERROR(O21/SUM(O9:W24),"")
C22: 14 | D22: ='2부.Ⅰ.1.1)'!D20 -> 0 | X22: =IFERROR(O22/SUM(O9:W24),"")
C23: 15 | D23: ='2부.Ⅰ.1.1)'!D20 -> 0 | X23: =IFERROR(O23/SUM(O8:W23),"")
C24: 15 | D24: ='2부.Ⅰ.1.1)'!D21 -> 0 | X24: =IFERROR(O24/SUM(O9:W24),"")
AJ26: ← 필요시 주석 기재
A29: * 입력도움말 1. 부동산이 15개를 초과할 경우 행추가(복사한 셀 삽입)하여 추가 작성(16번부터 이어서 작성 하고 '부동산명'은 2부.Ⅰ.1.1) 시트와 동일하게 작성)하시기 바라며, 아직 소유한 부동산이 없을 경우 기재하지 마시기 바랍니다.

Sheet 3부.Ⅱ.1.2)
C2: 2) 부동산 처분수익
AD3: (단위 : 원)
C4: 부동산명 | I4: 취득 가액 | M4: 평가 손익 | P4: 상각 누계액 | T4: 장부 가액 | X4: 매매 가액 | AB4: 처분 손익 | AF4: 비율 (%) | AI4: 비고
C5: 1 | AF5: =IFERROR(AB5/SUM(AB5:AE9),"")
C6: 2 | AF6: =IFERROR(AB6/SUM(AB5:AE9),"")
C7: 3 | AF7: =IFERROR(AB7/SUM(AB5:AE9),"")
C8: 4 | AF8: =IFERROR(AB8/SUM(AB5:AE9),"")
C9: 5 | AF9: =IFERROR(AB9/SUM(AB5:AE9),"")
E10: ※ 부동산개발사업을 통한 분양수익은 비고란에 구분 기재
AL11: ← 필요시 주석 기재
A15: * 입력도움말 1. 필요시 행추가(복사한 셀 삽입)하여 추가 작성하시기 바랍니다. 2. 해당사항 없는 항목은 기재하지 마시기 바랍니다.

Sheet 3부.Ⅱ.2
B2: 2. 부동산 관련 유가증권 처분손익, 평가손익, 이자 및 배당금
AF4: (단위 : 원)
C5: 구 분 | K5: 매매손익 | Q5: 평가손익 | V5: 이자 및 배당금 | AB5: 비율 (%) | AG5: 비 고
C6: 1 | AB6: =IFERROR(SUM(K6:AA6)/SUM(K6:AA10),"")
C7: 2 | AB7: =IFERROR(SUM(K7:AA7)/SUM(K6:AA10),"")
C8: 3 | AB8: =IFERROR(SUM(K8:AA8)/SUM(K6:AA10),"")
C9: 4 | AB9: =IFERROR(SUM(K9:AA9)/SUM(K6:AA10),"")
C10: 5 | AB10: =IFERROR(SUM(K10:AA10)/SUM(K6:AA10),"")
AL12: ← 필요시 주석 기재
A15: * 입력도움말 1. 필요시 행추가(복사한 셀 삽입)하여 추가 작성하시기 바랍니다. 2. 해당사항 없는 항목은 기재하지 마시기 바랍니다.

Sheet 3부.Ⅱ.3
B2: 3. 현금(금융기관 예치내역 포함)
AD4: (단위 : %, 원)
E5: 예치 금융상품 | M5: 예치 금융회사 | V5: 이자율 | Z5: 전분기예치금 발생 수익 | AF5: 당분기예치금 발생 수익 | AL5: 비고
E6: 보통예금 | M6: 우리은행 | V6: 변동금리 | Z6: 286150 | AF6: 170138
E7: 보통예금 | M7: IBK | V7: 변동금리 | AF7: 325140
AP12: ← 필요시 주석 기재
A15: * 입력도움말 1. 필요시 행추가(복사한 셀 삽입)하여 추가 작성하시기 바랍니다. 2. 해당사항 없는 항목은 기재하지 마시기 바랍니다.

Sheet 3부.Ⅱ.4
B2: 4. 기타 자산 수익
C4: 구 분 | O4: 금 액(원) | X4: 비율(%) | AC4: 비 고
C5: 1 | X5: =IFERROR(O5/SUM(O5:W9),"")
C6: 2 | X6: =IFERROR(O6/SUM(O5:W9),"")
C7: 3 | X7: =IFERROR(O7/SUM(O5:W9),"")
C8: 4 | X8: =IFERROR(O8/SUM(O5:W9),"")
C9: 5 | X9: =IFERROR(O9/SUM(O5:W9),"")
AJ11: ← 필요시 주석 기재
A14: * 입력도움말 1. 필요시 행추가(복사한 셀 삽입)하여 추가 작성하시기 바랍니다. 2. 해당사항 없는 항목은 기재하지 마시기 바랍니다.

Sheet 3부.Ⅲ
A2: Ⅲ. 총 비용 및 지출구조
C4: 구 분 | O4: 금액(원) | W4: 비율(%) | AE4: 비 고
C5: 부동산 | H5: 분양원가 | W5: =IFERROR(O5/$O$14,"") -> 0
H6: 감가상각비 | W6: =IFERROR(O6/$O$14,"") -> 0
H7: 기타비용 | O7: =SUM('3부.Ⅳ.1'!L8:L36) -> 65000000 | W7: =IFERROR(O7/$O$14,"") -> 0.65990484
C8: 부동산관련 유가증권 | H8: 평가손실 | W8: =IFERROR(O8/$O$14,"") -> 0
H9: 처분손실 | W9: =IFERROR(O9/$O$14,"") -> 0
H10: 기타비용 | W10: =IFERROR(O10/$O$14,"") -> 0
C11: 현금 | H11: 현금관련비용 | W11: =IFERROR(O11/$O$14,"") -> 0
C12: 기타자산 | H12: 기타자산관련비용 | W12: =IFERROR(O12/$O$14,"") -> 0
C13: 기타 | O13: =SUM('3부.Ⅳ.1'!Q8:Q36,'5부.Ⅱ'!O70:T70) -> 33499051 | W13: =IFERROR(O13/$O$14,"") -> 0.34009516
C14: 총 비 용 | O14: =SUM(O5:V13) -> 98499051 | W14: =SUM(W5:AD13) -> 1 | AM14: =O14=SUM('5부.Ⅱ'!O60:T60,'5부.Ⅱ'!O18:T18) -> TRUE | AN14: 영업비용+영업외비용
E15: ※ 부동산관련 유가증권 평가손실란에는 당기손익에 반영되는 평가손실만 포함
E16: ※ 기타란에는 자산별로 구분되지 않는 비용을 기재
E17: 주1) 부동산 취득하기 전이나 자산관리수수료와 자산보관수수료는 부동산에만 기재되도록 분류가 되어있어서 부동산 기타비용으로 분류함 | AL17: ← 필요시 주석 기재

Sheet 3부.Ⅳ.1
A2: Ⅳ. 상세내역
B4: 1. 부동산 영업경비
Q6: (단위 : 원)
C7: 구 분 | K7: 합계 | L7: 평택 고평지구 도시개발사업 | O7: 현금 | P7: 기타자산 | Q7: 기타
C8: 분양원가 | K8: =SUM(L8:Q8) -> 0
C9: 급여 | K9: =SUM(L9:Q9) -> 4300000 | Q9: =SUM('5부.Ⅱ'!O20:T20) -> 4300000 | S9: **임원 급여는 취득부동산 없으므로 기타 분류 후 매입완료 후 부동산으로 분류할 것!!
C10: 상여 | K10: =SUM(L10:Q10) -> 0
C11: 퇴직급여 | K11: =SUM(L11:Q11) -> 0
C12: 복리후생비 | K12: =SUM(L12:Q12) -> 0
C13: 자산관리수수료 (AMC수수료) | K13: =SUM(L13:Q13) -> 57500000 | L13: =SUM('5부.Ⅱ'!O24:T24) -> 57500000
C14: 부동산관리수수료 (PM, FM 등) | K14: =SUM(L14:Q14) -> 0
C15: 자산보관수수료 | K15: =SUM(L15:Q15) -> 7500000 | L15: =SUM('5부.Ⅱ'!O26:T26) -> 7500000
C16: 일반사무 위탁수수료 | K16: =SUM(L16:Q16) -> 10000000 | Q16: =SUM('5부.Ⅱ'!O27:T27) -> 10000000
C17: 기타지급수수료 | K17: =SUM(L17:Q17) -> 9000000 | Q17: =SUM('5부.Ⅱ'!O28:T28) -> 9000000
C18: 유형자산 감가상각비 | K18: =SUM(L18:Q18) -> 0
C19: 투자부동산 감가상각비 | K19: =SUM(L19:Q19) -> 0
C20: 무형자산 감가상각비 | K20: =SUM(L20:Q20) -> 0
C21: 세금과공과 | K21: =SUM(L21:Q21) -> 9593201 | Q21: =SUM('5부.Ⅱ'!O32:T32) -> 9593201
C22: 광고선전비 | K22: =SUM(L22:Q22) -> 0
C23: 보험료 | K23: =SUM(L23:Q23) -> 0
C24: 임차료 | K24: =SUM(L24:Q24) -> 0
C25: 교육훈련비 | K25: =SUM(L25:Q25) -> 0
C26: 여비교통비 | K26: =SUM(L26:Q26) -> 0
C27: 통신비 | K27: =SUM(L27:Q27) -> 0
C28: 수선유지비 | K28: =SUM(L28:Q28) -> 0
C29: 청소비 | K29: =SUM(L29:Q29) -> 0
C30: 수도광열비 | K30: =SUM(L30:Q30) -> 0
C31: 대손상각비 | K31: =SUM(L31:Q31) -> 0
C32: 접대비 | K32: =SUM(L32:Q32) -> 0
C33: 판매촉진비 | K33: =SUM(L33:Q33) -> 0
... C35: 금융리스이자비용 | K35: =SUM(L35:Q35) -> 0
C36: 기타영업비용 | K36: =SUM(L36:Q36) -> 605850 | Q36: 605850
R38: ← 필요시 주석 기재
A41: * 입력도움말 1. 필요시 열추가(복사한 셀 삽입)하여 추가 작성하시기 바랍니다. 2. 해당사항 없는 항목은 기재하지 마시기 바랍니다. 3. 부동산과 부동산관련 유가증권은 각각 기재하시되, 현금과 기타자산은 하나의 항목으로 기재바랍니다.

Sheet 3부.Ⅳ.2
B2: 2. 업무위탁비용
C4: 구 분 | I4: 종 류 | L4: 위탁기관 | N4: 대상물건, 위탁비율, 계산방법, 지급시기 및 지급방법 | AF4: 위탁비용 (원)
C5: 자산관리회사 | I5: 기본보수(매입) | L5: 대한토지신탁㈜
I6: 성과보수(매입)
I7: 기본보수(운용) | N7: -'갑'이 본건 부동산의 소유권을 취득한 날과 본건 부동산의 입주지정기간 개시일 중 먼저 도래하는 날의 다음날부터, '갑'의 청산종결 등기일까지의 기간 - 연간 253,000,000원(부가세 포함) 지급 - 매 분기마다 위 금액의 4분의 1에 해당하는 금액을 해당 분기 종료 후 7영업일 이내 지급 - 단, 당해 분기의 '을'의 업무 수행기간이 3개월 미달하는 경우, 당해 분기의 보수는 90일을 기준으로 실제 업무 수행기간을 일할 계산한 금액으로 하며, '갑'이 '을'에게 지급할 자산운용수수료는 합계 2,781,000,000원을 초과할 수 없음 | AF7: =SUM('5부.Ⅱ'!O24:T24) -> 57500000
I8: 성과보수(운용)
I9: 기본보수(매각)
I10: 성과보수(매각) | N10: - 매각차익의 3% - 매각차익이라 함은 매각대금(부가세 제외, 자산관리위탁 계약서 제11조제1항제1호에 의한 부동산의 처분을 위한 각종 용역수수료 및 부대비용은 차감한다)에서 부동산 매입금액(부가가치세 제외)을 차감한 금액을 의미한다. - 매각성과수수료는 매각이 속한 결산기에 감사인이 결산 보고서를 작성하여 주주총회의 승인을 득한 날로부터 7영업일 이내 지급
C11: 사무수탁회사 | I11: 위탁보수 | L11: 우리펀드서비스(주) | N11: 1) 개발기간 - 1차 유상증자 주금이 납입된 날부터 건물보존등기일까지 - 연간 40,000,000원(부가세 별도) - 연간 보수를 4등분하여 분기별로 지급하며 청구 받은 7영업일 이내 지급해야 함 2) 운용기간 - 건물보존등기일의 익일부터 계약종료일까지 - 연간 80,000,000원(부가세 별도) - 연간 보수를 4등분하여 분기별로 지급하며 청구 받은 7영업일 이내 지급해야 함 | AF11: =SUM('5부.Ⅱ'!O27:T27) -> 10000000
C12: 자산보관회사 | I12: 위탁보수 | L12: 엔에이치투자증권(주) | N12: 1) 보수 발생 시기 - 최초 유상증자로 인한 주금납입 완료 시점부터 발생 - 해당 시점부터 위탁자 청산등기일까지 연간 30,000,000 원 (부가세 별도) 지급 2) 보수 지급 시기 - 매분기마다 금 7,500,000원(부가세 별도)을 해당 분기 종료 후 7영업일 이내 지급 - 단, 당해 분기의 수탁자의 업무 수행기간이 3개월에 미달하는 경우 당해 분기의 보수는 90일을 기준으로 실제 업무 수행기간을 일할 계산한 금액으로 산정 | AF12: =SUM('5부.Ⅱ'!O26:T26) -> 7500000
C13: 시설관리회사 | I13: 위탁보수
C14: 임대관리회사 | I14: 위탁보수
C15: 재산관리회사 | I15: 위탁보수
C16: 합 계 | AF16: =SUM(AF5:AK15) -> 75000000
E17: ※ 위탁보수 : 자산관리회사, 자산보관회사 등 위탁기관 및 대상물건, 위탁비율, 계산방법, 지급시기 및 지급방법을 위탁기관 별로 구체적으로 기재하며, 해당 기간의 발생주의에 따른 금액을 위탁비용으로 기재
AL18: ← 필요시 주석 기재
A22: * 입력도움말 1. 표 안의 행은 입력사항에 맞춰 높이를 조절하시면 됩니다. 2. 부동산별로 위탁수수료 계산방법이 다를 경우에는 대상물건 등의 해당 셀 안의 내용입력시 부동산별로 입력하시면 됩니다.

Sheet 3부.Ⅴ
A2: Ⅴ. 자기자본수익률
AF4: (단위 : %)
C5: 구 분 | N5: 제 | O5: =표지!E8 -> 3 | P5: =표지!F8 -> 기 | Q5: =표지!G8 -> 1 | R5: 분 | S5: 기 | T5: 제 | U5: 2 | V5: 기 | W5: 4 | X5: 분 | Y5: 기 | Z5: 제 | AA5: 2 | AB5: 기 | AC5: 3 | AD5: 분 | AE5: 기 | AF5: 제 | AG5: 2 | AH5: 기 | AI5: 2 | AJ5: 분 | AK5: 기
C6: 당해회사수익률 | N6: =IFERROR((((1+(N12/((N14+N15)/2)))^(12/N13))-1)*100,"") -> -0.17873297 | T6: =IFERROR((((1+(T12/((T14+T15)/2)))^(12/T13))-1)*100,"") -> -0.88497411 | Z6: =IFERROR((((1+(Z12/((Z14+Z15)/2)))^(12/Z13))-1)*100,"") -> -60.404332 | AF6: =IFERROR((((1+(AF12/((AF14+AF15)/2)))^(12/AF13))-1)*100,"") -> -33.525561
E7: ※ 수익률은 회계적 자기자본이익률(Return on Equity)로서 연단위로 환산하며 다음과 같이 계산함 1사분기수익률={1+(당분기순이익/[(연기초납입자본금+분기말납입자본금)/2])}^4 -1 2사분기수익률={1+(당반기순이익/[(연기초납입자본금+분기말납입자본금)/2])}^2 -1 3사분기수익률={1+(1분기부터 3분기까지의 순이익/[(연기초납입자본금+분기말납입자본금)/2])}^4/3 -1 4사분기수익률=(당기순이익/[(연기초납입자본금+분기말납입자본금)/2]) ※ 납입자본금 = 자본금 + 자본잉여금 ※ 상기산식은 1기 사업연도가 12개월일 경우를 가정한 것으로, 1기의 사업연도가 6개월일 경우 상기 산식을 준용하여 최근 1년간 분기별 연환산 자기자본수익율을 제시할 것 ※ 수익률은 소수점 둘째 자리까지 기재할 것
AL8: ← 필요시 주석 기재
C10: * 산출근거자료
C11: 구 분 | N11: 제 | O11: =O5 -> 3 | P11: =P5 -> 기 | Q11: =Q5 -> 1 | R11: 분 | S11: 기 | T11: 제 | U11: =U5 -> 2 | V11: =V5 -> 기 | W11: =W5 -> 4 | X11: 분 | Y11: 기 | Z11: 제 | AA11: =AA5 -> 2 | AB11: =AB5 -> 기 | AC11: =AC5 -> 3 | AD11: 분 | AE11: 기 | AF11: 제 | AG11: =AG5 -> 2 | AH11: =AH5 -> 기 | AI11: =AI5 -> 2 | AJ11: 분 | AK11: 기
C12: 분기누적순이익 | N12: ='5부.Ⅱ'!U73 -> -98003773 | T12: -243954218 | Z12: -150253387 | AF12: -55404426
C13: 분기누적개월수 | N13: 12 | T13: 12 | Z13: 9 | AF13: 6
C14: 연기초납입자본금 | N14: ='5부.Ⅰ'!AG112+'5부.Ⅰ'!AG115 -> 54832509680 | T14: =Z15 -> 300000000 | Z14: 300000000 | AF14: 300000000
C15: 분기말납입자본금 | N15: ='5부.Ⅰ'!U112+'5부.Ⅰ'!U115 -> 54832509680 | T15: 54832509680 | Z15: 300000000 | AF15: 300000000
A17: * 입력도움말 1. 기수는 표 왼쪽부터 최근 기수를 입력하여 주시기 바랍니다.

Sheet 4부.Ⅰ.1
A2: 제 4 부 부동산개발사업에 대한 투자 현황
A4: Ⅰ. 부동산개발사업의 현황
B6: 1. 개요
AD8: (단위 : 백만원)
C9: 개발사업명 | H9: 소재지 | M9: 개발규모(㎡) | Q9: 준공 예정일 | U9: 공정률 | X9: 총사업비 | AB9: 총 투자금액 | AF9: 기 투자금액 | AJ9: 비고 | AL9: 투자대상
E15: ※ 1. 총사업비는 당해 개발사업의 총사업비를 말함 2. 총투자금액은 당해 부동산투자회사가 투자하여야 하는 총금액을 말함 3. 기투자금액이란 당해 부동산투자회사가 이미 투자한 총금액을 말함
AL16: ← 필요시 주석 기재
A19: * 입력도움말 1. 필요시 행추가(복사한 셀 삽입)하여 추가 작성하시기 바랍니다. 2. 해당사항 없는 항목은 기재하지 마시기 바랍니다. 3. 개발규모, 공정률, 총사업비, 총투자금액, 기투자금액은 숫자로만 입력하시고, 자세한 사항은 비고 혹은 4부.Ⅰ.2 시트를 이용 하시기 바랍니다. 4. 준공예정일은 YYYY-MM-DD 형식으로 입력 바랍니다. 5. AL열 투자대상을 선택하여 주시기 바랍니다.

Sheet 4부.Ⅰ.2
B2: 2. 당분기에 추진중인 부동산개발사업 현황
B4: 1) 부동산개발사업명(1)
AL5: - 사업계획서가 작성되어 이사회 결의를 거친 프로젝트 및 건설중인 프로젝트를 의미하며, 이 경우 기 작성된 사업계획서를 바탕으로 하여 다음의 순으로 내용을 개략 나타냄 · 사업의 개요 · 자금의 조달, 투자 및 회수에 관한 사항 · 추정손익에 관한 사항 · 사업의 위험에 관한 사항 · 공사시공 등 외용역에 관한 사항 · 그 밖에 투자자를 보호하기 위하여 필요한 사항
B11: 2) 부동산개발사업명(2)
B18: 3) 장래 예정인 부동산개발사업 현황
AL19: - 사업계획서 작성 이전 단계에 있으나, 개발 추진가능성이 상당하고 정보의 공개가 당사의 이익에 해가 되지 않는다면, 대상 프로젝트에 대한 개략적 정보를 나타냄
A26: * 입력도움말 1. 필요시 행추가(복사한 셀 삽입)하여 추가 작성하시기 바랍니다. 2. 해당사항 없는 항목은 기재하지 마시기 바랍니다.

Sheet 5부.Ⅰ
B2: 제 5 부 재무제표에 관한 사항
B4: Ⅰ. 재무상태표
M6: 당기 | P6: 제 | Q6: =표지!E8 -> 3 | R6: 기 | S6: =표지!G8 -> 1 | T6: 분기 | W6: 기준일 | AA6: =표지!G6 -> 2020.03.31 | AE6: 현재
M7: 전기 | P7: 제 | Q7: =Q6-1 -> 2 | R7: 기 | T7: 기말 | W7: 기준일 | AA7: 2019.12.31 | AE7: 현재
D8: 회사명: | G8: =표지!E28 -> ㈜대한제22호평택고평위탁관리부동산투자회사 | AI8: (단위: 원)
D9: 과 목 | R9: 제 | S9: =Q6 -> 3 | T9: (당)기 | V9: =S6 -> 1 | W9: =T6 -> 분기 | AD9: 제 | AE9: =Q7 -> 2 | AF9: (전)기 | AI9: =T7 -> 기말
O10: 금 액 | AA10: 금 액
D11: I. 자 산
A12: A000000 | D12: 1. 유동자산 | U12: =+O13+O14+O15+O16+O17+O18+O19+O20+O21+O22+O23+O24+O25+O26+O32+O33+O34+O35 -> 4304029480 | AG12: =+AA13+AA14+AA15+AA16+AA17+AA18+AA19+AA20+AA21+AA22+AA23+AA24+AA25+AA26+AA32+AA33+AA34+AA35 -> 2788251502
A13: A011000 | D13: 1) 현금및현금성자산 | O13: 2060308638 | AA13: 1754755770
A14: A012000 | D14: 2) 단기금융상품
A15: A013000 | D15: 3) 매출채권
A16: A014000 | D16: 4) 미청구공사
A17: A015000 | D17: 5) 미수수익
A18: A016000 | D18: 6) 분양미수금
A19: A017000 | D19: 7) 기타미수금 | O19: 55339 | AA19: 92120
A20: A018000 | D20: 8) 선급금
A21: A019000 | D21: 9) 선급비용 | O21: 2242976143 | AA21: 1032790492
A22: A020000 | D22: 10) 부가세대급금
A23: A021000 | D23: 11) 선급법인세 | O23: 689360 | AA23: 613120
A24: A022000 | D24: 12) 단기대여금
A25: A023000 | D25: 13) 유가증권
A26: A024000 | D26: 14) 재고자산 | O26: =+O27+O28+O29+O30+O31 -> 0 | AA26: =+AA27+AA28+AA29+AA30+AA31 -> 0
A27: A024110 | D27: 용지
A28: A024120 | D28: 미성공사
A29: A024130 | D29: 완성주택
A30: A024140 | D30: 미완성주택
A31: A024990 | D31: 기타
A32: A025000 | D32: 15) 유동파생상품자산
A33: A026000 | D33: 16) 유동보증금
A34: A027000 | D34: 17) 매각예정 비유동자산
A35: A099000 | D35: 18) 기타유동자산
A36: B000000 | D36: 2. 비유동자산 | U36: =+O37+O38+O39+O40+O46+O60+O71+O75+O76+O77+O78 -> 130785194291 | AG36: =+AA37+AA38+AA39+AA40+AA46+AA60+AA71+AA75+AA76+AA77+AA78 -> 88018237392
A37: B011000 | D37: 1) 장기금융상품
A38: B012000 | D38: 2) 장기매출채권
A39: B013000 | D39: 3) 장기대여금
A40: B014000 | D40: 4) 유가증권 | O40: =+O41+O42+O43+O44+O45 -> 0 | AA40: =+AA41+AA42+AA43+AA44+AA45 -> 0
A41: B014110 | D41: 매도가능금융자산
A42: B014120 | D42: 만기보유금융자산
A43: B014130 | D43: 관계기업투자
...

Sheet 5부.Ⅱ
B2: Ⅱ. 손익계산서
J4: 당기 | L4: 제 | M4: ='5부.Ⅰ'!Q6 -> 3 | N4: 기 | O4: ='5부.Ⅰ'!S6 -> 1 | P4: 분기 | S4: 시작일 | V4: 2020.01.01 | Z4: 종료일 | AC4: =표지!G6 -> 2020.03.31
J5: 전기 | L5: 제 | M5: ='5부.Ⅰ'!Q7 -> 2 | N5: 기 | O5: =IF(OR(M4=1),"-",O4) -> 1 | P5: 분기 | S5: 시작일 | V5: 2019.01.01 | Z5: 종료일 | AC5: 2019.03.31
D6: 회사명: | G6: =표지!E28 -> ㈜대한제22호평택고평위탁관리부동산투자회사 | AI6: (단위: 원)
D7: 과 목 | S7: 제 | T7: =M4 -> 3 | U7: (당)기 | AE7: 제 | AF7: =M5 -> 2 | AG7: (전)기
A8: 코 드 | O8: 금 액 | AA8: 금 액
O9: 최근3개월 | U9: 당기누적 | AA9: 최근3개월 | AG9: 전기누적
A10: N000000 | D10: Ⅰ. 영업수익 | O10: =+O11+O12+O13+O14+O15+O16+O17 -> 0 | U10: =+U11+U12+U13+U14+U15+U16+U17 -> 0 | AA10: =+AA11+AA12+AA13+AA14+AA15+AA16+AA17 -> 0 | AG10: =+AG11+AG12+AG13+AG14+AG15+AG16+AG17 -> 0
A11: N011000 | D11: 1) 분양수익
A12: N012000 | D12: 2) 임대료수익
A13: N013000 | D13: 3) 관리비수익
A14: N014000 | D14: 4) 부동산평가수익
A15: N015000 | D15: 5) 배당금수익
A16: N016000 | D16: 6) 금융리스이자수익
A17: N099000 | D17: 7) 기타영업수익
A18: O000000 | D18: Ⅱ. 영업비용 | O18: =+O19+O20+O21+O22+O23+O24+O25+O26+O27+O28+O29+O30+O31+O32+O33+O34+O35+O36+O37+O38+O39+O40+O41+O42+O43+O44+O45+O46+O47 -> 98499051 | U18: =+U19+U20+U21+U22+U23+U24+U25+U26+U27+U28+U29+U30+U31+U32+U33+U34+U35+U36+U37+U38+U39+U40+U41+U42+U43+U44+U45+U46+U47 -> 98499051 | AA18: =+AA19+AA20+AA21+AA22+AA23+AA24+AA25+AA26+AA27+AA28+AA29+AA30+AA31+AA32+AA33+AA34+AA35+AA36+AA37+AA38+AA39+AA40+AA41+AA42+AA43+AA44+AA45+AA46+AA47 -> 4400 | AG18: =+AG19+AG20+AG21+AG22+AG23+AG24+AG25+AG26+AG27+AG28+AG29+AG30+AG31+AG32+AG33+AG34+AG35+AG36+AG37+AG38+AG39+AG40+AG41+AG42+AG43+AG44+AG45+AG46+AG47 -> 4400
A19: O011000 | D19: 1) 분양원가
A20: O012000 | D20: 2) 급여 | O20: 4300000 | U20: 4300000
A21: O013000 | D21: 3) 상여
A22: O014000 | D22: 4) 퇴직급여
A23: O015000 | D23: 5) 복리후생비
A24: O016000 | D24: 6) 자산관리수수료(AMC수수료) | O24: 57500000 | U24: 57500000
A25: O017000 | D25: 7) 부동산관리수수료(PM, FM 등)
A26: O018000 | D26: 8) 자산보관수수료 | O26: 7500000 | U26: 7500000
A27: O019000 | D27: 9) 일반사무위탁수수료 | O27: 10000000 | U27: 10000000
A28: O020000 | D28: 10) 기타지급수수료 | O28: 9000000 | U28: 9000000 | AA28: 4000 | AG28: 4000
A29: O021000 | D29: 11) 유형자산감가상각비
A30: O022000 | D30: 12) 투자부동산감가상각비
A31: O023000 | D31: 13) 무형자산감가상각비
A32: O024000 | D32: 14) 세금과공과 | O32: 9593201 | U32: 9593201 | AA32: 400 | AG32: 400
A33: O025000 | D33: 15) 광고선전비
A34: O026000 | D34: 16) 보험료
A35: O027000 | D35: 17) 임차료
A36: O028000 | D36: 18) 교육훈련비
A37: O029000 | D37: 19) 여비교통비
A38: O030000 | D38: 20) 통신비
A39: O031000 | D39: 21) 수선유지비
A40: O032000 | D40: 22) 청소비
A41: O033000 | D41: 23) 수도광열비
A42: O034000 | D42: 24) 대손상각비
...

Sheet 5부.Ⅲ
B2: Ⅲ. 이익잉여금처분계산서
G3: 이익잉여금처분계산서는 결산기 작성대상으로 분기에는 작성하지 않습니다.
J4: 당기 | L4: 제 | M4: ='5부.Ⅰ'!Q6 -> 3 | N4: 기 | O4: ='5부.Ⅰ'!S6 -> 1 | P4: 분기 | S4: 시작일 | V4: ='5부.Ⅱ'!V4 -> 2020.01.01 | Z4: 종료일 | AC4: ='5부.Ⅱ'!AC4 -> 2020.03.31
J5: 전기 | L5: 제 | M5: ='5부.Ⅰ'!Q7 -> 2 | N5: 기 | P5: 기말 | S5: 시작일 | V5: ='5부.Ⅱ'!V5 -> 2019.01.01 | Z5: 종료일 | AC5: ='5부.Ⅱ'!AC5 -> 2019.03.31
D6: 회사명: | G6: =표지!E28 -> ㈜대한제22호평택고평위탁관리부동산투자회사 | AI6: (단위: 원)
D7: 과 목 | S7: 제 | T7: =M4 -> 3 | U7: (당)기 | AE7: 제 | AF7: =M5 -> 2 | AG7: (전)기
O8: 처분예정일 | U8: 0000.00.00 | AA8: 처분확정일 | AG8: 0000.00.00
A9: 코 드 | O9: 금 액 | AA9: 금 액
A10: P000000 | D10: Ⅰ. 미처분이익잉여금(미처리결손금) | U10: =SUM(O11:T14) -> 0 | AG10: =SUM(AA11:AF14) -> 0
A11: P000001 | D11: 1. 전기이월미처분이익잉여금(미처리결손금)
A12: P000002 | D12: 2. 당기순이익(손실)
A13: P000003 | D13: 3. 확정급여채무의 재측정요소
A14: P000004 | D14: 4. 기타
A15: P000005 | D15: Ⅱ. 임의적립금등의 이입액
A16: P000006 | D16: Ⅲ. 이익잉여금처분액 | U16: =-(O17+O18+O19+O20+O25) -> 0 | AG16: =-(AA17+AA18+AA19+AA20+AA25) -> 0
A17: P000007 | D17: 1. 법정준비금
A18: P000008 | D18: 2. 임의준비금
A19: P000009 | D19: 3. 주식할인발행차금상각액
A20: P000010 | D20: 4. 배당금 | O20: =SUM(O21:T24) -> 0 | AA20: =SUM(AA21:AF24) -> 0
A21: P000011 | D21: 보통주현금배당금
A22: P000012 | D22: 종류주현금배당금
A23: P000013 | D23: 보통주주식배당금
A24: P000014 | D24: 종류주주식배당금
A25: P000015 | D25: 5. 기타
A26: P000016 | D26: Ⅳ. 결손금처리액
A27: P000017 | D27: Ⅴ. 차기이월미처분이익잉여금(미처리결손금) | U27: =U10+U15+U16+U26 -> 0 | AG27: =AG10+AG15+AG16+AG26 -> 0
AM29: ← 필요시 주석 기재
B32: * 입력도움말 1. 계정과목은 수정하지 마시기 바랍니다.(일치하는 계정과목이 없는경우 해당 대분류 아래 '기타'에 입력) 2. 해당하는 계정과목에만 금액을 입력하시고, 그외는 기재하지 마시기 바랍니다. 3 이익잉여금처분계산서는 결산기에만 입력하시기 바랍니다. 4. 미처리결손금, 당기순손실, 결손금처리액과 같이 음수인 계정과목은 숫자 앞에 '-'를 붙여 음수로 입력하시기 바랍니다. 5. 표 왼쪽에 적혀있는 코드는 수정 및 삭제하지 마시기 바랍니다.

Sheet 5부.Ⅳ
B2: Ⅳ. 현금흐름표
G3: 현금흐름표는 결산기 작성대상으로 분기에는 작성하지 않습니다.
J4: 당기 | L4: 제 | M4: ='5부.Ⅰ'!Q6 -> 3 | N4: 기 | O4: ='5부.Ⅰ'!S6 -> 1 | P4: 분기 | S4: 시작일 | V4: ='5부.Ⅱ'!V4 -> 2020.01.01 | Z4: 종료일 | AC4: ='5부.Ⅱ'!AC4 -> 2020.03.31
J5: 전기 | L5: 제 | M5: ='5부.Ⅰ'!Q7 -> 2 | N5: 기 | P5: 기말 | S5: 시작일 | V5: ='5부.Ⅱ'!V5 -> 2019.01.01 | Z5: 종료일 | AC5: ='5부.Ⅱ'!AC5 -> 2019.03.31
D6: 회사명: | G6: =표지!E28 -> ㈜대한제22호평택고평위탁관리부동산투자회사 | AI6: (단위: 원)
D7: 과 목 | S7: 제 | T7: =M4 -> 3 | U7: (당)기 | AE7: 제 | AF7: =M5 -> 2 | AG7: (전)기
A8: 코 드 | O8: 금 액 | AA8: 금 액
A9: Q000000 | D9: Ⅰ. 영업활동으로 인한 현금흐름 | U9: =U10+U11+U24+U47+U48+U49+U50 -> 0 | AG9: =AG10+AG11+AG24+AG47+AG48+AG49+AG50 -> 0
A10: Q000001 | D10: 1. 당기순이익(손실)
A11: R000000 | D11: 2. 당기순이익 조정을 위한 가감 | U11: =SUM(O12:T23) -> 0 | AG11: =SUM(AA12:AF23) -> 0
A12: R000001 | D12: 법인세비용
A13: R000002 | D13: 이자수익
A14: R000003 | D14: 이자비용
A15: R000004 | D15: 감가상각비
A16: R000005 | D16: 유가증권관련손실(이익)
A17: R000006 | D17: 파생상품관련손실(이익)
A18: R000007 | D18: 유형자산관련손실(이익)
A19: R000008 | D19: 투자부동산관련손실(이익)
A20: R000009 | D20: 외화환산손실(이익)
A21: R000011 | D21: 금융리스이자비용
A22: R000012 | D22: 금융리스이자수익
A23: R000010 | D23: 기타
A24: S000000 | D24: 3. 영업활동 관련 자산(부채)의 감소(증가) | U24: =SUM(O25:T46) -> 0 | AG24: =SUM(AA25:AF46) -> 0
A25: S000001 | D25: 재고자산의 변동
A26: S000002 | D26: 금융상품의 변동
A27: S000003 | D27: 매출채권의 변동
A28: S000004 | D28: 투자부동산의 변동
A29: S000005 | D29: 미청구공사의 변동
A30: S000006 | D30: 미수수익의 변동
A31: S000007 | D31: 분양미수금의 변동
A32: S000008 | D32: 기타미수금의 변동
A33: S000009 | D33: 선급금의 변동
A34: S000010 | D34: 선급비용의 변동
A35: S000011 | D35: 매입채무의 변동
A36: S000012 | D36: 초과청구공사의 변동
... A50: T000003 | D50: 7. 법인세의 납부
A51: U000000 | D51: Ⅱ. 투자활동으로 인한 현금흐름 | U51: =U52+U60 -> 0 | AG51: =AG52+AG60 -> 0
A52: U000001 | D52: 1. 투자활동으로 인한 현금유입액 | U52: =SUM(O53:T59) -> 0 | AG52: =SUM(AA53:AF59) -> 0
A53: U000002 | D53: 매도가능금융자산의 처분
A54: U000003 | D54: 만기보유금융자산의 처분
...

Sheet 5부.Ⅴ
B2: Ⅴ. 자본변동표
G3: 자본변동표는 결산기 작성대상으로 분기에는 작성하지 않습니다.
J4: 당기 | L4: 제 | M4: ='5부.Ⅱ'!M4 -> 3 | N4: 기 | O4: ='5부.Ⅰ'!S6 -> 1 | P4: 분기 | S4: 시작일 | V4: ='5부.Ⅱ'!V4 -> 2020.01.01 | Z4: 종료일 | AC4: ='5부.Ⅱ'!AC4 -> 2020.03.31
J5: 전기 | L5: 제 | M5: ='5부.Ⅱ'!M5 -> 2 | N5: 기 | P5: 기말 | S5: 시작일 | V5: ='5부.Ⅱ'!V5 -> 2019.01.01 | Z5: 종료일 | AC5: ='5부.Ⅱ'!AC5 -> 2019.03.31
D6: 회사명: | G6: =표지!E28 -> ㈜대한제22호평택고평위탁관리부동산투자회사 | AI6: (단위: 원)
C7: 구 분 | I7: 자본금 | M7: 자본잉여금 | P7: 자본조정 | T7: 기타포괄 손익누계액 | X7: 이익잉여금 | AB7: 기타 | AF7: 비지배지분 | AI7: 총계
AI8: =SUM(I8:AH8) -> 0
AI9: =SUM(I9:AH9) -> 0
AI10: =SUM(I10:AH10) -> 0
AI11: =SUM(I11:AH11) -> 0
AI12: =SUM(I12:AH12) -> 0
AI13: =SUM(I13:AH13) -> 0
AI14: =SUM(I14:AH14) -> 0
AI15: =SUM(I15:AH15) -> 0
AM17: ← 필요시 주석 기재
B20: * 입력도움말 1. 필요시 행추가(복사한 셀 삽입)하여 추가 작성하시기 바랍니다. 2. 해당사항 없는 항목은 기재하지 마시기 바랍니다.

Sheet 5부.Ⅵ
B2: Ⅵ. 재무제표에 대한 주석(차입에 관한 구체적인 사항을 포함)
C4: 주석은 투자보고서 마지막에 별첨합니다.
A13: * 입력도움말 1. 주석은 별도의 PDF 파일로 업로드 해 주세요.

Sheet 5부.Ⅶ
B2: Ⅶ. 감사인의 감사(검토) 의견
B4: - 외부감사인의 감사(검토) 의견 및 위반사항
C6: 감사(검토)의견 : | I6: 적정
C7: 기타사항(특기사항 포함)
B19: - 내부감사인의 감사(검토) 의견
C21: 감사(검토)의견 : | I21: 해당사항 없음
C22: 기타사항(특기사항 포함)
A35: * 입력도움말 1. 외부감사인의 감사(검토)의견란에는 "적정, 부적정, 한정, 의견거절, 해당사항 없음(분기 등 해당기간 아닌경우)" 중 해당되는 사항을 선택해 주시기 바랍니다. 2. 기타사항(특기사항 포함) 내용이 입력범위를 초과하는 경우 셀 높이를 조절하시기 바랍니다.

Sheet 6부.Ⅰ
A2: 제 6 부 중요한 소송등 진행 현황
A4: Ⅰ. 중요한 소송진행사항
A11: * 입력도움말 1. 입력범위를 초과하는 경우 셀 높이를 조절하시기 바랍니다. 2. 해당사항 없는 항목은 기재하지 마시기 바랍니다. 3. 해당 기에 소송이 진행 중인 경우 초기 진행사항부터 기재하시기 바랍니다.

Sheet 7부.Ⅰ
A2: 제 7 부 특별관계자 등과의 거래 현황
A4: Ⅰ. 거래현황
E9: ※ 특별관계자 등은 다음에 해당하는 자를 말함 1. 해당 부동산투자회사의 임직원 및 그 특별관계자 2. 해당 부동산투자회사의 주식을 100분의 10 이상 소유하고 있는 주주 및 그 특별관계자 ※ 특별관계자는 자본시장법 시행령 제141조제1항의 특수관계인 및 공동보유자를 말함 ※ 특별관계자 등과의 거래는 법 제30조제2항 각 호에 해당하는 거래를 말함
A12: * 입력도움말 1. 입력범위를 초과하는 경우 셀 높이를 조절하시기 바랍니다. 2. 해당사항 없는 항목은 기재하지 마시기 바랍니다.

Sheet 8부.Ⅰ
A2: 제 8 부 기타사항
A4: Ⅰ. 제재현황
A11: * 입력도움말 1. 입력범위를 초과하는 경우 셀 높이를 조절하시기 바랍니다. 2. 해당사항 없는 항목은 기재하지 마시기 바랍니다.
