Workbook
Name Earn_etc: '[1]4부.Ⅱ.1.3)'!$R$6
Name Rent_SUM: '[1]4부.Ⅱ.1.1)'!$R$10
Name Rent_SUM: '3부.Ⅱ.4'!#REF!
Name Rent_SUM: '[1]4부.Ⅱ.1.1)'!$R$10
Name Rent_SUM: '[1]4부.Ⅱ.1.1)'!$R$10
Name Rent_SUM: '[1]4부.Ⅱ.1.1)'!$R$10
Name Rent_SUM: '[1]4부.Ⅱ.1.1)'!$R$10
Name Rent_SUM: '[1]4부.Ⅱ.1.1)'!$R$10
Name Rent_SUM: '[1]4부.Ⅱ.1.1)'!$R$10
Name Rent_SUM: '[1]4부.Ⅱ.1.1)'!$R$10
Name Rent_SUM: '[1]4부.Ⅱ.1.1)'!$R$10
Name Rent_SUM: '[1]4부.Ⅱ.1.1)'!$R$10
Name Rent_SUM: '[1]4부.Ⅱ.1.1)'!$R$10
Name Rent_SUM: '[1]4부.Ⅱ.1.1)'!$R$10
Name Rent_SUM: '3부.Ⅱ.1.1)'!#REF!
Name Rent_SUM: '3부.Ⅱ.1.1)'!#REF!
Name Rent_SUM: '3부.Ⅱ.1.1)'!#REF!
Name Rent_SUM: '3부.Ⅱ.1.1)'!#REF!

Sheet 표지
A3: 투 자 보 고 서
D6: 2021.01.01 | F6: 부터 | G6: 2021.03.31 | I6: 까지
D8: ( 제 | E8: 6 | F8: 기 | G8: 1 | H8: 분기 )
B11: 국토교통부장관, 금융위원회 귀중
B14: 부동산투자회사법 제37조, 동법 시행령 제40조 및 부동산투자회사등에 관한 감독규정 제7조의 규정에 의하여 투자보고서를 작성하여 제출합니다.
J17: 2021.05.17
D28: 회 사 명 : | E28: 대한제4호뉴스테이위탁관리부동산투자회사
D29: 대 표 이 사 : | E29: 유찬종
D30: 본점소재지 : | E30: 서울특별시 강남구 영동대로 517, 26층(삼성동, 아셈타워)
E31: (전화번호) | G31: 02-528-0521
E32: (홈페이지) | G32: http://www.reitpia.com/
D33: 작성책임자 : | E33: (회사) | G33: 대한토지신탁(주) | J33: (직책) | K33: 대리
E34: (전화번호) | G34: 02-528-0521 | J34: 성명 | K34: 정종선
D35: 공시책임자 : | E35: (회사) | G35: 대한토지신탁(주) | J35: (직책) | K35: 대리
E36: (전화번호) | G36: 02-528-0521 | J36: 성명 | K36: 정종선
A39: *입력도움말 1. 제출날짜(YYYY.MM.DD) 및 회사명, 대표이사, 본점소재지 등 내용을 직접 입력하시기 바랍니다. 2. 대표이사, 작성책임자, 공시책임자의 도장 스캔본을 '(인)' 위에 각각 삽입 후 마우스 오른쪽버튼을 클릭하여 '맨 뒤로 보내기'를 클릭하시기 바랍니다. 3. 표지 작성 후 '8부(재무제표) -> 그외 시트' 순으로 작성 바랍니다.

Sheet 1부.Ⅰ.1
A2: 제 1 부 부동산투자회사의 현황
A5: Ⅰ. 회사의 현황
B7: 1. 회사의 개요
AL8: 상장여부
E9: 1) 회사명 | P9: =표지!E28 -> 대한제4호뉴스테이위탁관리부동산투자회사 | AA9: =IF(AL9="상장","(","") | AB9: =IF(AL9="상장","상장일자:","") | AF9: =IF(AL9="상장","상장일자 입력","") | AK9: =IF(AL9="상장",")","") | AL9: 비상장
E10: 2) 설립일 | P10: 2016.02.18
E11: 3) 소재지 | P11: =표지!E30 -> 서울특별시 강남구 영동대로 517, 26층(삼성동, 아셈타워)
E12: 4) 자산 및 자본금, 부채 | P12: (기준일자) | U12: =표지!G6 -> 2021.03.31 | AA12: (단위: 원)
E13: 총 자 산 | P13: ='5부.Ⅰ'!U79 -> 392713268064
E14: 자 본 금 | P14: ='5부.Ⅰ'!U112 -> 28157500000
E15: 부 채 | P15: ='5부.Ⅰ'!U110 -> 306508924924
E16: 5) 자산관리회사 | P16: 대한토지신탁(주)
E17: 6) 사무수탁회사 | P17: 신한아이타스
E18: 7) 자산보관회사 | P18: NH농협증권(주)
E19: 8) 비고 | P19: (1) 정관에서 정한 회사의 존속기간 및 해산사유
P20: 해산사유_x000D_ ① 주주총회의 해산결의_x000D_ ② 합병_x000D_ ③ 파산_x000D_ ④ 법원의 해산 명령 또는 해산 판결_x000D_ ⑤ 국토교통부장관의 영업인가의 취소_x000D_ ⑥ 부투법 제3조부터 제7조까지의 규정을 위반하여 영업인가가 거부된 경우_x000D_ ⑦ 설립 후 1년 6개월 이내에 영업인가를 받지 못한 경우
P21: (2) 신용평가결과
P22: 해당사항 없음
AL24: ← 필요시 주석 기재
A27: * 입력도움말 1. 양식 수정은 절대 금지하며, 셀 높이 조절만 가능합니다. 2. 바탕색이 황갈색인 셀에만 데이터를 입력하시기 바랍니다. 3. 날짜는 0000.00.00 형식으로 입력하시기 바랍니다. 4. 상장여부를 반드시 체크하시기 바랍니다. 5. '신용평가결과'는 추후 시행예정으로 시행 전까지 '해당사항 없음'으로 기재 바랍니다.

Sheet 1부.Ⅰ.2.1)
B2: 2. 회사의 연혁
C4: 1) 설립경과 및 설립이후의 변동사항(상호의 변경, 영업양수 또는 영업양도, 주요 자산취득일 등을 기재)
E6: 2016.02.16 : 발기인총회 개최_x000D_ 2016.02.18 : 회사설립(총 자본금 : 5억원)_x000D_ 2016.07.15 : 자산관리위탁계약체결(대한토지신탁)_x000D_ 자산보관위탁계약체결(NH투자증권)_x000D_ 사무관리위탁계약체결(신한아이타스)_x000D_ 2016.08.31 : 국토교통부 영업인가_x000D_ 2016.09.22 : 1차 유상증자(총 자본금 : 109억원)_x000D_ 2016.12.10 : 무상감자(보통주75,000주)_x000D_ 2017.01.13 : 2차 유상증자(보통주 23,200주 , 우선주 36,800주)_x000D_ 2019.01.22 : 신동탄 SK VIEW PARK 3차 부동산 취득_x000D_ 2019.01.30 : 3차 유상증자(보통주 1,343,300주, 우선주 2,128,200주)
A12: * 입력도움말 1. 양식 수정은 절대 금지하며, 셀 높이 조절만 가능합니다. 2. 바탕색이 황갈색인 셀에만 데이터를 입력하시기 바랍니다.

Sheet 1부.Ⅰ.2.2)
C2: 2) 발기인·이사 및 감사에 관한 사항
D4: (1) 발기인에 관한 사항
E6: 성 명 | M6: 생년월일 또는 법인등록번호 | T6: 주요경력 및 연혁 | AF6: 비 고
E7: 더블트리에셋 | M7: 110111-5594571 | T7: 더블트리에셋 | AF7: 해당사항 없음
E13: ※ 비고란에는 법 제7조의 결격요건 해당여부를 기재
E14: ※ 주요경력은 주요근무지, 근무기간 및 직위등을 구체적으로 기재
AL15: ← 필요시 주석 기재
D17: (2) 이사 및 감사에 관한 사항
E19: 직 명 | K19: 성 명 | Q19: 생년월일 | V19: 주요경력 및 연혁 | AF19: 비 고
E20: 대표이사 | K20: 유찬종 | Q20: 1959.12.25 | V20: 前 SK건설 | AF20: 해당사항 없음
E21: 기타비상무이사 | K21: 이강준 | Q21: 1961.01.23 | V21: 前 한국토지주택공사 | AF21: 해당사항 없음
E22: 기타비상무이사 | K22: 현도관 | Q22: 1961.03.15 | V22: 前 한국토지주택공사 | AF22: 해당사항 없음
E23: 감사 | K23: 박우표 | Q23: 1969.09.16 | V23: 삼우회계법인 | AF23: 해당사항 없음
E26: ※ 비고란에는 법 제14조의 결격요건 해당여부를 기재
E27: ※ 주요경력은 주요근무지, 근무기간 및 직위등을 구체적으로 기재
AL28: ← 필요시 주석 기재
A31: * 입력도움말 1. 양식 수정은 절대 금지하며, 셀 높이 조절만 가능합니다. 2. 바탕색이 황갈색인 셀에만 데이터를 입력하시기 바랍니다. 3. 필요시 행추가(복사한 셀 삽입)하여 추가 작성하시기 바랍니다. 4. 생년월일은 0000.00.00 형식으로 입력하시기 바랍니다.

Sheet 1부.Ⅰ.3.1)
B2: 3. 주식 및 자본에 관한 사항
C4: 1) 주식에 관한 사항
D6: (1) 발행한 주식의 내용
AD7: [ | AE7: =표지!G6 -> 2021.03.31 | AJ7: 현재]
AF8: (단위 : 원, 주)
C9: 구 분 | I9: 종 류 | O9: 발행주식수 | V9: 주당 발행가액 | AA9: 주당 액면가액 | AF9: 비 고
C10: 기명 | I10: 보통주 | O10: 2179000 | V10: 20000 | AA10: 5000
C11: 기명 | I11: 우선주 | O11: 3452500 | V11: 20000 | AA11: 5000
AL15: ← 필요시 주석 기재
D17: (2) 자기주식 취득현황
AF18: (단위 : 원, 주)
C19: 취득일자 | I19: 종 류 | O19: 주식수량 | V19: 취득가액 | AE19: 비 고
AL23: ← 필요시 주석 기재
D25: (3) 현물출자 현황
D29: (4) 비고(주식매수선택권 여부, 의결권이 있는 주식수, 의결권이 제한된 주식수 등을 기재)
A35: * 입력도움말 1. 필요시 행추가(복사한 셀 삽입)하여 추가 작성하시기 바랍니다. 2. 날짜는 0000.00.00 형식으로 입력하시기 바랍니다. 3. 해당사항 없는 항목은 기재하지 마시기 바랍니다.

Sheet 1부.Ⅰ.3.2)
C2: 2) 자본금 변동상황
AE3: (단위 : 원, 주)
C4: 일자 | G4: 원인 | I4: 증가(감소)한 주식의 내용 | W4: 증(감)자한 자본금 | AC4: 증(감)자 후 자본금 | AI4: 증(감)자 비율
I5: 종류 | L5: 수량 | Q5: 주당 발행가액 | T5: 주당 액면가액
C6: 2016.02.18 | G6: 설립자본 | I6: 보통주 | L6: 100000 | Q6: 5000 | T6: 5000 | W6: 500000000 | AC6: 500000000 | AI6: 0
C7: 2016.09.22 | G7: 증자 | I7: 보통주 | L7: 787500 | Q7: 20000 | T7: 5000 | W7: 3937500000 | AC7: =AC6+W7 -> 4437500000 | AI7: 7.875
C8: 2016.09.22 | G8: 증자 | I8: 종류주 | L8: 1287500 | Q8: 20000 | T8: 5000 | W8: 6437500000 | AC8: =AC7+W8 -> 10875000000 | AI8: 1.450704
C9: 2016.12.10 | G9: 감자 | I9: 보통주 | L9: -75000 | Q9: 5000 | T9: 5000 | W9: =L9*Q9 -> -375000000 | AC9: =AC8+W9 -> 10500000000 | AI9: -0.034
C10: 2017.01.13 | G10: 증자 | I10: 보통주 | L10: 23200 | Q10: 20000 | T10: 5000 | W10: =L10*T10 -> 116000000 | AC10: =AC9+W10 -> 10616000000 | AI10: 0.011
C11: 2017.01.13 | G11: 증자 | I11: 종류주 | L11: 36800 | Q11: 20000 | T11: 5000 | W11: =L11*T11 -> 184000000 | AC11: =AC10+W11 -> 10800000000 | AI11: 0.017
C12: 2019.01.302019.01.30 | G12: 증자 | I12: 보통주 | L12: 1343300 | Q12: 20000 | T12: 5000 | W12: =L12*T12 -> 6716500000 | AC12: =AC11+W12 -> 17516500000 | AI12: 0.622
C13: 2019.01.30 | G13: 증자 | I13: 종류주 | L13: 2128200 | Q13: 20000 | T13: 5000 | W13: =L13*T13 -> 10641000000 | AC13: =AC12+W13 -> 28157500000 | AI13: 0.627
AM15: ← 필요시 주석 기재
C17: 3) 자본금 변동예정 등
A25: * 입력도움말 1. 2) 자본금 변동상황은 설립시부터 적어주시기 바라며, 필요시 행추가(복사한 셀 삽입)하여 작성해주시기 바랍니다. 2. 감자로 자본금이 감소할 경우는 수량을 음수(-)로 작성해주시기 바랍니다. (예) : △50,000,000 (X) / -50,000,000(O) 3. 증자비율: 증가금액(수량X주당액면가액)/증(감)자 전 자본금 감자비율: 감소금액(수량X주당액면가액)/증(감)자 전 자본금 4. 해당사항 없는 항목은 기재하지 마시기 바랍니다.

Sheet 1부.Ⅰ.4.1)
B2: 4. 주주현황
C4: 1) 최대주주 및 그 특별관계자의 주식소유현황
AL5: 【 | AM5: =표지!G6 -> 2021.03.31 | AR5: 현재 | AU5: 】
C6: 성명 | H6: 관계 | K6: 내/ 외국인 | N6: 국적 | Q6: 기관/개인 | S6: 청약예외주주 | V6: 주식의 종류 | Y6: 소유주식수(지분율) | AQ6: 변동원인
Y7: 기초 | AD7: 증가 | AH7: 감소 | AL7: 기말
C8: 뉴스테이허브제1호위탁관리부동산투자회사 | H8: 최대주주 | K8: 내국인 | N8: 대한민국 | Q8: 기관 | S8: 제25호 | V8: 우선주 | Y8: 3452500 | AD8: 0 | AH8: 0 | AL8: =Y8+AD8-AH8 -> 3452500
Y9: 0.6131 | AL9: 0.6131
AL10: =Y10+AD10-AH10 -> 0
AL12: =Y12+AD12-AH12 -> 0
AL14: =Y14+AD14-AH14 -> 0
AL16: =Y16+AD16-AH16 -> 0
E19: ※ 특별관계자는 자본시장법 시행령 제141조제1항의 특수관계인 및 공동보유자를 말함
E20: ※ 청약예외주주란에는 시행령 제12조의3(일반청약에 대한 예외) 각 호 중 해당되는 호를 기재
AV21: ← 필요시 주석 기재
A24: * 입력도움말 1. 필요시 행추가(복사한 셀 삽입)하여 추가 작성하시기 바랍니다. 2. 지분율은 숫자만 입력하시기 바랍니다.(괄호 자동표시) 3. 공모 회사 중 필요한 경우 기준일자를 직접 입력하고, 그 일자 기준의 주주현황을 입력하시기 바랍니다.

Sheet 1부.Ⅰ.4.2)
C2: 2) 주요주주(10%이상 주주)의 주식소유현황
AO3: 【 | AP3: =표지!G6 -> 2021.03.31 | AU3: 현재 | AX3: 】
C4: 순위 | G4: 성명 | L4: 내/ 외국인 | P4: 국적 | T4: 기관/ 개인 | X4: 청약예외주주 | AB4: 주식의 종류 | AF4: 소유주식수 | AN4: 지분율 | AT4: 비고
C5: 1 | G5: SK건설 | L5: 내국인 | P5: 대한민국 | T5: 기관 | X5: 해당사항 없음 | AB5: 보통주 | AF5: 2179000 | AN5: 0.3869
AY11: ← 필요시 주석 기재
A16: * 입력도움말 1. 필요시 행추가(복사한 셀 삽입)하여 추가 작성하시기 바랍니다. 2. 공모 회사 중 필요한 경우 기준일자를 직접 입력하고, 그 일자 기준의 주주현황을 입력하시기 바랍니다.

Sheet 1부.Ⅰ.4.3)
C2: 3) 소액주주, 최대주주 및 기타주주 분포
AB3: 【 | AC3: =표지!G6 -> 2021.03.31 | AH3: 현재 | AK3: 】
C4: 구분 | J4: 주주수(명) | N4: 비율 | T4: 주식수 | AA4: 비율 | AG4: 비고
C5: 최대주주 | J5: 1 | N5: =IFERROR(J5/SUM($J$5:$M$8),"") -> 0.5 | T5: 3452500 | AA5: =IFERROR(T5/SUM($T$5:$Z$8),"") -> 0.61306934
C6: 주요주주 | J6: 1 | N6: =IFERROR(J6/SUM($J$5:$M$8),"") -> 0.5 | T6: 2179000 | AA6: =IFERROR(T6/SUM($T$5:$Z$8),"") -> 0.38693066
C7: 소액주주 - 기관 | N7: =IFERROR(J7/SUM($J$5:$M$8),"") -> 0 | AA7: =IFERROR(T7/SUM($T$5:$Z$8),"") -> 0
C8: 소액주주 - 개인 | N8: =IFERROR(J8/SUM($J$5:$M$8),"") -> 0 | AA8: =IFERROR(T8/SUM($T$5:$Z$8),"") -> 0
C9: 합 계 | J9: =SUM(J5:M8) -> 2 | N9: =SUM(N5:S8) -> 1 | T9: =SUM(T5:Z8) -> 5631500 | AA9: =SUM(AA5:AF8) -> 1
AL11: ← 필요시 주석 기재
C14: 4) 주가변동사항
C16: 월별 | N16: 년 | Q16: 월 | U16: 년 | X16: 월 | AB16: 년 | AE16: 월 | AG16: 비고
C17: 최고가(일자)
C18: 최저가(일자)
C19: 월간 거래량
C20: 일평균 거래량
E21: ※ 주가는 월별 종가기준으로 기재
AL22: ← 필요시 주석 기재
A25: * 입력도움말 1. 공모 회사 중 필요한 경우 기준일자를 직접 입력하고, 그 일자 기준의 주주현황을 입력하시기 바랍니다. 2. 해당사항 없는 항목은 기재하지 마시기 바랍니다.

Sheet 1부.Ⅰ.5
B2: 5. 배당에 관한 사항
C4: 1) 이익 등의 분배방침
C6: 배당가능이익_x000D_ 회사가 이익을 배당할 때에는 상법 제462조에도 불구하고 부투법 시행령 제32조가 정하는 바에 따라 해당 영업연도의 감가상각비 상당액을 초과배당할 수 있습니다._x000D_ ? 배당정책_x000D_ 회사는 매 영업연도 이익배당 한도의 100분의 90이상을 주주총회 또는 정관 제59조 3항에 따른 이사회 결의에 따라 현금으로 배당 계획입니다. 이 경우 상법 제458조에 따른 이익준비금은 적립하지 아니합니다. _x000D_ ? 배당금 지급시기 및 결정방법_x000D_ 당해 회사의 회계연도는 매년 1월 1일 개시하여 12월 31일에 종료할 계획입니다. 단, 설립 회계연도는 당해 회사의 설립등기일에 개시하고, 최초로 도래하는 12월 31일에 종료할 계획입니다. 배당금은 정기주주총회 또는 이사회의 결의로 승인을 받아 매 영업연도 종료일 현재 주주명부에 기재된 주주 또는 등록된 질권자에게 지급하되, 지급방법 및 시기는 이사회에서 결정합니다. 배당금은 배당금 승인을 한 주주총회 또는 이사회에서 달리 결정되지 않는 한 정기주주총회 또는 이사회의 승인일로부터 1개월 이내에 지급할 계획입니다.
C8: 2) 최근 사업연도의 배당에 관한 사항
D9: [주당액면가액 : | K9: 5000 | N9: 원 | O9: ] | AA9: (단위 : 원, %)
C10: 구분 | K10: 제 | L10: 5 | M10: 기 | Q10: 제 | R10: 4 | S10: 기 | W10: 제 | X10: 3 | Y10: 기 | AC10: 제 | AD10: 2 | AE10: 기
C11: 당기순이익 | I11: -6278403822 | O11: -13826745117 | U11: -231248935 | AA11: -1581520720
C12: 상법상 배당가능이익 | I12: 0 | O12: 0 | U12: 0 | AA12: 0
C13: 당기감가상각비 등 | I13: =I32+I33 -> 4272676225 | O13: =O32+O33 -> 4269583572 | U13: =U32+U33 -> 0 | AA13: =AA32+AA33 -> 0
C14: 이익배당한도 | I14: =I12+I13 -> 4272676225 | O14: =O12+O13 -> 4269583572 | U14: =U12+U13 -> 0 | AA14: =AA12+AA13 -> 0
C15: 배당금 | I15: 0 | O15: 0 | U15: 0 | AA15: 0
C16: 주당배당금 | I16: 0 | O16: 0 | U16: 0 | AA16: 0
C17: 배당수익율 | I17: =IF(ISERROR(I15/((I34+I35)/2)*100),"-",I15/((I34+I35)/2)) -> 0 | O17: =IF(ISERROR(O15/((O34+O35)/2)*100),"-",O15/((O34+O35)/2)) -> 0 | U17: =IF(ISERROR(U15/((U34+U35)/2)*100),"-",U15/((U34+U35)/2)) -> 0 | AA17: =IF(ISERROR(AA15/((AA34+AA35)/2)*100),"-",AA15/((AA34+AA35)/2)) -> 0
C18: 연환산배당율 | I18: =IF(ISERROR(I17*365/I31),"-",I17*365/I31) -> 0 | O18: =IF(ISERROR(O17*365/O31),"-",O17*365/O31) -> 0 | U18: =IF(ISERROR(U17*365/U31),"-",U17*365/U31) -> 0 | AA18: =IF(ISERROR(AA17*365/AA31),"-",AA17*365/AA31) -> 0
E19: ※ 상법상 배당가능이익 : 순자산가액 - 자본금 - 자본준비금 - 상법 시행령 제19조의 미실현이익 - 기타(주식할인발행차금 상각액 등)
E20: ※ 당기 감가상각비 등 : 당기 감가상각비 + 전기이전 감가상각비 초과배당누적액
E21: ※ 이익배당한도 : 상법상 배당가능이익 + 당기 감가상각비 등
E22: ※ 주당배당금 : 배당금 / 발행주식수
E23: ※ 배당수익율 : 배당액 / [ (기초납입자본금+기말납입자본금)/2 ] 로 계산
E24: ※ 1기의 사업연도가 1년 미만일 경우, 비교목적으로 연환산배당율을 다음의 산식으로 추가기재 연환산배당율 : 배당수익율 x 365일 / (해당사업연도의 일수)
AG25: ← 필요시 주석 기재
D27: * 산출근거자료 | AA27: (단위 : 원)
C28: 구분 | K28: 제 | L28: =L10 -> 5 | M28: 기 | Q28: 제 | R28: =R10 -> 4 | S28: 기 | W28: 제 | X28: =X10 -> 3 | Y28: 기 | AC28: 제 | AD28: =AD10 -> 2 | AE28: 기
C29: 기수시작일 | I29: 43831 | O29: 43466 | U29: 43101 | AA29: 42736
C30: 기수종료일 | I30: 44196 | O30: 43830 | U30: 43465 | AA30: 43100
C31: 사업일수 | I31: =IFERROR(IF(I29>0, I30-I29+1, " "),"") -> 366 | O31: =IFERROR(IF(O29>0, O30-O29+1, " "),"") -> 365 | U31: =IFERROR(IF(U29>0, U30-U29+1, " "),"") -> 365 | AA31: =IFERROR(IF(AA29>0, AA30-AA29+1, " "),"") -> 365
C32: 당기 감가상각비 | I32: 4272676225 | O32: 4269583572 | U32: 0 | AA32: 0
C33: 전기이전 감가상각비 초과배당누적액 | I33: 0 | O33: 0 | U33: 0 | AA33: 0
C34: 기초납입자본금 | I34: 112461585938 | O34: 43128930178 | U34: 43128930178 | AA34: 41931058530
C35: 기말납입자본금 | I35: 112461585938 | O35: 112461585938 | U35: 43128930178 | AA35: 43128930178
D37: ※ 납입자본금은 액면가액이 아닌 발행가액을 기준하여 적용
D39: - 우선주 및 보통주의 배당에 관한 사항 | AA39: (단위 : 원, %)
C40: 구분 | K40: 제 | L40: =L10 -> 5 | M40: 기 | Q40: 제 | R40: =R10 -> 4 | S40: 기 | W40: 제 | X40: =X10 -> 3 | Y40: 기 | AC40: 제 | AD40: =AD10 -> 2 | AE40: 기
C41: (우선주) 배당금총액 | I41: 0 | O41: 0 | U41: 0 | AA41: 0
C42: (우선주) 배당수익율 | I42: =IF(ISERROR(I41/((I47+I48)/2)*100),"-",I41/((I47+I48)/2)) -> 0 | O42: =IF(ISERROR(O41/((O47+O48)/2)*100),"-",O41/((O47+O48)/2)) -> 0 | U42: =IF(ISERROR(U41/((U47+U48)/2)*100),"-",U41/((U47+U48)/2)) -> 0 | AA42: =IF(ISERROR(AA41/((AA47+AA48)/2)*100),"-",AA41/((AA47+AA48)/2)) -> 0
C43: (우선주) 연환산배당율 | I43: =IF(ISERROR(I42*365/I31),"-",I42*365/I31) -> 0 | O43: =IF(ISERROR(O42*365/O31),"-",O42*365/O31) -> 0 | U43: =IF(ISERROR(U42*365/U31),"-",U42*365/U31) -> 0 | AA43: =IF(ISERROR(AA42*365/AA31),"-",AA42*365/AA31) -> 0
C44: (보통주) 배당금총액 | I44: 0 | O44: 0 | U44: 0 | AA44: 0
C45: (보통주) 배당수익율 | I45: =IF(ISERROR(I44/((I49+I50)/2)*100),"-",I44/((I49+I50)/2)) -> 0 | O45: =IF(ISERROR(O44/((O49+O50)/2)*100),"-",O44/((O49+O50)/2)) -> 0 | U45: =IF(ISERROR(U44/((U49+U50)/2)*100),"-",U44/((U49+U50)/2)) -> 0 | AA45: =IF(ISERROR(AA44/((AA49+AA50)/2)*100),"-",AA44/((AA49+AA50)/2)) -> 0
C46: (보통주) 연환산배당율 | I46: =IF(ISERROR(I45*365/I31),"-",I45*365/I31) -> 0 | O46: =IF(ISERROR(O45*365/O31),"-",O45*365/O31) -> 0 | U46: =IF(ISERROR(U45*365/U31),"-",U45*365/U31) -> 0 | AA46: =IF(ISERROR(AA45*365/AA31),"-",AA45*365/AA31) -> 0
C47: (우선주) 기초납입자본금 | I47: 17262500000 | O47: 6621500000 | U47: 6621500000 | AA47: 6437500000
C48: (우선주) 기말납입자본금 | I48: 17262500000 | O48: 17262500000 | U48: 6621500000 | AA48: 6621500000
C49: (보통주) 기초납입자본금 | I49: 11270000000 | O49: 4553500000 | U49: 4553500000 | AA49: 4437500000
C50: (보통주) 기말납입자본금 | I50: 11270000000 | O50: 11270000000 | U50: 4553500000 | AA50: 4553500000
D52: ※ 납입자본금은 액면가액이 아닌 발행가액을 기준하여 적용
A57: * 입력도움말 1. 1) 이익 등의 분배방침 내용입력시 내용이 많을 경우 셀높이를 조절하시기 바랍니다. 2. 기수는 표 왼쪽부터 최근 기수를 입력하여 주시기 바랍니다. 3. 산출근거자료표의 사업일수 자동계산을 위해 '기수시작일', '기수종료일'은 0000-00-00 형식으로 입력하시기 바랍니다. 4. 1기의 기초납입자본금은 설립납입자본금으로 입력하시기 바랍니다.

Sheet 2부.Ⅰ
A2: 제 2 부 자산의 투자·운용 및 자산의 구성·변경 현황
A4: Ⅰ. 총자산의 투자·운용 및 구성현황
AA6: (단위 : 백만원, %)
C7: 항 목 | N7: 전분기 | V7: 당분기 | AD7: 총자산대비 구성비율
N8: 자산총액 | S8: 비율 | V8: 자산총액 | AA8: 비율
C9: 부동산 | N9: 354273838501 | S9: =IFERROR(N9/SUM($N$9:$R$13)*100,"") -> 90.090243 | V9: 353205669445 | AA9: =IFERROR(V9/SUM($V$9:$Z$13)*100,"") -> 89.939836 | AD9: =IFERROR(AA9+AA10,"") -> 89.939836
F10: 부동산개발사업 | S10: =IFERROR(N10/SUM($N$9:$R$13)*100,"") -> 0 | AA10: =IFERROR(V10/SUM($V$9:$Z$13)*100,"") -> 0
C11: 부동산관련 유가증권 | S11: =IFERROR(N11/SUM($N$9:$R$13)*100,"") -> 0 | AA11: =IFERROR(V11/SUM($V$9:$Z$13)*100,"") -> 0 | AD11: =AA11 -> 0
C12: 현금 | N12: 36469410134 | S12: =IFERROR(N12/SUM($N$9:$R$13)*100,"") -> 9.2740069 | V12: 37067722827 | AA12: =IFERROR(V12/SUM($V$9:$Z$13)*100,"") -> 9.4388771 | AD12: =AA12 -> 9.4388771
C13: 기타 자산 | N13: 2500045024 | S13: =IFERROR(N13/SUM($N$9:$R$13)*100,"") -> 0.6357502 | V13: 2439875792 | AA13: =IFERROR(V13/SUM($V$9:$Z$13)*100,"") -> 0.62128682 | AD13: =AA13 -> 0.62128682
C14: 총계 | N14: =SUM(N9:R13) -> 393243293659 | S14: =IFERROR(N14/SUM($N$14:$R$14)*100,"") -> 100 | V14: =SUM(V9:Z13) -> 392713268064 | AA14: =IFERROR(V14/SUM($V$14:$Z$14)*100,"") -> 100 | AD14: =AA14 -> 100
E16: ※ 1. 부동산은 지상권·임차권 등 부동산 사용에 관한 권리, 부동산개발사업, 설립할 때 납입된 주금(株金), 신주발행으로 조성한 자금 및 소유 부동산의 매각대금, 시행령 제27조에 의하여 부동산에 포함되는 자산을 말함(기업구조조정부동산투자회사의 경우, 구조조정부동산을 별도 표시)
E17: 2. 부동산관련 유가증권은 법제2조3항 각 목의 어느 하나에 해당하는 자산을 말함
E18: 3. 현금은 금융기관에의 예치금을 포함하며, 부동산에 포함되는 자산은 제외함
E19: 4. 기타는 자산 중 부동산, 부동산관련 유가증권, 현금에 해당되지 않는 자산을 말함
AL20: ← 필요시 주석 기재
A23: * 입력도움말 1. 자산총액의 입력은 반드시 '원' 단위로 입력하시기 바랍니다. ('백만원' 단위로 자동표시)

Sheet 2부.Ⅰ.1.1)
B2: 1. 부동산(지상권·임차권 등 부동산사용에 관한 권리도 포함)
C4: 1) 소유 부동산별 개요
C6: 부동산명 | I6: 위치 | T6: 완공 (개축)일자 | Y6: 취득일자 | AD6: 담보 및 부채내역 | AL6: 유형 | AM6: 투자대상 | AN6: 대지면적(㎡) | AO6: 연면적(㎡) | AP6: 건축면적(㎡)
C7: 1 | D7: SK뷰파크 3차 | I7: 경기도 화성시 기산동 150번지 | T7: 2019.01.18 | Y7: 2019.01.22 | AD7: 해당사항 없음 | AL7: 일반 | AM7: 주택 | AN7: 58138 | AO7: 164949.31 | AP7: 9575.52
C8: 2
C9: 3
C10: 4
C11: 5
C12: 6
C13: 7
C14: 8
C15: 9
C16: 10
C17: 11
C18: 12
C19: 13
... C21: 15
E22: ※ 준공시 잔금지급예정으로 준공후 소유권이 넘어오는 경우는 제외
AL23: ← 필요시 주석 기재
A26: * 입력도움말 1. 부동산이 15개를 초과할 경우 행추가(복사한 셀 삽입)하여 추가 작성(16번부터 이어서 작성)하시기 바라며, 아직 소유한 부동산이 없을 경우 기재하지 마시기 바랍니다. 2. 완공일자와 취득일자는 YYYY-MM-DD 형식으로 입력바랍니다. 3. 개발관련부동산으로 토지만 소유시 부동산명은 토지(개발사업명)로 입력하시고, 하나의 개발사업에 여러 필지가 해당되는 경우에는 위치에 대표번지 입력하고 '외 0필지'로 입력하시기 바랍니다. 4. 준공시 잔금지급예정으로 준공후 소유권이 넘어오는 경우는 소유부동산 표에 입력하지 마시고 표 하단에 별도로 주석처리하시기 바랍니다. 5. 열 AL~AP의 내용을 선택 또는 입력하여 주시기 바랍니다.
A27: <투자대상 분류기준> (분류유형) 투자대상은 투자하는 부동산의 주된 유형에 따라 주택, 오피스, 리테일, 호텔, 물류, 복합형으로 구분된 6가지 유형 중 한가지로 분류함 (복합형) 하나의 리츠가 둘이상 유형의 복수 부동산에 투자하는 경우 복합형으로 분류, 하나의 투자부동산에 둘이상 유형이 존재하여 주된 유형의 구분이 어려운 경우 복합형으로 분류 (지분투자) 지분투자하는 경우에는 투자하는 부동산 유형에 따라 분류하며, 투자유형이 여러개인 경우 복합형 으로 분류 (토지지원) 토지지원리츠는 토지지원으로 개발되는 부동산 유형에 따라 분류

Sheet 2부.Ⅰ.1.2)
C2: 2) 소유 부동산별 금액현황
S4: (단위 : 백만원)
C5: 부동산명 | G5: 취득가액 | K5: 취득후 자본적지출 | O5: 평가손익 | S5: 감가 상각 누계액 | U5: 손상 차손 누계액 | W5: 장부가액
G6: 토지 | I6: 건물 | K6: 토지 | M6: 건물 | O6: 토지 | Q6: 건물
C7: 1 | D7: SK뷰파크 3차 | G7: 146490.73 | I7: 207252.32 | K7: 2691.5574 | M7: 6381.4909 | S7: 9610.4289 | W7: =G7+I7+K7+M7+O7+Q7-S7-U7 -> 353205.67
C8: 2 | D8: ='2부.Ⅰ.1.1)'!D8 -> 0 | W8: =G8+I8+K8+M8+O8+Q8-S8-U8 -> 0
C9: 3 | D9: ='2부.Ⅰ.1.1)'!D9 -> 0 | W9: =G9+I9+K9+M9+O9+Q9-S9-U9 -> 0
C10: 4 | D10: ='2부.Ⅰ.1.1)'!D10 -> 0 | W10: =G10+I10+K10+M10+O10+Q10-S10-U10 -> 0
C11: 5 | D11: ='2부.Ⅰ.1.1)'!D11 -> 0 | W11: =G11+I11+K11+M11+O11+Q11-S11-U11 -> 0
C12: 6 | D12: ='2부.Ⅰ.1.1)'!D12 -> 0 | W12: =G12+I12+K12+M12+O12+Q12-S12-U12 -> 0
C13: 7 | D13: ='2부.Ⅰ.1.1)'!D13 -> 0 | W13: =G13+I13+K13+M13+O13+Q13-S13-U13 -> 0
C14: 8 | D14: ='2부.Ⅰ.1.1)'!D14 -> 0 | W14: =G14+I14+K14+M14+O14+Q14-S14-U14 -> 0
C15: 9 | D15: ='2부.Ⅰ.1.1)'!D15 -> 0 | W15: =G15+I15+K15+M15+O15+Q15-S15-U15 -> 0
C16: 10 | D16: ='2부.Ⅰ.1.1)'!D16 -> 0 | W16: =G16+I16+K16+M16+O16+Q16-S16-U16 -> 0
C17: 11 | D17: ='2부.Ⅰ.1.1)'!D17 -> 0 | W17: =G17+I17+K17+M17+O17+Q17-S17-U17 -> 0
C18: 12 | D18: ='2부.Ⅰ.1.1)'!D18 -> 0 | W18: =G18+I18+K18+M18+O18+Q18-S18-U18 -> 0
C19: 13 | D19: ='2부.Ⅰ.1.1)'!D19 -> 0 | W19: =G19+I19+K19+M19+O19+Q19-S19-U19 -> 0
... C21: 15 | D21: ='2부.Ⅰ.1.1)'!D21 -> 0 | W21: =G21+I21+K21+M21+O21+Q21-S21-U21 -> 0
Z23: ← 필요시 주석 기재
A26: * 입력도움말 1. 부동산이 15개를 초과할 경우 행추가(복사한 셀 삽입)하여 추가 작성(16번부터 이어서 작성하고 '부동산명'은 2부.Ⅰ.1.1) 시트와 동일하게 작성)하시기 바라며, 아직 소유한 부동산이 없을 경우 기재하지 마시기 바랍니다.

Sheet 2부.Ⅰ.1.3)
C2: 3) 소유 부동산별 임대현황
C4: 부동산명 | I4: 임대가능 면적 (㎡) | N4: 임대면적 (㎡) | R4: 임대율 (임대면적/임대가능면적, %) | W4: 임대차 계약수
C5: 1 | D5: ='2부.Ⅰ.1.1)'!D7 -> SK뷰파크 3차 | I5: 85674 | N5: 84414.6 | R5: =IFERROR(N5/I5,"") -> 0.98530009 | W5: 1071
C6: 2 | D6: ='2부.Ⅰ.1.1)'!D8 -> 0 | R6: =IFERROR(N6/I6,"")
C7: 3 | D7: ='2부.Ⅰ.1.1)'!D9 -> 0 | R7: =IFERROR(N7/I7,"")
C8: 4 | D8: ='2부.Ⅰ.1.1)'!D10 -> 0 | R8: =IFERROR(N8/I8,"")
C9: 5 | D9: ='2부.Ⅰ.1.1)'!D11 -> 0 | R9: =IFERROR(N9/I9,"")
C10: 6 | D10: ='2부.Ⅰ.1.1)'!D12 -> 0 | R10: =IFERROR(N10/I10,"")
C11: 7 | D11: ='2부.Ⅰ.1.1)'!D13 -> 0 | R11: =IFERROR(N11/I11,"")
C12: 8 | D12: ='2부.Ⅰ.1.1)'!D14 -> 0 | R12: =IFERROR(N12/I12,"")
C13: 9 | D13: ='2부.Ⅰ.1.1)'!D15 -> 0 | R13: =IFERROR(N13/I13,"")
C14: 10 | D14: ='2부.Ⅰ.1.1)'!D16 -> 0 | R14: =IFERROR(N14/I14,"")
C15: 11 | D15: ='2부.Ⅰ.1.1)'!D17 -> 0 | R15: =IFERROR(N15/I15,"")
C16: 12 | D16: ='2부.Ⅰ.1.1)'!D18 -> 0 | R16: =IFERROR(N16/I16,"")
C17: 13 | D17: ='2부.Ⅰ.1.1)'!D19 -> 0 | R17: =IFERROR(N17/I17,"")
... C19: 15 | D19: ='2부.Ⅰ.1.1)'!D21 -> 0 | R19: =IFERROR(N19/I19,"")
Z21: ← 필요시 주석 기재
A24: * 입력도움말 1. 부동산이 15개를 초과할 경우 행추가(복사한 셀 삽입)하여 추가 작성(16번부터 이어서 작성 하고 '부동산명'은 2부.Ⅰ.1.1) 시트와 동일하게 작성)하시기 바라며, 아직 소유한 부동산이 없을 경우 기재하지 마시기 바랍니다. 2. 임대내역이 없을 경우 '임대가능 면적, 임대면적, 임대차 계약수' 입력 칸에 0을 입력하시기 바랍니다.

Sheet 2부.Ⅰ.2
B2: 2. 분기말 현재 부동산 관련 유가증권 현황
Y4: (단위 : 백만원, %)
C5: 구분 | K5: 종 목 명 | Q5: 취득금액 | V5: 당해 분기말 현재 가액 | AB5: 자산구성비
C6: 부동산관련 유가증권
C7: 부동산관련 유가증권
C8: 부동산관련 유가증권
C9: 부동산관련 유가증권
C10: 부동산관련 유가증권
C11: 부동산관련 유가증권
C12: 부동산관련 유가증권
C13: 부동산관련 유가증권
C14: 부동산관련 유가증권
C15: 부동산관련 유가증권
C16: 부동산관련 유가증권
C17: 부동산관련 유가증권
... C20: 부동산관련 유가증권
AG22: ← 필요시 주석 기재
A25: * 입력도움말 1. 필요시 행추가(복사한 셀 삽입)하여 추가 작성하시기 바랍니다. 2. 해당사항 없는 항목은 기재하지 마시기 바랍니다.

Sheet 2부.Ⅰ.3
B2: 3. 현금(금융기관 예치내역 포함) 현황
AD4: (단위 : %, 백만원)
E5: 예치 금융상품 | M5: 예치 금융회사 | V5: 이자율 | Z5: 전분기예치금 | AF5: 당분기예치금 | AL5: 비고
E6: MMDA | M6: 국민은행 | V6: 변동금리 | Z6: 457 | AF6: 474
E7: MMDA | M7: 기업은행 | V7: 변동금리 | Z7: 3526 | AF7: 1829
E8: MMDA | M8: 우리은행 | V8: 변동금리 | Z8: 30 | AF8: 30
E9: MMDA | M9: 국민은행 | V9: 변동금리 | Z9: 3 | AF9: 3
E10: MMDA | M10: 국민은행 | V10: 변동금리 | Z10: 30279 | AF10: 30514
E11: MMDA | M11: 하나은행 | V11: 변동금리 | Z11: 2000 | AF11: 2001
E12: MMDA | M12: 우리은행 | V12: 변동금리 | Z12: 173 | AF12: 216
E13: MMDA | M13: 우리은행 | V13: 변동금리 | Z13: 0 | AF13: 2001
AP15: ← 필요시 주석 기재
A18: * 입력도움말 1. 필요시 행추가(복사한 셀 삽입)하여 추가 작성하시기 바랍니다. 2. 해당사항 없는 항목은 기재하지 마시기 바랍니다.

Sheet 2부.Ⅰ.4
B2: 4. 분기말 기타 자산 현황
Y4: (단위 : 백만원, %)
C5: 구분 | K5: 종 목 명 | Q5: 취득금액 | V5: 당해 분기말 현재 가액 | AB5: 비고
C6: 유가증권
C7: 유가증권
C8: 유가증권
C9: 유가증권
C10: 유가증권
C11: 파생상품자산
C12: 파생상품자산
C13: 파생상품자산
C14: 기타자산 | K14: 선급비용 | Q14: 1753 | V14: 1753
C15: 기타자산 | K15: 미수금 | Q15: 392 | V15: 392
C16: 기타자산 | K16: 기타 | Q16: 295 | V16: 295
AG18: ← 필요시 주석 기재
A21: * 입력도움말 1. 필요시 행추가(복사한 셀 삽입)하여 추가 작성하시기 바랍니다. 2. 해당사항 없는 항목은 기재하지 마시기 바랍니다.

Sheet 2부.Ⅱ
A2: Ⅱ. 총자산의 변경내역
B4: 1. 당분기동안의 부동산 매입·매각
AA5: (단위 : 백만원)
C6: 구분 | F6: 부동산명 | K6: 위치 | S6: 거래일자 | X6: 매매가액 | AB6: 거래비용 | AF6: 비고
E9: ※ 매각의 경우 비고란에 취득한 금액, 보유기간 등 간략히 기재
AL10: ← 필요시 주석 기재
B12: 2. 당분기동안의 부동산관련 유가증권 거래내역
E13: - 당분기동안에 거래된 부동산관련 유가증권의 거래내역, 거래에 따른 이익현황, 거래비용 등을 간략하게 기재
E15: =IF(AL12="해당사항 없음","거래내역 없음"," ")
B17: 3. 현금(금융기관 예치내역 포함) 변경내역
AD18: (단위 : %, 백만원)
E19: 예치 금융상품 | M19: 예치 금융회사 | V19: 이자율 | Z19: 전분기예치금 | AF19: 당분기예치금
E20: MMDA | M20: 국민은행 | V20: 변동금리 | Z20: 457 | AF20: 474
E21: MMDA | M21: 기업은행 | V21: 변동금리 | Z21: 3526 | AF21: 1829
E22: MMDA | M22: 우리은행 | V22: 변동금리 | Z22: 30 | AF22: 30
E23: MMDA | M23: 국민은행 | V23: 변동금리 | Z23: 3 | AF23: 3
E24: MMDA | M24: 국민은행 | V24: 변동금리 | Z24: 30279 | AF24: 30514
E25: MMDA | M25: 하나은행 | V25: 변동금리 | Z25: 2000 | AF25: 2001
E26: MMDA | M26: 우리은행 | V26: 변동금리 | Z26: 173 | AF26: 216
E27: MMDA | M27: 우리은행 | V27: 변동금리 | Z27: 0 | AF27: 2001
AL29: ← 필요시 주석 기재
B31: 4. 기타 자산 변경내역
E33: 선급비용 당기 비용 대체
A36: * 입력도움말 1. 필요시 행추가(복사한 셀 삽입)하여 추가 작성하시기 바랍니다. 2. 해당사항 없는 항목은 기재하지 마시기 바랍니다.

Sheet 3부.Ⅰ
A2: 제 3 부 자산 및 수익과 비용에 관한 사항
A4: Ⅰ. 총수입금액 및 수입구조
C6: 구 분 | O6: 금액(원) | W6: 비율(%) | AE6: 비 고
C7: 부동산 | H7: 임 대 료 | O7: =SUM('3부.Ⅱ.1.1)'!O9:W24) -> 1728153260 | W7: =IFERROR(O7/$O$16,"") -> 0.9798418
H8: 분양수익 | O8: 0 | W8: =IFERROR(O8/$O$16,"") -> 0
H9: 기타수익 | O9: 0 | W9: =IFERROR(O9/$O$16,"") -> 0
C10: 부동산관련 유가증권 | H10: 평가이익 | O10: =SUM('3부.Ⅱ.2'!Q6:U10) -> 0 | W10: =IFERROR(O10/$O$16,"") -> 0
H11: 처분이익 | O11: =SUM('3부.Ⅱ.2'!K6:P10) -> 0 | W11: =IFERROR(O11/$O$16,"") -> 0
H12: 이자,배당금 등 | O12: =SUM('3부.Ⅱ.2'!V6:AA10) -> 0 | W12: =IFERROR(O12/$O$16,"") -> 0
C13: 현금 | H13: 현금관련수익 | O13: =SUM('3부.Ⅱ.3'!AF6:AF15) -> 9067297 | W13: =IFERROR(O13/$O$16,"") -> 0.0051410467
C14: 기타자산 | H14: 기타자산관련수익 | O14: =SUM('3부.Ⅱ.4'!O5:W9) -> 0 | W14: =IFERROR(O14/$O$16,"") -> 0
C15: 기타 | O15: 26485855 | W15: =IFERROR(O15/$O$16,"") -> 0.015017156
C16: 총 수 익 | O16: =SUM(O7:V15) -> 1763706412 | W16: =SUM(W7:AD15) -> 1
E17: ※ 부동산관련 유가증권 평가이익란에는 당기손익에 반영되는 평가이익만 포함
E18: ※ 기타란에는 자산별로 구분되지 않는 수익을 기재
AL19: ← 필요시 주석 기재
A23: * 입력도움말 1. 부동산(임대료, 분양수익), 부동산관련 유가증권(평가이익, 처분이익, 이자, 배당금 등) 등의 금액은 뒤 시트와 연결되어 있으므로 수정 불가합니다. 2. 부동산(기타수익), 기타 및 각 항목의 비고, 주석 사항만 직접 기재 바랍니다.

Sheet 3부.Ⅱ.1.1)
A2: Ⅱ. 부문별 상세내역
B4: 1. 부동산(지상권·임차권 등 부동산사용에 관한 권리도 포함)
C6: 1) 부동산 임대료 수익
C8: 부동산명 | O8: 임대료(원) | X8: 비율(%) | AC8: 비 고
C9: 1 | D9: ='2부.Ⅰ.1.1)'!D7 -> SK뷰파크 3차 | O9: 1728153260 | X9: =IFERROR(O9/SUM(O9:W24),"") -> 1
C10: 2 | D10: ='2부.Ⅰ.1.1)'!D8 -> 0 | X10: =IFERROR(O10/SUM(O9:W24),"") -> 0
C11: 3 | D11: ='2부.Ⅰ.1.1)'!D9 -> 0 | X11: =IFERROR(O11/SUM(O9:W24),"") -> 0
C12: 4 | D12: ='2부.Ⅰ.1.1)'!D10 -> 0 | X12: =IFERROR(O12/SUM(O9:W24),"") -> 0
C13: 5 | D13: ='2부.Ⅰ.1.1)'!D11 -> 0 | X13: =IFERROR(O13/SUM(O9:W24),"") -> 0
C14: 6 | D14: ='2부.Ⅰ.1.1)'!D12 -> 0 | X14: =IFERROR(O14/SUM(O9:W24),"") -> 0
C15: 7 | D15: ='2부.Ⅰ.1.1)'!D13 -> 0 | X15: =IFERROR(O15/SUM(O9:W24),"") -> 0
C16: 8 | D16: ='2부.Ⅰ.1.1)'!D14 -> 0 | X16: =IFERROR(O16/SUM(O9:W24),"") -> 0
C17: 9 | D17: ='2부.Ⅰ.1.1)'!D15 -> 0 | X17: =IFERROR(O17/SUM(O9:W24),"") -> 0
C18: 10 | D18: ='2부.Ⅰ.1.1)'!D16 -> 0 | X18: =IFERROR(O18/SUM(O9:W24),"") -> 0
C19: 11 | D19: ='2부.Ⅰ.1.1)'!D17 -> 0 | X19: =IFERROR(O19/SUM(O9:W24),"") -> 0
C20: 12 | D20: ='2부.Ⅰ.1.1)'!D18 -> 0 | X20: =IFERROR(O20/SUM(O9:W24),"") -> 0
C21: 13 | D21: ='2부.Ⅰ.1.1)'!D19 -> 0 | X21: =IFERROR(O21/SUM(O9:W24),"") -> 0
C22: 14 | D22: ='2부.Ⅰ.1.1)'!D20 -> 0 | X22: =IFERROR(O22/SUM(O9:W24),"") -> 0
C23: 15 | D23: ='2부.Ⅰ.1.1)'!D20 -> 0 | X23: =IFERROR(O23/SUM(O8:W23),"") -> 0
C24: 15 | D24: ='2부.Ⅰ.1.1)'!D21 -> 0 | X24: =IFERROR(O24/SUM(O9:W24),"") -> 0
AJ26: ← 필요시 주석 기재
A29: * 입력도움말 1. 부동산이 15개를 초과할 경우 행추가(복사한 셀 삽입)하여 추가 작성(16번부터 이어서 작성 하고 '부동산명'은 2부.Ⅰ.1.1) 시트와 동일하게 작성)하시기 바라며, 아직 소유한 부동산이 없을 경우 기재하지 마시기 바랍니다.

Sheet 3부.Ⅱ.1.2)
C2: 2) 부동산 처분수익
AD3: (단위 : 원)
C4: 부동산명 | I4: 취득 가액 | M4: 평가 손익 | P4: 상각 누계액 | T4: 장부 가액 | X4: 매매 가액 | AB4: 처분 손익 | AF4: 비율 (%) | AI4: 비고
C5: 1 | AF5: =IFERROR(AB5/SUM(AB5:AE9),"")
C6: 2 | AF6: =IFERROR(AB6/SUM(AB5:AE9),"")
C7: 3 | AF7: =IFERROR(AB7/SUM(AB5:AE9),"")
C8: 4 | AF8: =IFERROR(AB8/SUM(AB5:AE9),"")
C9: 5 | AF9: =IFERROR(AB9/SUM(AB5:AE9),"")
E10: ※ 부동산개발사업을 통한 분양수익은 비고란에 구분 기재
AL11: ← 필요시 주석 기재
A15: * 입력도움말 1. 필요시 행추가(복사한 셀 삽입)하여 추가 작성하시기 바랍니다. 2. 해당사항 없는 항목은 기재하지 마시기 바랍니다.

Sheet 3부.Ⅱ.2
B2: 2. 부동산 관련 유가증권 처분손익, 평가손익, 이자 및 배당금
AF4: (단위 : 원)
C5: 구 분 | K5: 매매손익 | Q5: 평가손익 | V5: 이자 및 배당금 | AB5: 비율 (%) | AG5: 비 고
C6: 1 | AB6: =IFERROR(SUM(K6:AA6)/SUM(K6:AA10),"")
C7: 2 | AB7: =IFERROR(SUM(K7:AA7)/SUM(K6:AA10),"")
C8: 3 | AB8: =IFERROR(SUM(K8:AA8)/SUM(K6:AA10),"")
C9: 4 | AB9: =IFERROR(SUM(K9:AA9)/SUM(K6:AA10),"")
C10: 5 | AB10: =IFERROR(SUM(K10:AA10)/SUM(K6:AA10),"")
AL12: ← 필요시 주석 기재
A15: * 입력도움말 1. 필요시 행추가(복사한 셀 삽입)하여 추가 작성하시기 바랍니다. 2. 해당사항 없는 항목은 기재하지 마시기 바랍니다.

Sheet 3부.Ⅱ.3
B2: 3. 현금(금융기관 예치내역 포함)
AD4: (단위 : %, 원)
E5: 예치 금융상품 | M5: 예치 금융회사 | V5: 이자율 | Z5: 전분기예치금 발생 수익 | AF5: 당분기예치금 발생 수익 | AL5: 비고
E6: MMDA | M6: 국민은행 | V6: 변동금리 | Z6: 1083542 | AF6: 115570
E7: MMDA | M7: 기업은행 | V7: 변동금리 | Z7: 7279147 | AF7: 8239297
E8: MMDA | M8: 우리은행 | V8: 변동금리 | Z8: 45232 | AF8: =120456+98630 -> 219086
E9: MMDA | M9: 하나은행 | V9: 변동금리 | Z9: 504201 | AF9: 493344
AP11: ← 필요시 주석 기재
A14: * 입력도움말 1. 필요시 행추가(복사한 셀 삽입)하여 추가 작성하시기 바랍니다. 2. 해당사항 없는 항목은 기재하지 마시기 바랍니다.

Sheet 3부.Ⅱ.4
B2: 4. 기타 자산 수익
C4: 구 분 | O4: 금 액(원) | X4: 비율(%) | AC4: 비 고
C5: 1 | X5: =IFERROR(O5/SUM(O5:W9),"")
C6: 2 | X6: =IFERROR(O6/SUM(O5:W9),"")
C7: 3 | X7: =IFERROR(O7/SUM(O5:W9),"")
C8: 4 | X8: =IFERROR(O8/SUM(O5:W9),"")
C9: 5 | X9: =IFERROR(O9/SUM(O5:W9),"")
AJ11: ← 필요시 주석 기재
A14: * 입력도움말 1. 필요시 행추가(복사한 셀 삽입)하여 추가 작성하시기 바랍니다. 2. 해당사항 없는 항목은 기재하지 마시기 바랍니다.

Sheet 3부.Ⅲ
A2: Ⅲ. 총 비용 및 지출구조
C4: 구 분 | O4: 금액(원) | W4: 비율(%) | AE4: 비 고
C5: 부동산 | H5: 분양원가 | W5: =IFERROR(O5/$O$14,"") -> 0
H6: 감가상각비 | O6: 1068169056 | W6: =IFERROR(O6/$O$14,"") -> 0.36265523
H7: 기타비용 | O7: 389817851 | W7: =IFERROR(O7/$O$14,"") -> 0.13234748
C8: 부동산관련 유가증권 | H8: 평가손실 | W8: =IFERROR(O8/$O$14,"") -> 0
H9: 처분손실 | W9: =IFERROR(O9/$O$14,"") -> 0
H10: 기타비용 | W10: =IFERROR(O10/$O$14,"") -> 0
C11: 현금 | H11: 현금관련비용 | W11: =IFERROR(O11/$O$14,"") -> 0
C12: 기타자산 | H12: 기타자산관련비용 | W12: =IFERROR(O12/$O$14,"") -> 0
C13: 기타 | O13: 1487425087 | W13: =IFERROR(O13/$O$14,"") -> 0.50499729
C14: 총 비 용 | O14: =SUM(O5:V13) -> 2945411994 | W14: =SUM(W5:AD13) -> 1
E15: ※ 부동산관련 유가증권 평가손실란에는 당기손익에 반영되는 평가손실만 포함
E16: ※ 기타란에는 자산별로 구분되지 않는 비용을 기재
AL17: ← 필요시 주석 기재

Sheet 3부.Ⅳ.1
A2: Ⅳ. 상세내역
B4: 1. 부동산 영업경비
O6: (단위 : 원)
C7: 구 분 | K7: 합계 | L7: SK뷰파크 3차 | M7: 현금 | N7: 기타자산 | O7: 기타
C8: 분양원가 | K8: =SUM(L8:Z8) -> 0 | L8: 0
C9: 급여 | K9: =SUM(L9:Z9) -> 4500000 | L9: 4500000
C10: 상여 | K10: =SUM(L10:Z10) -> 0 | L10: 0
C11: 퇴직급여 | K11: =SUM(L11:Z11) -> 0 | L11: 0
C12: 복리후생비 | K12: =SUM(L12:Z12) -> 0 | L12: 0
C13: 자산관리수수료 (AMC수수료) | K13: =SUM(L13:Z13) -> 60000000 | L13: 60000000
C14: 부동산관리수수료 (PM, FM 등) | K14: =SUM(L14:Z14) -> 91453864 | L14: 91453864
C15: 자산보관수수료 | K15: =SUM(L15:Z15) -> 7500000 | L15: 7500000
C16: 일반사무 위탁수수료 | K16: =SUM(L16:Z16) -> 21250000 | O16: 21250000
C17: 기타지급수수료 | K17: =SUM(L17:Z17) -> 160018523 | L17: 160018523
C18: 유형자산 감가상각비 | K18: =SUM(L18:Z18) -> 1068169056 | L18: 1068169056
C19: 투자부동산 감가상각비 | K19: =SUM(L19:Z19) -> 0 | L19: 0
C20: 무형자산 감가상각비 | K20: =SUM(L20:Z20) -> 0
C21: 세금과공과 | K21: =SUM(L21:Z21) -> 108813 | L21: 108813
C22: 광고선전비 | K22: =SUM(L22:Z22) -> 0 | L22: 0
C23: 보험료 | K23: =SUM(L23:Z23) -> 4428809 | L23: 4428809
C24: 임차료 | K24: =SUM(L24:Z24) -> 0 | L24: 0
C25: 교육훈련비 | K25: =SUM(L25:Z25) -> 0 | L25: 0
C26: 여비교통비 | K26: =SUM(L26:Z26) -> 0 | L26: 0
C27: 통신비 | K27: =SUM(L27:Z27) -> 0 | L27: 0
C28: 수선유지비 | K28: =SUM(L28:Z28) -> 12696500 | L28: 12696500
C29: 청소비 | K29: =SUM(L29:Z29) -> 0 | L29: 0
C30: 수도광열비 | K30: =SUM(L30:Z30) -> 0 | L30: 0
C31: 대손상각비 | K31: =SUM(L31:Z31) -> 0 | L31: 0
C32: 접대비 | K32: =SUM(L32:Z32) -> 0 | L32: 0
... C36: 기타영업비용 | K36: =SUM(L36:Z36) -> 49111342 | L36: 49111342
P38: ← 필요시 주석 기재
A41: * 입력도움말 1. 필요시 열추가(복사한 셀 삽입)하여 추가 작성하시기 바랍니다. 2. 해당사항 없는 항목은 기재하지 마시기 바랍니다. 3. 부동산과 부동산관련 유가증권은 각각 기재하시되, 현금과 기타자산은 하나의 항목으로 기재바랍니다.

Sheet 3부.Ⅳ.2
B2: 2. 업무위탁비용
C4: 구 분 | I4: 종 류 | L4: 위탁기관 | N4: 대상물건, 위탁비율, 계산방법, 지급시기 및 지급방법 | AF4: 위탁비용 (원)
C5: 자산관리회사 | I5: 기본보수(매입) | L5: 대한토지신탁(주) | N5: 매입수수료: 710,000천원
I6: 성과보수(매입)
I7: 기본보수(운용) | N7: 운용기간: 연간 240,000천원 | AF7: ='5부.Ⅱ'!O24 -> 60000000
I8: 성과보수(운용)
I9: 기본보수(매각)
I10: 성과보수(매각)
C11: 사무수탁회사 | I11: 위탁보수 | L11: 신한아이타스(주) | N11: 1. 건설기간 : 연간 37,000천원_x000D_ 2. 운용기간 : 연간 85,000천원 | AF11: ='5부.Ⅱ'!O27 -> 21250000
C12: 자산보관회사 | I12: 위탁보수 | L12: NH투자증권(주) | N12: 1. 건설기간 : 연간 30,000천원_x000D_ 2. 운용기간 : 연간 30,000천원 | AF12: ='5부.Ⅱ'!O26 -> 7500000
C13: 시설관리회사 | I13: 위탁보수 | L13: 자이에스앤디㈜ | N13: 월 812,700원
C14: 임대관리회사 | I14: 위탁보수 | L14: ㈜메이트플러스 | N14: 주택임대 위.수탁 관리: 29,187,300원_x000D_ 상가임대 위.수탁 관리: 400,000원_x000D_ 상가 임차인모집: 2,844,000원
C15: 재산관리회사 | I15: 위탁보수
C16: 합 계 | AF16: =SUM(AF5:AK15) -> 88750000
E17: ※ 위탁보수 : 자산관리회사, 자산보관회사 등 위탁기관 및 대상물건, 위탁비율, 계산방법, 지급시기 및 지급방법을 위탁기관 별로 구체적으로 기재하며, 해당 기간의 발생주의에 따른 금액을 위탁비용으로 기재
AL18: ← 필요시 주석 기재
A22: * 입력도움말 1. 표 안의 행은 입력사항에 맞춰 높이를 조절하시면 됩니다. 2. 부동산별로 위탁수수료 계산방법이 다를 경우에는 대상물건 등의 해당 셀 안의 내용입력시 부동산별로 입력하시면 됩니다.

Sheet 3부.Ⅴ
A2: Ⅴ. 자기자본수익률
AF4: (단위 : %)
C5: 구 분 | N5: 제 | O5: =표지!E8 -> 6 | P5: =표지!F8 -> 기 | Q5: =표지!G8 -> 1 | R5: 분 | S5: 기 | T5: 제 | U5: 5 | V5: 기 | W5: 4 | X5: 분 | Y5: 기 | Z5: 제 | AA5: 5 | AB5: 기 | AC5: 3 | AD5: 분 | AE5: 기 | AF5: 제 | AG5: 5 | AH5: 기 | AI5: 2 | AJ5: 분 | AK5: 기
C6: 당해회사수익률 | N6: =IFERROR((((1+(N12/((N14+N15)/2)))^(12/N13))-1)*100,"") -> -4.1372716 | T6: =IFERROR((((1+(T12/((T14+T15)/2)))^(12/T13))-1)*100,"") -> -5.5827097 | Z6: =IFERROR((((1+(Z12/((Z14+Z15)/2)))^(12/Z13))-1)*100,"") -> -5.9977007 | AF6: =IFERROR((((1+(AF12/((AF14+AF15)/2)))^(12/AF13))-1)*100,"") -> -7.4348259
E7: ※ 수익률은 회계적 자기자본이익률(Return on Equity)로서 연단위로 환산하며 다음과 같이 계산함 1사분기수익률={1+(당분기순이익/[(연기초납입자본금+분기말납입자본금)/2])}^4 -1 2사분기수익률={1+(당반기순이익/[(연기초납입자본금+분기말납입자본금)/2])}^2 -1 3사분기수익률={1+(1분기부터 3분기까지의 순이익/[(연기초납입자본금+분기말납입자본금)/2])}^4/3 -1 4사분기수익률=(당기순이익/[(연기초납입자본금+분기말납입자본금)/2]) ※ 납입자본금 = 자본금 + 자본잉여금 ※ 상기산식은 1기 사업연도가 12개월일 경우를 가정한 것으로, 1기의 사업연도가 6개월일 경우 상기 산식을 준용하여 최근 1년간 분기별 연환산 자기자본수익율을 제시할 것 ※ 수익률은 소수점 둘째 자리까지 기재할 것
AL8: ← 필요시 주석 기재
C10: * 산출근거자료
C11: 구 분 | N11: 제 | O11: =O5 -> 6 | P11: =P5 -> 기 | Q11: =Q5 -> 1 | R11: 분 | S11: 기 | T11: 제 | U11: =U5 -> 5 | V11: =V5 -> 기 | W11: =W5 -> 4 | X11: 분 | Y11: 기 | Z11: 제 | AA11: =AA5 -> 5 | AB11: =AB5 -> 기 | AC11: =AC5 -> 3 | AD11: 분 | AE11: 기 | AF11: 제 | AG11: =AG5 -> 5 | AH11: =AH5 -> 기 | AI11: =AI5 -> 2 | AJ11: 분 | AK11: 기
C12: 분기누적순이익 | N12: ='5부.Ⅱ'!U73 -> -1181705582 | T12: -6278403822 | Z12: -5097739736 | AF12: -4261398063
C13: 분기누적개월수 | N13: 3 | T13: 12 | Z13: 9 | AF13: 6
C14: 분기초납입자본금 | N14: 112461585938 | T14: 112461585938 | Z14: 112461585938 | AF14: 112461585938
C15: 분기말납입자본금 | N15: ='5부.Ⅰ'!U112+'5부.Ⅰ'!U115 -> 112461585938 | T15: 112461585938 | Z15: 112461585938 | AF15: 112461585938
A17: * 입력도움말 1. 기수는 표 왼쪽부터 최근 기수를 입력하여 주시기 바랍니다.

Sheet 4부.Ⅰ.1
A2: 제 4 부 부동산개발사업에 대한 투자 현황
A4: Ⅰ. 부동산개발사업의 현황
B6: 1. 개요
AD8: (단위 : 백만원)
C9: 개발사업명 | H9: 소재지 | M9: 개발규모(㎡) | Q9: 준공 예정일 | U9: 공정률 | X9: 총사업비 | AB9: 총 투자금액 | AF9: 기 투자금액 | AJ9: 비고 | AL9: 투자대상
E15: ※ 1. 총사업비는 당해 개발사업의 총사업비를 말함 2. 총투자금액은 당해 부동산투자회사가 투자하여야 하는 총금액을 말함 3. 기투자금액이란 당해 부동산투자회사가 이미 투자한 총금액을 말함
AL16: ← 필요시 주석 기재
A19: * 입력도움말 1. 필요시 행추가(복사한 셀 삽입)하여 추가 작성하시기 바랍니다. 2. 해당사항 없는 항목은 기재하지 마시기 바랍니다. 3. 개발규모, 공정률, 총사업비, 총투자금액, 기투자금액은 숫자로만 입력하시고, 자세한 사항은 비고 혹은 4부.Ⅰ.2 시트를 이용 하시기 바랍니다. 4. 준공예정일은 YYYY-MM-DD 형식으로 입력 바랍니다. 5. AL열 투자대상을 선택하여 주시기 바랍니다.

Sheet 4부.Ⅰ.2
B2: 2. 당분기에 추진중인 부동산개발사업 현황
B4: 1) 부동산개발사업명(1)
AL5: - 사업계획서가 작성되어 이사회 결의를 거친 프로젝트 및 건설중인 프로젝트를 의미하며, 이 경우 기 작성된 사업계획서를 바탕으로 하여 다음의 순으로 내용을 개략 나타냄 · 사업의 개요 · 자금의 조달, 투자 및 회수에 관한 사항 · 추정손익에 관한 사항 · 사업의 위험에 관한 사항 · 공사시공 등 외용역에 관한 사항 · 그 밖에 투자자를 보호하기 위하여 필요한 사항
B11: 2) 부동산개발사업명(2)
B18: 3) 장래 예정인 부동산개발사업 현황
AL19: - 사업계획서 작성 이전 단계에 있으나, 개발 추진가능성이 상당하고 정보의 공개가 당사의 이익에 해가 되지 않는다면, 대상 프로젝트에 대한 개략적 정보를 나타냄
A26: * 입력도움말 1. 필요시 행추가(복사한 셀 삽입)하여 추가 작성하시기 바랍니다. 2. 해당사항 없는 항목은 기재하지 마시기 바랍니다.

Sheet 5부.Ⅰ
B2: 제 5 부 재무제표에 관한 사항
B4: Ⅰ. 재무상태표
M6: 당기 | P6: 제 | Q6: =표지!E8 -> 6 | R6: 기 | S6: =표지!G8 -> 1 | T6: 분기 | W6: 기준일 | AA6: =표지!G6 -> 2021.03.31 | AE6: 현재
M7: 전기 | P7: 제 | Q7: =Q6-1 -> 5 | R7: 기 | T7: 기말 | W7: 기준일 | AA7: 2020.12.31 | AE7: 현재
D8: 회사명: | G8: =표지!E28 -> 대한제4호뉴스테이위탁관리부동산투자회사 | AI8: (단위: 원)
D9: 과 목 | R9: 제 | S9: =Q6 -> 6 | T9: (당)기 | V9: =S6 -> 1 | W9: =T6 -> 분기 | AD9: 제 | AE9: =Q7 -> 5 | AF9: (전)기 | AI9: =T7 -> 기말
O10: 금 액 | AA10: 금 액
D11: I. 자 산
A12: A000000 | D12: 1. 유동자산 | U12: =+O13+O14+O15+O16+O17+O18+O19+O20+O21+O22+O23+O24+O25+O26+O32+O33+O34+O35 -> 39228368619 | AG12: =+AA13+AA14+AA15+AA16+AA17+AA18+AA19+AA20+AA21+AA22+AA23+AA24+AA25+AA26+AA32+AA33+AA34+AA35 -> 38690225158
A13: A011000 | D13: 1) 현금및현금성자산 | O13: 34850762846 | AA13: 34296052081
A14: A012000 | D14: 2) 단기금융상품 | O14: 2216959981 | AA14: 2173358053
A15: A013000 | D15: 3) 매출채권
A16: A014000 | D16: 4) 미청구공사
A17: A015000 | D17: 5) 미수수익 | O17: 9590502 | AA17: 1961549
A18: A016000 | D18: 6) 분양미수금
A19: A017000 | D19: 7) 기타미수금 | O19: 391598246 | AA19: 367132404
A20: A018000 | D20: 8) 선급금
A21: A019000 | D21: 9) 선급비용 | O21: 1753183504 | AA21: 1845667811
A22: A020000 | D22: 10) 부가세대급금
A23: A021000 | D23: 11) 선급법인세 | O23: 6273540 | AA23: 6053260
A24: A022000 | D24: 12) 단기대여금
A25: A023000 | D25: 13) 유가증권
A26: A024000 | D26: 14) 재고자산 | O26: =+O27+O28+O29+O30+O31 -> 0 | AA26: =+AA27+AA28+AA29+AA30+AA31 -> 0
A27: A024110 | D27: 용지
A28: A024120 | D28: 미성공사
A29: A024130 | D29: 완성주택
A30: A024140 | D30: 미완성주택
A31: A024990 | D31: 기타
A32: A025000 | D32: 15) 유동파생상품자산
A33: A026000 | D33: 16) 유동보증금
A34: A027000 | D34: 17) 매각예정 비유동자산
A35: A099000 | D35: 18) 기타유동자산
A36: B000000 | D36: 2. 비유동자산 | U36: =+O37+O38+O39+O40+O46+O60+O71+O75+O76+O77+O78 -> 353484899445 | AG36: =+AA37+AA38+AA39+AA40+AA46+AA60+AA71+AA75+AA76+AA77+AA78 -> 354553068501
A37: B011000 | D37: 1) 장기금융상품
A38: B012000 | D38: 2) 장기매출채권
A39: B013000 | D39: 3) 장기대여금
A40: B014000 | D40: 4) 유가증권 | O40: =+O41+O42+O43+O44+O45 -> 0 | AA40: =+AA41+AA42+AA43+AA44+AA45 -> 0
A41: B014110 | D41: 매도가능금융자산
A42: B014120 | D42: 만기보유금융자산
A43: B014130 | D43: 관계기업투자
A44: B014140 | D44: 종속기업투자
A45: B014990 | D45: 기타
A46: B015000 | D46: 5) 유형자산 | O46: =+O47+O48+O49+O50+O51+O52+O53+O54+O55+O56+O57+O58+O59 -> 353205669445 | AA46: =+AA47+AA48+AA49+AA50+AA51+AA52+AA53+AA54+AA55+AA56+AA57+AA58+AA59 -> 354273838501
A47: B015110 | D47: 토지 | O47: 149182287076 | AA47: 149182287076
A48: B015111 | D48: 손상차손누계액(유형자산-토지)
A49: B015112 | D49: 기타(유형자산-토지)
A50: B015120 | D50: 건물 | O50: 213633811222 | AA50: 213633811222
A51: B015121 | D51: 감가상각누계액(유형자산-건물) | O51: -9610428853 | AA51: -8542259797
A52: B015122 | D52: 손상차손누계액(유형자산-건물)
A53: B015123 | D53: 기타(유형자산-건물)
A54: B015130 | D54: 건설중인자산
A55: B015131 | D55: 기타(건설중인자산)
A56: B015990 | D56: 기타유형자산
A57: B015991 | D57: 감가상각누계액(유형자산-기타유형자산)
A58: B015992 | D58: 손상차손누계액(유형자산-기타유형자산)
A59: B015993 | D59: 기타(유형자산-기타유형자산)
A60: B016000 | D60: 6) 투자부동산 | O60: =+O61+O62+O63+O64+O65+O66+O67+O68+O69+O70 -> 0 | AA60: =+AA61+AA62+AA63+AA64+AA65+AA66+AA67+AA68+AA69+AA70 -> 0
A61: B016110 | D61: 토지
A62: B016111 | D62: 손상차손누계액(투자부동산-토지)
A63: B016112 | D63: 기타(투자부동산-토지)
A64: B016120 | D64: 건물
A65: B016121 | D65: 감가상각누계액(투자부동산-건물)
A66: B016122 | D66: 손상차손누계액(투자부동산-건물)
A67: B016123 | D67: 기타(투자부동산-건물)
A68: B016130 | D68: 건설중인자산
A69: B016131 | D69: 기타(건설중인자산)
A70: B016990 | D70: 기타
A71: B017000 | D71: 7) 무형자산 | O71: =+O72+O73+O74 -> 0 | AA71: =+AA72+AA73+AA74 -> 0
A72: B017110 | D72: 소프트웨어
A73: B017120 | D73: 회원권
A74: B017990 | D74: 기타
A75: B018000 | D75: 8) 비유동보증금 | O75: 279230000 | AA75: 279230000
A76: B019000 | D76: 9) 비유동파생상품자산
A77: B020000 | D77: 10) 금융리스채권
A78: B099000 | D78: 110) 기타비유동자산
A79: C000000 | D79: 자 산 총 계 | U79: =U12+U36 -> 392713268064 | AG79: =AG12+AG36 -> 393243293659
D80: Ⅱ. 부채
A81: D000000 | D81: 1. 유동부채 | U81: =+O82+O83+O84+O85+O86+O87+O88+O89+O90+O91+O92+O93+O94+O95+O96+O97+O98+O99 -> 401221084 | AG81: =+AA82+AA83+AA84+AA85+AA86+AA87+AA88+AA89+AA90+AA91+AA92+AA93+AA94+AA95+AA96+AA97+AA98+AA99 -> 322681865
A82: D011000 | D82: 1) 매입채무
A83: D012000 | D83: 2) 초과청구공사
A84: D013000 | D84: 3) 분양선수금
A85: D014000 | D85: 4) 기타선수금 | O85: 131966706 | AA85: 93512768
A86: D015000 | D86: 5) 선수수익
A87: D016000 | D87: 6) 미지급금 | O87: 146044320 | AA87: 106108527
A88: D017000 | D88: 7) 미지급비용 | O88: 120626565 | AA88: 120626565
A89: D018000 | D89: 8) 예수금 | O89: 1219180 | AA89: 1219180
A90: D019000 | D90: 9) 부가세예수금 | O90: 1364313 | AA90: 1214825
A91: D020000 | D91: 10) 미지급법인세
A92: D021000 | D92: 11) 미지급배당금
A93: D022000 | D93: 12) 단기차입금
A94: D023000 | D94: 13) 유동성장기차입금
A95: D024000 | D95: 14) 유동사채
A96: D025000 | D96: 15) 유동보증금
A97: D026000 | D97: 16) 유동파생상품부채
A98: D027000 | D98: 17) 유동충당부채
A99: D099000 | D99: 18) 기타유동부채
A100: E000000 | D100: 2. 비유동부채 | U100: =+O101+O102+O103+O104+O105+O106+O107+O108+O109 -> 306107703840 | AG100: =+AA101+AA102+AA103+AA104+AA105+AA106+AA107+AA108+AA109 -> 305534563072
A101: E011000 | D101: 1) 장기매입채무
A102: E012000 | D102: 2) 장기미지급금
A103: E013000 | D103: 3) 장기차입금 | O103: 210760000000 | AA103: 210760000000
...

Sheet 5부.Ⅱ
B2: Ⅱ. 손익계산서
J4: 당기 | L4: 제 | M4: ='5부.Ⅰ'!Q6 -> 6 | N4: 기 | O4: ='5부.Ⅰ'!S6 -> 1 | P4: 분기 | S4: 시작일 | V4: 2021.01.01 | Z4: 종료일 | AC4: =표지!G6 -> 2021.03.31
J5: 전기 | L5: 제 | M5: ='5부.Ⅰ'!Q7 -> 5 | N5: 기 | O5: =IF(OR(M4=1),"-",O4) -> 1 | P5: 분기 | S5: 시작일 | V5: 2020.01.01 | Z5: 종료일 | AC5: 2020.03.31
D6: 회사명: | G6: =표지!E28 -> 대한제4호뉴스테이위탁관리부동산투자회사 | AI6: (단위: 원)
D7: 과 목 | S7: 제 | T7: =M4 -> 6 | U7: (당)기 | AE7: 제 | AF7: =M5 -> 5 | AG7: (전)기
A8: 코 드 | O8: 금 액 | AA8: 금 액
O9: 최근3개월 | U9: 당기누적 | AA9: 최근3개월 | AG9: 전기누적
A10: N000000 | D10: Ⅰ. 영업수익 | O10: =+O11+O12+O13+O14+O15+O16+O17 -> 1728153260 | U10: =+U11+U12+U13+U14+U15+U16+U17 -> 1728153260 | AA10: =+AA11+AA12+AA13+AA14+AA15+AA16+AA17 -> 566426290 | AG10: =+AG11+AG12+AG13+AG14+AG15+AG16+AG17 -> 566426290
A11: N011000 | D11: 1) 분양수익
A12: N012000 | D12: 2) 임대료수익 | O12: 1728153260 | U12: 1728153260 | AA12: 566426290 | AG12: 566426290
A13: N013000 | D13: 3) 관리비수익
A14: N014000 | D14: 4) 부동산평가수익
A15: N015000 | D15: 5) 배당금수익
A16: N016000 | D16: 6) 금융리스이자수익
A17: N099000 | D17: 7) 기타영업수익
A18: O000000 | D18: Ⅱ. 영업비용 | O18: =+O19+O20+O21+O22+O23+O24+O25+O26+O27+O28+O29+O30+O31+O32+O33+O34+O35+O36+O37+O38+O39+O40+O41+O42+O43+O44+O45+O46+O47 -> 1479236907 | U18: =+U19+U20+U21+U22+U23+U24+U25+U26+U27+U28+U29+U30+U31+U32+U33+U34+U35+U36+U37+U38+U39+U40+U41+U42+U43+U44+U45+U46+U47 -> 1479236907 | AA18: =+AA19+AA20+AA21+AA22+AA23+AA24+AA25+AA26+AA27+AA28+AA29+AA30+AA31+AA32+AA33+AA34+AA35+AA36+AA37+AA38+AA39+AA40+AA41+AA42+AA43+AA44+AA45+AA46+AA47 -> 1425633732 | AG18: =+AG19+AG20+AG21+AG22+AG23+AG24+AG25+AG26+AG27+AG28+AG29+AG30+AG31+AG32+AG33+AG34+AG35+AG36+AG37+AG38+AG39+AG40+AG41+AG42+AG43+AG44+AG45+AG46+AG47 -> 1425633732
A19: O011000 | D19: 1) 분양원가
A20: O012000 | D20: 2) 급여 | O20: 4500000 | U20: 4500000 | AA20: 4500000 | AG20: 4500000
A21: O013000 | D21: 3) 상여
A22: O014000 | D22: 4) 퇴직급여
A23: O015000 | D23: 5) 복리후생비
A24: O016000 | D24: 6) 자산관리수수료(AMC수수료) | O24: 60000000 | U24: 60000000 | AA24: 60000000 | AG24: 60000000
A25: O017000 | D25: 7) 부동산관리수수료(PM, FM 등) | O25: 91453864 | U25: 91453864 | AA25: 91200000 | AG25: 91200000
A26: O018000 | D26: 8) 자산보관수수료 | O26: 7500000 | U26: 7500000 | AA26: 7500000 | AG26: 7500000
A27: O019000 | D27: 9) 일반사무위탁수수료 | O27: 21250000 | U27: 21250000 | AA27: 21250000 | AG27: 21250000
A28: O020000 | D28: 10) 기타지급수수료 | O28: 160018523 | U28: 160018523 | AA28: 108562215 | AG28: 108562215
A29: O021000 | D29: 11) 유형자산감가상각비 | O29: 1068169056 | U29: 1068169056 | AA29: 1068169056 | AG29: 1068169056
A30: O022000 | D30: 12) 투자부동산감가상각비
A31: O023000 | D31: 13) 무형자산감가상각비
A32: O024000 | D32: 14) 세금과공과 | O32: 108813 | U32: 108813 | AA32: 129393 | AG32: 129393
A33: O025000 | D33: 15) 광고선전비 | AA33: 12953000 | AG33: 12953000
A34: O026000 | D34: 16) 보험료 | O34: 4428809 | U34: 4428809 | AA34: 6517973 | AG34: 6517973
A35: O027000 | D35: 17) 임차료
A36: O028000 | D36: 18) 교육훈련비
A37: O029000 | D37: 19) 여비교통비
A38: O030000 | D38: 20) 통신비
A39: O031000 | D39: 21) 수선유지비 | O39: 12696500 | U39: 12696500
A40: O032000 | D40: 22) 청소비
A41: O033000 | D41: 23) 수도광열비
A42: O034000 | D42: 24) 대손상각비
A43: O035000 | D43: 25) 접대비
A44: O036000 | D44: 26) 판매촉진비
A45: O037000 | D45: 27) 이자비용
A46: O038000 | D46: 28) 금융리스이자비용
A47: O099000 | D47: 29) 기타영업비용 | O47: 49111342 | U47: 49111342 | AA47: 44852095 | AG47: 44852095
A48: P000000 | D48: Ⅲ. 영업이익 | O48: =O10-O18 -> 248916353 | U48: =U10-U18 -> 248916353 | AA48: =AA10-AA18 -> -859207442 | AG48: =AG10-AG18 -> -859207442
A49: Q000000 | D49: Ⅳ. 영업외수익 | O49: =+O50+O51+O52+O53+O54+O55+O56+O57+O58+O59 -> 35553152 | U49: =+U50+U51+U52+U53+U54+U55+U56+U57+U58+U59 -> 35553152 | AA49: =+AA50+AA51+AA52+AA53+AA54+AA55+AA56+AA57+AA58+AA59 -> 48639887 | AG49: =+AG50+AG51+AG52+AG53+AG54+AG55+AG56+AG57+AG58+AG59 -> 48639887
A50: Q011000 | D50: 1) 이자수익 | O50: 9067297 | U50: 9067297 | AA50: 700051 | AG50: 700051
A51: Q012000 | D51: 2) 배당금수익
A52: Q013000 | D52: 3) 유가증권관련이익(처분이익 등)
A53: Q014000 | D53: 4) 파생상품관련이익(처분이익 등)
A54: Q015000 | D54: 5) 유형자산관련이익(처분이익 등)
A55: Q016000 | D55: 6) 투자부동산관련이익(처분이익 등)
A56: Q017000 | D56: 7) 외화환산이익
A57: Q018000 | D57: 8) 외환차익
A58: Q019000 | D58: 9) 충당부채환입
A59: Q099000 | D59: 10) 기타영업외수익 | O59: 26485855 | U59: 26485855 | AA59: 47939836 | AG59: 47939836
A60: R000000 | D60: Ⅴ. 영업외비용 | O60: =+O61+O62+O63+O64+O65+O66+O67+O68+O69+O70 -> 1466175087 | U60: =+U61+U62+U63+U64+U65+U66+U67+U68+U69+U70 -> 1466175087 | AA60: =+AA61+AA62+AA63+AA64+AA65+AA66+AA67+AA68+AA69+AA70 -> 1609371465 | AG60: =+AG61+AG62+AG63+AG64+AG65+AG66+AG67+AG68+AG69+AG70 -> 1609371465
A61: R011000 | D61: 1) 이자비용 | O61: 1466175087 | U61: 1466175087 | AA61: 1609371465 | AG61: 1609371465
A62: R012000 | D62: 2) 유가증권관련손실(처분손실 등)
A63: R013000 | D63: 3) 파생상품관련손실(처분손실 등)
A64: R014000 | D64: 4) 유형자산관련손실(처분손실 등)
A65: R015000 | D65: 5) 투자부동산관련손실(처분손실 등)
A66: R016000 | D66: 6) 외화환산손실
A67: R017000 | D67: 7) 외환차손
A68: R018000 | D68: 8) 기부금
A69: R019000 | D69: 9) 충당부채전입
A70: R099000 | D70: 10) 기타영업외비용
A71: S000000 | D71: Ⅵ. 법인세비용차감전순이익(손실) | O71: =O48+O49-O60 -> -1181705582 | U71: =U48+U49-U60 -> -1181705582 | AA71: =AA48+AA49-AA60 -> -2419939020 | AG71: =AG48+AG49-AG60 -> -2419939020
A72: T000000 | D72: Ⅶ. 법인세비용(수익)
A73: U000000 | D73: Ⅷ. 당기순이익(손실) | O73: =O71-O72 -> -1181705582 | U73: =U71-U72 -> -1181705582 | AA73: =AA71-AA72 -> -2419939020 | AG73: =AG71-AG72 -> -2419939020
A74: V000000 | D74: Ⅸ. 기타포괄이익(손실) | O74: =+O75+O76+O77 -> 0 | U74: =+U75+U76+U77 -> 0 | AA74: =+AA75+AA76+AA77 -> 0 | AG74: =+AG75+AG76+AG77 -> 0
A75: V011000 | D75: 1) 확정급여채무 관련 기타포괄손익
A76: V012000 | D76: 2) 유가증권 관련 기타포괄손익
A77: V099000 | D77: 3) 기타의 기타포괄손익
A78: W000000 | D78: Ⅹ. 총포괄이익(손실) | O78: =O73+O74 -> -1181705582 | U78: =U73+U74 -> -1181705582 | AA78: =AA73+AA74 -> -2419939020 | AG78: =AG73+AG74 -> -2419939020
A79: X000000 | D79: ⅩⅠ. 주당이익 | O79: -222 | U79: -222 | AA79: -455 | AG79: -455
AM81: ← 필요시 주석 기재
B84: * 입력도움말 1. 계정과목은 수정하지 마시기 바랍니다.(일치하는 계정과목이 없는경우 해당 대분류 아래 '기타'에 입력) 2. 해당하는 계정과목에만 금액을 입력하시고, 그외는 기재하지 마시기 바랍니다. 3. 전기는 당기와 동일한 기간으로 입력하시기 바랍니다. (예) : 3분기 투자보고서인 경우, 당기 최근3개월(당기 3분기 발생액), 당기누적(당기 1~3분기 누적액) 전기 최근3개월(전기 3분기 발생액), 전기누적(전기 1~3분기 누적액) 4. 회사별로 계정과목 대분류가 다를 수 있습니다. 각 회사 기존 감사보고서상 재무제표와 대분류(영업수익, 영업비용, 영업외수익, 영업외비용 등)를 일치시켜 주시기 바랍 니다. 예를들어 투자부동산평가이익을 영업수익으로 분류하는 회사는 Ⅰ. 영업수익 아래 4. 기타영업수익으로 입력하고, 투자부동산평가이익을 영업외수익으로 분류하는 회사는 Ⅳ. 영업외수익 아래 6. 투자부동산관련이익(처분이익 등)으로 분류하시면 됩니다. 5. 매출원가와 판매비와관리비는 영업비용에 넣으시기 바랍니다. 6. 당기순손실, 기타포괄손실 등 음수인 계정과목은 숫자 앞에 '-'를 붙여 음수로 입력하시기 바랍니다. 7. 표 왼쪽에 적혀있는 코드는 수정 및 삭제하지 마시기 바랍니다.

Sheet 5부.Ⅲ
B2: Ⅲ. 이익잉여금처분계산서
G3: 이익잉여금처분계산서는 결산기 작성대상으로 분기에는 작성하지 않습니다.
J4: 당기 | L4: 제 | M4: ='5부.Ⅰ'!Q6 -> 6 | N4: 기 | O4: ='5부.Ⅰ'!S6 -> 1 | P4: 분기 | S4: 시작일 | V4: ='5부.Ⅱ'!V4 -> 2021.01.01 | Z4: 종료일 | AC4: ='5부.Ⅱ'!AC4 -> 2021.03.31
J5: 전기 | L5: 제 | M5: ='5부.Ⅰ'!Q7 -> 5 | N5: 기 | P5: 기말 | S5: 시작일 | V5: ='5부.Ⅱ'!V5 -> 2020.01.01 | Z5: 종료일 | AC5: ='5부.Ⅱ'!AC5 -> 2020.03.31
D6: 회사명: | G6: =표지!E28 -> 대한제4호뉴스테이위탁관리부동산투자회사 | AI6: (단위: 원)
D7: 과 목 | S7: 제 | T7: =M4 -> 6 | U7: (당)기 | AE7: 제 | AF7: =M5 -> 5 | AG7: (전)기
O8: 처분예정일 | U8: 0000.00.00 | AA8: 처분확정일 | AG8: 0000.00.00
A9: 코 드 | O9: 금 액 | AA9: 금 액
A10: P000000 | D10: Ⅰ. 미처분이익잉여금(미처리결손금) | U10: =SUM(O11:T14) -> 0 | AG10: =SUM(AA11:AF14) -> 0
A11: P000001 | D11: 1. 전기이월미처분이익잉여금(미처리결손금)
A12: P000002 | D12: 2. 당기순이익(손실)
A13: P000003 | D13: 3. 확정급여채무의 재측정요소
A14: P000004 | D14: 4. 기타
A15: P000005 | D15: Ⅱ. 임의적립금등의 이입액
A16: P000006 | D16: Ⅲ. 이익잉여금처분액 | U16: =-(O17+O18+O19+O20+O25) -> 0 | AG16: =-(AA17+AA18+AA19+AA20+AA25) -> 0
A17: P000007 | D17: 1. 법정준비금
A18: P000008 | D18: 2. 임의준비금
A19: P000009 | D19: 3. 주식할인발행차금상각액
A20: P000010 | D20: 4. 배당금 | O20: =SUM(O21:T24) -> 0 | AA20: =SUM(AA21:AF24) -> 0
A21: P000011 | D21: 보통주현금배당금
A22: P000012 | D22: 종류주현금배당금
A23: P000013 | D23: 보통주주식배당금
A24: P000014 | D24: 종류주주식배당금
A25: P000015 | D25: 5. 기타
A26: P000016 | D26: Ⅳ. 결손금처리액
A27: P000017 | D27: Ⅴ. 차기이월미처분이익잉여금(미처리결손금) | U27: =U10+U15+U16+U26 -> 0 | AG27: =AG10+AG15+AG16+AG26 -> 0
AM29: ← 필요시 주석 기재
B32: * 입력도움말 1. 계정과목은 수정하지 마시기 바랍니다.(일치하는 계정과목이 없는경우 해당 대분류 아래 '기타'에 입력) 2. 해당하는 계정과목에만 금액을 입력하시고, 그외는 기재하지 마시기 바랍니다. 3 이익잉여금처분계산서는 결산기에만 입력하시기 바랍니다. 4. 미처리결손금, 당기순손실, 결손금처리액과 같이 음수인 계정과목은 숫자 앞에 '-'를 붙여 음수로 입력하시기 바랍니다. 5. 표 왼쪽에 적혀있는 코드는 수정 및 삭제하지 마시기 바랍니다.

Sheet 5부.Ⅳ
B2: Ⅳ. 현금흐름표
G3: 현금흐름표는 결산기 작성대상으로 분기에는 작성하지 않습니다.
J4: 당기 | L4: 제 | M4: ='5부.Ⅰ'!Q6 -> 6 | N4: 기 | O4: ='5부.Ⅰ'!S6 -> 1 | P4: 분기 | S4: 시작일 | V4: ='5부.Ⅱ'!V4 -> 2021.01.01 | Z4: 종료일 | AC4: ='5부.Ⅱ'!AC4 -> 2021.03.31
J5: 전기 | L5: 제 | M5: ='5부.Ⅰ'!Q7 -> 5 | N5: 기 | P5: 기말 | S5: 시작일 | V5: ='5부.Ⅱ'!V5 -> 2020.01.01 | Z5: 종료일 | AC5: ='5부.Ⅱ'!AC5 -> 2020.03.31
D6: 회사명: | G6: =표지!E28 -> 대한제4호뉴스테이위탁관리부동산투자회사 | AI6: (단위: 원)
D7: 과 목 | S7: 제 | T7: =M4 -> 6 | U7: (당)기 | AE7: 제 | AF7: =M5 -> 5 | AG7: (전)기
A8: 코 드 | O8: 금 액 | AA8: 금 액
A9: Q000000 | D9: Ⅰ. 영업활동으로 인한 현금흐름 | U9: =U10+U11+U24+U47+U48+U49+U50 -> 0 | AG9: =AG10+AG11+AG24+AG47+AG48+AG49+AG50 -> 0
A10: Q000001 | D10: 1. 당기순이익(손실)
A11: R000000 | D11: 2. 당기순이익 조정을 위한 가감 | U11: =SUM(O12:T23) -> 0 | AG11: =SUM(AA12:AF23) -> 0
A12: R000001 | D12: 법인세비용
A13: R000002 | D13: 이자수익
A14: R000003 | D14: 이자비용
A15: R000004 | D15: 감가상각비
A16: R000005 | D16: 유가증권관련손실(이익)
A17: R000006 | D17: 파생상품관련손실(이익)
A18: R000007 | D18: 유형자산관련손실(이익)
A19: R000008 | D19: 투자부동산관련손실(이익)
A20: R000009 | D20: 외화환산손실(이익)
A21: R000011 | D21: 금융리스이자비용
A22: R000012 | D22: 금융리스이자수익
A23: R000010 | D23: 기타
A24: S000000 | D24: 3. 영업활동 관련 자산(부채)의 감소(증가) | U24: =SUM(O25:T46) -> 0 | AG24: =SUM(AA25:AF46) -> 0
A25: S000001 | D25: 재고자산의 변동
A26: S000002 | D26: 금융상품의 변동
A27: S000003 | D27: 매출채권의 변동
A28: S000004 | D28: 투자부동산의 변동
A29: S000005 | D29: 미청구공사의 변동
A30: S000006 | D30: 미수수익의 변동
A31: S000007 | D31: 분양미수금의 변동
A32: S000008 | D32: 기타미수금의 변동
A33: S000009 | D33: 선급금의 변동
A34: S000010 | D34: 선급비용의 변동
A35: S000011 | D35: 매입채무의 변동
A36: S000012 | D36: 초과청구공사의 변동
... A50: T000003 | D50: 7. 법인세의 납부
A51: U000000 | D51: Ⅱ. 투자활동으로 인한 현금흐름 | U51: =U52+U60 -> 0 | AG51: =AG52+AG60 -> 0
A52: U000001 | D52: 1. 투자활동으로 인한 현금유입액 | U52: =SUM(O53:T59) -> 0 | AG52: =SUM(AA53:AF59) -> 0
A53: U000002 | D53: 매도가능금융자산의 처분
A54: U000003 | D54: 만기보유금융자산의 처분
A55: U000004 | D55: 관계기업투자주식의 처분
A56: U000005 | D56: 종속기업투자주식 처분
A57: U000006 | D57: 유형자산의 처분
A58: U000007 | D58: 투자부동산의 처분
A59: U000008 | D59: 기타
A60: U000009 | D60: 2. 투자활동으로 인한 현금유출액 | U60: =-SUM(O61:T67) -> 0 | AG60: =-SUM(AA61:AF67) -> 0
A61: U000010 | D61: 매도가능금융자산의 취득
A62: U000011 | D62: 만기보유금융자산의 취득
A63: U000012 | D63: 관계기업투자주식의 취득
A64: U000013 | D64: 종속기업투자주식의 취득
A65: U000014 | D65: 유형자산의 취득
A66: U000015 | D66: 투자부동산의 취득
A67: U000016 | D67: 기타
A68: V000000 | D68: Ⅲ. 재무활동으로 인한 현금흐름 | U68: =U69+U75 -> 0 | AG68: =AG69+AG75 -> 0
A69: V000001 | D69: 1. 재무활동으로 인한 현금유입액 | U69: =SUM(O70:T74) -> 0 | AG69: =SUM(AA70:AF74) -> 0
A70: V000002 | D70: 주식의 발행
A71: V000003 | D71: 단기차입금의 차입
A72: V000004 | D72: 장기차입금의 차입
A73: V000005 | D73: 사채의 발행
A74: V000006 | D74: 기타
A75: V000007 | D75: 2. 재무활동으로 인한 현금유출액 | U75: =-SUM(O76:T80) -> 0 | AG75: =-SUM(AA76:AF80) -> 0
A76: V000008 | D76: 단기차입금의 상환
A77: V000009 | D77: 장기차입금의 상환
A78: V000010 | D78: 사채의 상환
A79: V000011 | D79: 배당금의 지급
A80: V000012 | D80: 기타
A81: W000000 | D81: Ⅳ. 환율변동효과 반영전 현금및현금성자산의 증감 | U81: =U9+U51+U68 -> 0 | AG81: =AG9+AG51+AG68 -> 0
A82: W000001 | D82: Ⅴ. 현금및현금성자산에 대한 환율변동효과
A83: W000002 | D83: Ⅵ. 현금및현금성자산의 순증감 | U83: =U81+U82 -> 0 | AG83: =AG81+AG82 -> 0
A84: W000003 | D84: Ⅶ. 기초 현금및현금성자산
A85: W000004 | D85: Ⅷ. 기말 현금및현금성자산 | U85: =U83+U84 -> 0 | AG85: =AG83+AG84 -> 0
AM87: ← 필요시 주석 기재
B90: * 입력도움말 1. 계정과목은 수정하지 마시기 바랍니다.(일치하는 계정과목이 없는경우 해당 대분류 아래 '기타'에 입력) 2. 해당하는 계정과목에만 금액을 입력하시고, 그외는 기재하지 마시기 바랍니다. 3. 현금흐름표는 결산기에만 입력하시기 바랍니다. 4. 이자의 지급, 법인세납부 등과 같이 음수인 계정과목은 숫자 앞에 '-'를 붙여 음수로 입력하시기 바랍니다. 5. 표 왼쪽에 적혀있는 코드는 수정하지 마시기 바랍니다.

Sheet 5부.Ⅴ
B2: Ⅴ. 자본변동표
G3: 자본변동표는 결산기 작성대상으로 분기에는 작성하지 않습니다.
J4: 당기 | L4: 제 | M4: ='5부.Ⅱ'!M4 -> 6 | N4: 기 | O4: ='5부.Ⅰ'!S6 -> 1 | P4: 분기 | S4: 시작일 | V4: ='5부.Ⅱ'!V4 -> 2021.01.01 | Z4: 종료일 | AC4: ='5부.Ⅱ'!AC4 -> 2021.03.31
J5: 전기 | L5: 제 | M5: ='5부.Ⅱ'!M5 -> 5 | N5: 기 | P5: 기말 | S5: 시작일 | V5: ='5부.Ⅱ'!V5 -> 2020.01.01 | Z5: 종료일 | AC5: ='5부.Ⅱ'!AC5 -> 2020.03.31
D6: 회사명: | G6: =표지!E28 -> 대한제4호뉴스테이위탁관리부동산투자회사 | AI6: (단위: 원)
C7: 구 분 | I7: 자본금 | M7: 자본잉여금 | P7: 자본조정 | T7: 기타포괄 손익누계액 | X7: 이익잉여금 | AB7: 기타 | AF7: 비지배지분 | AI7: 총계
AI8: =SUM(I8:AH8) -> 0
AI9: =SUM(I9:AH9) -> 0
AI10: =SUM(I10:AH10) -> 0
AI11: =SUM(I11:AH11) -> 0
AI12: =SUM(I12:AH12) -> 0
AI13: =SUM(I13:AH13) -> 0
AI14: =SUM(I14:AH14) -> 0
AI15: =SUM(I15:AH15) -> 0
AM17: ← 필요시 주석 기재
B20: * 입력도움말 1. 필요시 행추가(복사한 셀 삽입)하여 추가 작성하시기 바랍니다. 2. 해당사항 없는 항목은 기재하지 마시기 바랍니다.

Sheet 5부.Ⅵ
B2: Ⅵ. 재무제표에 대한 주석(차입에 관한 구체적인 사항을 포함)
C4: 주석은 투자보고서 마지막에 별첨합니다.
A13: * 입력도움말 1. 주석은 별도의 PDF 파일로 업로드 해 주세요.

Sheet 5부.Ⅶ
B2: Ⅶ. 감사인의 감사(검토) 의견
B4: - 외부감사인의 감사(검토) 의견 및 위반사항
C6: 감사(검토)의견 : | I6: 해당사항 없음
C7: 기타사항(특기사항 포함)
B19: - 내부감사인의 감사(검토) 의견
C21: 감사(검토)의견 : | I21: 적정
C22: 기타사항(특기사항 포함)
A35: * 입력도움말 1. 외부감사인의 감사(검토)의견란에는 "적정, 부적정, 한정, 의견거절, 해당사항 없음(분기 등 해당기간 아닌경우)" 중 해당되는 사항을 선택해 주시기 바랍니다. 2. 기타사항(특기사항 포함) 내용이 입력범위를 초과하는 경우 셀 높이를 조절하시기 바랍니다.

Sheet 6부.Ⅰ
A2: 제 6 부 중요한 소송등 진행 현황
A4: Ⅰ. 중요한 소송진행사항
A11: * 입력도움말 1. 입력범위를 초과하는 경우 셀 높이를 조절하시기 바랍니다. 2. 해당사항 없는 항목은 기재하지 마시기 바랍니다. 3. 해당 기에 소송이 진행 중인 경우 초기 진행사항부터 기재하시기 바랍니다.

Sheet 7부.Ⅰ
A2: 제 7 부 특별관계자 등과의 거래 현황
A4: Ⅰ. 거래현황
C6: 주석10. 특수관계자와의 거래 참고
E9: ※ 특별관계자 등은 다음에 해당하는 자를 말함 1. 해당 부동산투자회사의 임직원 및 그 특별관계자 2. 해당 부동산투자회사의 주식을 100분의 10 이상 소유하고 있는 주주 및 그 특별관계자 ※ 특별관계자는 자본시장법 시행령 제141조제1항의 특수관계인 및 공동보유자를 말함 ※ 특별관계자 등과의 거래는 법 제30조제2항 각 호에 해당하는 거래를 말함
A12: * 입력도움말 1. 입력범위를 초과하는 경우 셀 높이를 조절하시기 바랍니다. 2. 해당사항 없는 항목은 기재하지 마시기 바랍니다.

Sheet 8부.Ⅰ
A2: 제 8 부 기타사항
A4: Ⅰ. 제재현황
A11: * 입력도움말 1. 입력범위를 초과하는 경우 셀 높이를 조절하시기 바랍니다. 2. 해당사항 없는 항목은 기재하지 마시기 바랍니다.
