Workbook
Name Rent_SUM: '2부.Ⅰ.1.1)'!#REF!
Name Rent_SUM: '3부.Ⅱ.4'!#REF!
Name Rent_SUM: '3부.Ⅱ.1.1)'!#REF!
Name Rent_SUM: '3부.Ⅱ.1.1)'!#REF!
Name Rent_SUM: '3부.Ⅱ.1.1)'!#REF!
Name Rent_SUM: '3부.Ⅱ.1.1)'!#REF!

Sheet 표지
A3: 투 자 보 고 서
D6: 2024.07.01 | F6: 부터 | G6: 2024.09.30 | I6: 까지
D8: ( 제 | E8: 1 | F8: 기 | G8: 3 | H8: 분기 )
B11: 국토교통부장관, 금융위원회 귀중
B14: 부동산투자회사법 제37조, 동법 시행령 제40조 및 부동산투자회사등에 관한 감독규정_x000D_ 제7조의 규정에 의하여 투자보고서를 작성하여 제출합니다.
J17: 2024.11.14
D28: 회 사 명 : | E28: (주)아산탕정대한제50호위탁관리부동산투자회사
D29: 대 표 이 사 : | E29: 신덕호
D30: 본점소재지 : | E30: 서울시 강남구 영동대로 517, 33층(삼성동, 아셈타워)
E31: (전화번호) | G31: 02-528-0529
E32: (홈페이지) | G32: http://www.reitpia.com
D33: 작성책임자 : | E33: (회사) | G33: 대한토지신탁 | J33: (직책) | K33: 과장
E34: (전화번호) | G34: 02-528-0529 | J34: 성명 | K34: 박건민
D35: 공시책임자 : | E35: (회사) | G35: 대한토지신탁 | J35: (직책) | K35: 과장
E36: (전화번호) | G36: 02-528-0529 | J36: 성명 | K36: 박건민
A39: *입력도움말_x000D_ 1. 제출날짜(YYYY.MM.DD) 및 회사명, 대표이사, 본점소재지 등 내용을 직접 입력하시기 바랍니다._x000D_ 2. 대표이사, 작성책임자, 공시책임자의 도장 스캔본을 '(인)' 위에 각각 삽입 후 마우스 오른쪽버튼을 클릭하여 '맨 뒤로 보내기'를 클릭하시기 바랍니다._x000D_ 3. 표지 작성 후 '8부(재무제표) -> 그외 시트' 순으로 작성 바랍니다.

Sheet 1부.Ⅰ.1
A2: 제 1 부 부동산투자회사의 현황
A5: Ⅰ. 회사의 현황
B7: 1. 회사의 개요
AL8: 상장여부
E9: 1) 회사명 | P9: =표지!E28 -> (주)아산탕정대한제50호위탁관리부동산투자회사 | AA9: =IF(AL9="상장","(","") | AB9: =IF(AL9="상장","상장일자:","") | AF9: =IF(AL9="상장","상장일자 입력","") | AK9: =IF(AL9="상장",")","") | AL9: 비상장
E10: 2) 설립일 | P10: 2024.02.05
E11: 3) 소재지 | P11: =표지!E30 -> 서울시 강남구 영동대로 517, 33층(삼성동, 아셈타워)
E12: 4) 자산 및 자본금, 부채 | P12: (기준일자) | U12: =표지!G6 -> 2024.09.30 | AA12: (단위: 원)
E13: 자산총계 | P13: ='5부.Ⅰ'!U79 -> 300000000
E14: 부채총계 | P14: ='5부.Ⅰ'!U110 -> 0
E15: 자본총계 | P15: ='5부.Ⅰ'!U128 -> 300000000
E16: 자 본 금 | P16: ='5부.Ⅰ'!U112 -> 300000000
E17: 5) 자산관리회사 | P17: 대한토지신탁
E18: 6) 사무수탁회사 | P18: 신한펀드파트너스
E19: 7) 자산보관회사 | P19: NH투자증권
E20: 8) 비고 | P20: (1) 정관에서 정한 회사의 존속기간 및 해산사유
P21: ① 존립기간을 정한 경우 그 존립기간의 만료 _x000D_ ② 주주총회의 해산결의_x000D_ ③ 합병_x000D_ ④ 파산_x000D_ ⑤ 법원의 해산명령 또는 해산판결_x000D_ ⑥ 국토교통부 장관의 영업인가 또는 등록의 취소_x000D_ ⑦ 부동산투자회사법 제3조부터 제7조까지의 규정을 위반하여 영업인가 또는 등록이 거부된 경우_x000D_ ⑧ 설립 후 1년 6개월 이내에 영업인가를 받지 못하거나 등록을 하지 못한 경우
P22: (2) 신용평가결과
P23: 해당사항 없음.
AL25: ← 필요시 주석 기재
A28: * 입력도움말_x000D_ 1. 양식 수정은 절대 금지하며, 셀 높이 조절만 가능합니다._x000D_ 2. 바탕색이 황갈색인 셀에만 데이터를 입력하시기 바랍니다._x000D_ 3. 날짜는 0000.00.00 형식으로 입력하시기 바랍니다._x000D_ 4. 상장여부를 반드시 체크하시기 바랍니다._x000D_ 5. '신용평가결과'는 추후 시행예정으로 시행 전까지 '해당사항 없음'으로 기재 바랍니다._x000D_

Sheet 1부.Ⅰ.2.1)
B2: 2. 회사의 연혁
C4: 1) 설립경과 및 설립이후의 변동사항(상호의 변경, 영업양수 또는 영업양도, 주요 자산취득일 등을 기재)
E6: - 2024.02.05 발기인총회_x000D_ 회사설립_x000D_ - 2024.05.07 일반사무위탁계약 체결 : 신한펀드파트너스_x000D_ - 2024.05.09 자산관리위탁계약 체결 : 대한토지신탁_x000D_ 자산보관위탁계약 체결 : NH투자증권 _x000D_ - 2024.06.04 국토부 영업등록 _x000D_ _x000D_
A12: * 입력도움말_x000D_ 1. 양식 수정은 절대 금지하며, 셀 높이 조절만 가능합니다._x000D_ 2. 바탕색이 황갈색인 셀에만 데이터를 입력하시기 바랍니다.

Sheet 1부.Ⅰ.2.2)
C2: 2) 이사 및 감사에 관한 사항
E4: 직 명 | K4: 성 명 | Q4: 생년월일 | V4: 주요경력 및 연혁 | AF4: 비 고
E5: 대표이사 | K5: 신덕호 | Q5: 1953.06.10 | V5: 現 ㈜성보디앤씨 | AF5: 해당사항없음
E6: 기타비상무이사 | K6: 황귀환 | Q6: 1960.09.20 | V6: 現 아산성보디앤씨_x000D_ 대우건설㈜ | AF6: 해당사항없음
E7: 기타비상무이사 | K7: 권용하 | Q7: 1992.09.11 | V7: 現 정미영법무사사무소 | AF7: 해당사항없음
E8: 감사 | K8: 홍세기 | Q8: 1986.06.04 | V8: 現 삼도회계법인_x000D_ 삼정회계법인 | AF8: 해당사항없음
E11: ※ 비고란에는 법 제14조의 결격요건 해당여부를 기재
E12: ※ 주요경력은 주요근무지, 근무기간 및 직위등을 구체적으로 기재
AL13: ← 필요시 주석 기재
A16: * 입력도움말_x000D_ 1. 양식 수정은 절대 금지하며, 셀 높이 조절만 가능합니다._x000D_ 2. 바탕색이 황갈색인 셀에만 데이터를 입력하시기 바랍니다._x000D_ 3. 필요시 행추가(복사한 셀 삽입)하여 추가 작성하시기 바랍니다._x000D_ 4. 생년월일은 0000.00.00 형식으로 입력하시기 바랍니다.

Sheet 1부.Ⅰ.3.1)
B2: 3. 주식 및 자본에 관한 사항
C4: 1) 주식에 관한 사항
D6: (1) 발행한 주식의 내용
AD7: [ | AE7: =표지!G6 -> 2024.09.30 | AJ7: 현재]
AF8: (단위 : 원, 주)
C9: 구 분 | I9: 종 류 | O9: 발행주식수 | V9: 주당 발행가액 | AA9: 주당 액면가액 | AF9: 비 고
C10: 기명 | I10: 보통주 | O10: 60000 | V10: 5000 | AA10: 5000 | AL10: =O10*V10 -> 300000000
D14: ※ 종류는 보통주, 종류주 등
AL16: ← 필요시 주석 기재
D18: (2) 자기주식 취득현황
AF19: (단위 : 원, 주)
C20: 취득일자 | I20: 종 류 | O20: 주식수량 | V20: 취득가액 | AE20: 비 고
AL24: ← 필요시 주석 기재
D26: (3) 현물출자 현황
D30: (4) 비고(주식매수선택권 여부, 의결권이 있는 주식수, 의결권이 제한된 주식수, 종류주 발행조건 등을 기재)
C32: - 의결권이 있는 주식수 : 60,000_x000D_ - 의결권이 제한된 주식수 : 해당사항 없음
A36: * 입력도움말_x000D_ 1. 필요시 행추가(복사한 셀 삽입)하여 추가 작성하시기 바랍니다._x000D_ 2. 날짜는 0000.00.00 형식으로 입력하시기 바랍니다._x000D_ 3. 해당사항 없는 항목은 기재하지 마시기 바랍니다.

Sheet 1부.Ⅰ.3.2)
C2: 2) 자본금 변동상황
AE3: (단위 : 원, 주)
C4: 일자 | G4: 원인 | I4: 증가(감소)한 주식의 내용 | W4: 증(감)자한_x000D_ 자본금 | AC4: 증(감)자 후 _x000D_ 자본금 | AI4: 증(감)자_x000D_ 비율
I5: 종류 | L5: 수량 | Q5: 주당_x000D_ 발행가액 | T5: 주당_x000D_ 액면가액
C6: 2024.02.05 | G6: 설립자본 | I6: 보통주 | L6: 60000 | Q6: 5000 | T6: 5000 | W6: =L6*Q6 -> 300000000 | AC6: 300000000 | AI6: 0
AM12: ← 필요시 주석 기재
C14: 3) 자본금 변동예정 등
C16: 2024.10.31 1차 유상증자 완료
A22: * 입력도움말_x000D_ 1. 2) 자본금 변동상황은 설립시부터 적어주시기 바라며, 필요시 행추가(복사한 셀 삽입)하여 _x000D_ 작성해주시기 바랍니다._x000D_ 2. 감자로 자본금이 감소할 경우는 수량을 음수(-)로 작성해주시기 바랍니다._x000D_ (예) : △50,000,000 (X) / -50,000,000(O)_x000D_ 3. 증자비율: 증가금액(수량X주당액면가액)/증(감)자 전 자본금_x000D_ 감자비율: 감소금액(수량X주당액면가액)/증(감)자 전 자본금_x000D_ 4. 해당사항 없는 항목은 기재하지 마시기 바랍니다.

Sheet 1부.Ⅰ.4.1)
B2: 4. 주주현황
C4: 1) 최대주주 및 그 특별관계자의 주식소유현황
AL5: 【 | AM5: =표지!G6 -> 2024.09.30 | AR5: 현재 | AU5: 】
C6: 성명 | H6: 관계 | K6: 내/_x000D_ 외국인 | N6: 국적 | Q6: 기관/개인 | S6: 청약예외주주 | V6: 주식의_x000D_ 종류 | Y6: 소유주식수(지분율) | AQ6: 변동원인
Y7: 기초 | AD7: 증가 | AH7: 감소 | AL7: 기말
C8: 대한토지신탁(주) | H8: 최대주주 | K8: 내국인 | N8: 대한민국 | Q8: 기관 | S8: 해당사항없음 | V8: 보통주 | Y8: 60000 | AD8: 0 | AH8: 0 | AL8: =Y8+AD8-AH8 -> 60000 | AQ8: 설립자본금
Y9: 1 | AD9: 0 | AH9: 0 | AL9: 1
AL10: =Y10+AD10-AH10 -> 0
AL12: =Y12+AD12-AH12 -> 0
AL14: =Y14+AD14-AH14 -> 0
AL16: =Y16+AD16-AH16 -> 0
E19: ※ 특별관계자는 자본시장법 시행령 제141조제1항의 특수관계인 및 공동보유자를 말함
E20: ※ 청약예외주주란에는 시행령 제12조의3(일반청약에 대한 예외) 각 호 중 해당되는 호를 기재
E21: 2024.10. 31 유상증자 후 최대주주 변경 (대한토지신탁 -> 민간임대허브5호) | AV21: ← 필요시 주석 기재
A24: * 입력도움말_x000D_ 1. 필요시 행추가(복사한 셀 삽입)하여 추가 작성하시기 바랍니다. _x000D_ 2. 지분율은 숫자만 입력하시기 바랍니다.(괄호 자동표시)_x000D_ 3. 공모 회사 중 필요한 경우 기준일자를 직접 입력하고, 그 일자 기준의 주주현황을 입력하시기 바랍니다.

Sheet 1부.Ⅰ.4.2)
C2: 2) 주요주주(10%이상 주주)의 주식소유현황
AO3: 【 | AP3: =표지!G6 -> 2024.09.30 | AU3: 현재 | AX3: 】
C4: 순위 | G4: 성명 | L4: 내/_x000D_ 외국인 | P4: 국적 | T4: 기관/_x000D_ 개인 | X4: 청약예외주주 | AB4: 주식의 _x000D_ 종류 | AF4: 소유주식수 | AN4: 지분율 | AT4: 비고
AY11: ← 필요시 주석 기재
A16: * 입력도움말_x000D_ 1. 필요시 행추가(복사한 셀 삽입)하여 추가 작성하시기 바랍니다. _x000D_ 2. 공모 회사 중 필요한 경우 기준일자를 직접 입력하고, 그 일자 기준의 주주현황을 입력하시기 바랍니다._x000D_ _x000D_ _x000D_

Sheet 1부.Ⅰ.4.3)
C2: 3) 소액주주, 최대주주 및 기타주주 분포
AB3: 【 | AC3: =표지!G6 -> 2024.09.30 | AH3: 현재 | AK3: 】
C4: 구분 | J4: 주주수(명) | N4: 비율 | T4: 주식수 | AA4: 비율 | AG4: 비고
C5: 최대주주 | J5: 1 | N5: =IFERROR(J5/SUM($J$5:$M$8),"") -> 1 | T5: 60000 | AA5: =IFERROR(T5/SUM($T$5:$Z$8),"") -> 1
C6: 주요주주 | J6: 0 | N6: =IFERROR(J6/SUM($J$5:$M$8),"") -> 0 | T6: 0 | AA6: =IFERROR(T6/SUM($T$5:$Z$8),"") -> 0
C7: 소액주주 - 개인 | J7: 0 | N7: =IFERROR(J7/SUM($J$5:$M$8),"") -> 0 | T7: 0 | AA7: =IFERROR(T7/SUM($T$5:$Z$8),"") -> 0
C8: 소액주주 - 법인 | J8: 0 | N8: =IFERROR(J8/SUM($J$5:$M$8),"") -> 0 | T8: 0 | AA8: =IFERROR(T8/SUM($T$5:$Z$8),"") -> 0
C9: 합 계 | J9: =SUM(J5:M8) -> 1 | N9: =SUM(N5:S8) -> 1 | T9: =SUM(T5:Z8) -> 60000 | AA9: =SUM(AA5:AF8) -> 1
AL11: ← 필요시 주석 기재
C14: 4) 주가변동사항
C16: 월별 | N16: 년 | Q16: 월 | U16: 년 | X16: 월 | AB16: 년 | AE16: 월 | AG16: 비고
C17: 최고가(일자)
C18: 최저가(일자)
C19: 월간 거래량
C20: 일평균 거래량
E21: ※ 주가는 월별 종가기준으로 기재
AL22: ← 필요시 주석 기재
A25: * 입력도움말_x000D_ 1. 공모 회사 중 필요한 경우 기준일자를 직접 입력하고, 그 일자 기준의 주주현황을 입력하시기 _x000D_ 바랍니다._x000D_ 2. 해당사항 없는 항목은 기재하지 마시기 바랍니다._x000D_ _x000D_

Sheet 1부.Ⅰ.5
B2: 5. 배당에 관한 사항
C4: 1) 이익 등의 분배방침
C6: ● 당해 회사는 당해 회계연도 배당가능이익의 100분의 90 이상을 주주에게 현금으로 배당하여야 합니다. _x000D_ 또한, 당해 회사는 관련법령이 허용하는 범위 내에서 당해 회계연도 배당가능이익을 초과하여 배당할 수 있습니다. _x000D_ 매 회계연도별 초과배당액은 당해 회계연도 감가상각비 이내로 하되, 기본적으로 당해 회계연도 감가상각비의 100% 전액을 배당하며, 필요시 이사회가 당해 사업연도의 감가상각비 내에서 조정할 수 있습니다. _x000D_ 다만, 초과배당으로 인하여 전기에서 이월된 결손금은 당기의 배당가능이익 산정 시 이를 포함하지 않습니다. _x000D_ 이익배당(초과배당 포함, 이하 같다)은 정관 제48조(사업연도)에서 정한 매 사업연도별로 이익배당을 위한 주주총회의 재무제표 승인 결의가 있은 날로부터 30일내에 지급하여야 합니다._x000D_
C8: 2) 최근 사업연도의 배당에 관한 사항
D9: [주당액면가액 : | K9: 5000 | N9: 원 | O9: ] | AA9: (단위 : 원, %)
C10: 구분 | K10: 제 | L10: - | M10: 기 | Q10: 제 | R10: - | S10: 기 | W10: 제 | X10: - | Y10: 기 | AC10: 제 | AD10: - | AE10: 기
C11: 당기순이익
C12: 상법상_x000D_ 이익배당한도
C13: 자산의 평가손실 | I13: 0 | O13: =ABS(O63) -> 0 | U13: =ABS(U63) -> 0 | AA13: =ABS(AA63) -> 0
C14: 부동산투자회사법 상 이익배당한도 | I14: 0 | O14: =O12+O13 -> 0 | U14: =U12+U13 -> 0 | AA14: =AA12+AA13 -> 0
C15: 당기감가상각비 등 | I15: =I37+I38 -> 0 | O15: =O37+O38 -> 0 | U15: =U37+U38 -> 0 | AA15: =AA37+AA38 -> 0
C16: 배당가능이익 | I16: =I12+I15 -> 0 | O16: =O12+O15 -> 0 | U16: =U12+U15 -> 0 | AA16: =AA12+AA15 -> 0
C17: 배당금 | G17: 보통주 | I17: 0
G18: 종류주 | I18: 0
C19: 주당_x000D_ 배당금 | G19: 보통주
G20: 종류주
C21: 배당수익율 | I21: =IF(ISERROR((I17+I18)/((I39+I40)/2)*100),"-",(I17+I18)/((I39+I40)/2)) -> - | O21: =IF(ISERROR((O17+O18)/((O39+O40)/2)*100),"-",(O17+O18)/((O39+O40)/2)) -> - | U21: =IF(ISERROR((U17+U18)/((U39+U40)/2)*100),"-",(U17+U18)/((U39+U40)/2)) -> - | AA21: =IF(ISERROR((AA17+AA18)/((AA39+AA40)/2)*100),"-",(AA17+AA18)/((AA39+AA40)/2)) -> -
C22: 연환산배당율 | I22: =IF(ISERROR(I21*365/I36),"-",I21*365/I36) -> - | O22: =IF(ISERROR(O21*365/O36),"-",O21*365/O36) -> - | U22: =IF(ISERROR(U21*365/U36),"-",U21*365/U36) -> - | AA22: =IF(ISERROR(AA21*365/AA36),"-",AA21*365/AA36) -> -
E23: ※ 상법상 이익배당한도 : 순자산가액 - 자본금 - 자본준비금 - 상법 시행령 제19조의 미실현이익 _x000D_ - 기타(주식할인발행차금 상각액 등)
E24: ※ 부동산투자회사법 상 이익배당한도 : 상법 상 이익배당한도에서 자산의 평가손실(직전 사업연도까지 누적된 평가손실을 포함)은 고려하지 아니함
E25: ※ 당기 감가상각비 등 : 당기 감가상각비 + 전기이전 감가상각비 초과배당누적액
E26: ※ 배당가능이익 : 부동산투자회사법 상 이익배당한도 + 당기 감가상각비 등
E27: ※ 주당배당금 : 배당금 / 발행주식수
E28: ※ 배당수익율 : 배당액 / [ (기초납입자본금+기말납입자본금)/2 ] 로 계산
E29: ※ 1기의 사업연도가 1년 미만일 경우, 비교목적으로 연환산배당율을 다음의 산식으로 추가기재 _x000D_ 연환산배당율 : 배당수익율 x 365일 / (해당사업연도의 일수)
AG30: ← 필요시 주석 기재
D32: * 산출근거자료 | AA32: (단위 : 원)
C33: 구분 | K33: 제 | L33: =L10 -> - | M33: 기 | Q33: 제 | R33: =R10 -> - | S33: 기 | W33: 제 | X33: =X10 -> - | Y33: 기 | AC33: 제 | AD33: =AD10 -> - | AE33: 기
C34: 기수시작일 | I34: 45327
C35: 기수종료일 | I35: 45657
C36: 사업일수 | I36: =IFERROR(IF(I34>0,I35-I34+1," "),"") -> 331 | O36: =IFERROR(IF(O34>0,O35-O34+1," "),"") | U36: =IFERROR(IF(U34>0,U35-U34+1," "),"") | AA36: =IFERROR(IF(AA34>0,AA35-AA34+1," "),"")
C37: 당기 감가상각비 | I37: 0 | O37: 0 | U37: 0 | AA37: 0
C38: 전기이전_x000D_ 감가상각비_x000D_ 초과배당누적액 | I38: 0
C39: 기초납입자본금 | I39: 0
C40: 기말납입자본금
D42: ※ 납입자본금은 액면가액이 아닌 발행가액을 기준하여 적용
D44: - 종류주 및 보통주의 배당에 관한 사항 | AA44: (단위 : 원, %)
C45: 구분 | K45: 제 | L45: =L10 -> - | M45: 기 | Q45: 제 | R45: =R10 -> - | S45: 기 | W45: 제 | X45: =X10 -> - | Y45: 기 | AC45: 제 | AD45: =AD10 -> - | AE45: 기
C46: (종류주)_x000D_ 배당금총액
C47: (종류주)_x000D_ 배당수익율 | I47: =IF(ISERROR(I46/((I52+I53)/2)*100),"-",I46/((I52+I53)/2)) -> - | O47: =IF(ISERROR(O46/((O52+O53)/2)*100),"-",O46/((O52+O53)/2)) -> - | U47: =IF(ISERROR(U46/((U52+U53)/2)*100),"-",U46/((U52+U53)/2)) -> - | AA47: =IF(ISERROR(AA46/((AA52+AA53)/2)*100),"-",AA46/((AA52+AA53)/2)) -> -
C48: (종류주)_x000D_ 연환산배당율 | I48: =IF(ISERROR(I47*365/I36),"-",I47*365/I36) -> - | O48: =IF(ISERROR(O47*365/O36),"-",O47*365/O36) -> - | U48: =IF(ISERROR(U47*365/U36),"-",U47*365/U36) -> - | AA48: =IF(ISERROR(AA47*365/AA36),"-",AA47*365/AA36) -> -
C49: (보통주)_x000D_ 배당금총액
C50: (보통주)_x000D_ 배당수익율 | I50: =IF(ISERROR(I49/((I54+I55)/2)*100),"-",I49/((I54+I55)/2)) -> - | O50: =IF(ISERROR(O49/((O54+O55)/2)*100),"-",O49/((O54+O55)/2)) -> - | U50: =IF(ISERROR(U49/((U54+U55)/2)*100),"-",U49/((U54+U55)/2)) -> - | AA50: =IF(ISERROR(AA49/((AA54+AA55)/2)*100),"-",AA49/((AA54+AA55)/2)) -> -
C51: (보통주)_x000D_ 연환산배당율 | I51: =IF(ISERROR(I50*365/I36),"-",I50*365/I36) -> - | O51: =IF(ISERROR(O50*365/O36),"-",O50*365/O36) -> - | U51: =IF(ISERROR(U50*365/U36),"-",U50*365/U36) -> - | AA51: =IF(ISERROR(AA50*365/AA36),"-",AA50*365/AA36) -> -
C52: (종류주)_x000D_ 기초납입자본금
C53: (종류주)_x000D_ 기말납입자본금
C54: (보통주)_x000D_ 기초납입자본금 | I54: 0
C55: (보통주)_x000D_ 기말납입자본금
D57: ※ 납입자본금은 액면가액이 아닌 발행가액을 기준하여 적용
C59: - 자산의 평가손실(직전 사업연도까지 누적된 평가손실 포함)에 관한 사항
U60: 관련 개정일 | AA60: 45342
C61: 구분 | K61: 제 | L61: =L10 -> - | M61: 기 | Q61: 제 | R61: =R10 -> - | S61: 기 | W61: 제 | X61: =X10 -> - | Y61: 기 | AC61: 제 | AD61: =AD10 -> - | AE61: 기
C62: 자산의 평가손실 제외 해당 여부 | I62: =IF(I35<=$AA$60,"해당없음","해당") -> 해당 | O62: =IF(O35<=$AA$60,"해당없음","해당") -> 해당없음 | U62: =IF(U35<=$AA$60,"해당없음","해당") -> 해당없음 | AA62: =IF(AA35<=$AA$60,"해당없음","해당") -> 해당없음
C63: 자산의 평가손실_x000D_ 금액 | I63: =IF(I62="해당","직접입력",0) -> 직접입력 | O63: =IF(O62="해당","직접입력",0) -> 0 | U63: =IF(U62="해당","직접입력",0) -> 0 | AA63: =IF(AA62="해당","직접입력",0) -> 0
A65: * 입력도움말_x000D_ 1. 1) 이익 등의 분배방침 내용입력시 내용이 많을 경우 셀높이를 조절하시기 바랍니다._x000D_ 2. 기수는 표 왼쪽부터 최근 기수를 입력하여 주시기 바랍니다._x000D_ 3. 산출근거자료표의 사업일수 자동계산을 위해 '기수시작일', '기수종료일'은 0000-00-00 형식으로 입력하시기 바랍니다._x000D_ 4. 1기의 기초납입자본금은 설립납입자본금으로 입력하시기 바랍니다._x000D_ 5. 기수종료일 및 관련 개정일을 고려하여 자산의 평가손실 제외 해당하는 경우, '자산의 평가손실 제외 해당 여부'에 '해당'으로 표시되며 '자산의 평가손실 금액'에 '직접입력'으로 표시됩니다. _x000D_ 이 경우에만 '자산의 평가손실 금액' 칸의 수식을 삭제하고 금액 입력하시기 바랍니다. _x000D_ (관련 개정일, 자산의 평가손실 제외 해당 여부 칸은 수정금지)

Sheet 2부.Ⅰ
A2: 제 2 부 자산의 투자·운용 및 자산의 구성·변경 현황
A4: Ⅰ. 총자산의 투자·운용 및 구성현황
AA6: (단위 : 백만원, %)
C7: 항 목 | N7: 전분기 | V7: 당분기 | AD7: 총자산대비_x000D_ 구성비율
N8: 자산총액 | S8: 비율 | V8: 자산총액 | AA8: 비율
C9: 부동산 | N9: 300000000 | S9: =IFERROR(N9/SUM($N$9:$R$13)*100,"") -> 100 | V9: 300000000 | AA9: =IFERROR(V9/SUM($V$9:$Z$13)*100,"") -> 100 | AD9: =IFERROR(AA9+AA10,"") -> 100
F10: 부동산개발사업 | S10: =IFERROR(N10/SUM($N$9:$R$13)*100,"") -> 0 | AA10: =IFERROR(V10/SUM($V$9:$Z$13)*100,"") -> 0
C11: 부동산관련 증권 | S11: =IFERROR(N11/SUM($N$9:$R$13)*100,"") -> 0 | AA11: =IFERROR(V11/SUM($V$9:$Z$13)*100,"") -> 0 | AD11: =AA11 -> 0
C12: 현금 | N12: 0 | S12: =IFERROR(N12/SUM($N$9:$R$13)*100,"") -> 0 | V12: 0 | AA12: =IFERROR(V12/SUM($V$9:$Z$13)*100,"") -> 0 | AD12: =AA12 -> 0
C13: 기타 자산 | S13: =IFERROR(N13/SUM($N$9:$R$13)*100,"") -> 0 | AA13: =IFERROR(V13/SUM($V$9:$Z$13)*100,"") -> 0 | AD13: =AA13 -> 0
C14: 총계 | N14: =SUM(N9:R13) -> 300000000 | S14: =IFERROR(N14/SUM($N$14:$R$14)*100,"") -> 100 | V14: =SUM(V9:Z13) -> 300000000 | AA14: =IFERROR(V14/SUM($V$14:$Z$14)*100,"") -> 100 | AD14: =AA14 -> 100
E16: ※ 1. 부동산은 지상권·임차권 등 부동산 사용에 관한 권리, 부동산개발사업, 설립할 때 납입된 _x000D_ 주금(株金), 신주발행으로 조성한 자금 및 소유 부동산의 매각대금, 시행령 제27조에 의하여 _x000D_ 부동산에 포함되는 자산을 말함(기업구조조정부동산투자회사의 경우, 구조조정부동산을 _x000D_ 별도 표시)
E17: 2. 부동산관련 증권은 법제2조3항 각 목의 어느 하나에 해당하는 자산을 말함
E18: 3. 현금은 금융기관에의 예치금을 포함하며, 부동산에 포함되는 자산은 제외함
E19: 4. 기타는 자산 중 부동산, 부동산관련 증권, 현금에 해당되지 않는 자산을 말함
E20: 전분기 : 1기 2분기 / 당분기 1기 3분기_x000D_ ※ 자산의 구성현황중 부동산 항목에 설립자본금 3억원이 포함되어있음. | AL20: ← 필요시 주석 기재
A23: * 입력도움말_x000D_ 1. 자산총액의 입력은 반드시 '원' 단위로 입력하시기 바랍니다. ('백만원' 단위로 자동표시)

Sheet 2부.Ⅰ.1.1)
B2: 1. 부동산(지상권·임차권 등 부동산사용에 관한 권리도 포함)
C4: 1) 소유 부동산별 개요
C6: 부동산명 | I6: 투자대상 | M6: 위치 | V6: 완공_x000D_ (개축)일자 | AA6: 취득일자 | AF6: 담보 및 부채내역 | AN6: 유형 | AO6: 대지면적(㎡) | AP6: 연면적(㎡) | AQ6: 건축면적(㎡)
C7: 1
C8: 2
C9: 3
C10: 4
C11: 5
C12: 6
C13: 7
C14: 8
C15: 9
C16: 10
C17: 11
C18: 12
... C21: 15
E22: ※ 준공시 잔금지급예정으로 준공후 소유권이 넘어오는 경우는 제외
E23: ※ 투자대상은 주택, 오피스, 호텔, 리테일, 물류, 복합형 중 기재
AN24: ← 필요시 주석 기재
A27: * 입력도움말_x000D_ 1. 부동산이 15개를 초과할 경우 행추가(복사한 셀 삽입)하여 추가 작성(16번부터 이어서 작성)하시기 바라며,_x000D_ 아직 소유한 부동산이 없을 경우 기재하지 마시기 바랍니다._x000D_ 2. 완공일자와 취득일자는 YYYY-MM-DD 형식으로 입력바랍니다._x000D_ 3. 개발관련부동산으로 토지만 소유시 부동산명은 토지(개발사업명)로 입력하시고, 하나의 개발사업에 여러_x000D_ 필지가 해당되는 경우에는 위치에 대표번지 입력하고 '외 0필지'로 입력하시기 바랍니다._x000D_ 4. 준공시 잔금지급예정으로 준공후 소유권이 넘어오는 경우는 소유부동산 표에 입력하지 마시고 표 하단에_x000D_ 별도로 주석처리하시기 바랍니다._x000D_ 5. 열 AN~AQ의 내용을 선택 또는 입력하여 주시기 바랍니다._x000D_ _x000D_
A28: <투자대상 분류기준>_x000D_ (분류유형) 투자대상은 투자하는 부동산의 주된 유형에 따라 주택, 오피스, 리테일, 호텔, 물류, 복합형으로 _x000D_ 구분된 6가지 유형 중 한가지로 분류함_x000D_ (복합형) 하나의 리츠가 둘이상 유형의 복수 부동산에 투자하는 경우 복합형으로 분류, 하나의 투자부동산에_x000D_ 둘이상 유형이 존재하여 주된 유형의 구분이 어려운 경우 복합형으로 분류_x000D_ (지분투자) 지분투자하는 경우에는 투자하는 부동산 유형에 따라 분류하며, 투자유형이 여러개인 경우 복합형_x000D_ 으로 분류_x000D_ (토지지원) 토지지원리츠는 토지지원으로 개발되는 부동산 유형에 따라 분류_x000D_

Sheet 2부.Ⅰ.1.2)
C2: 2) 소유 부동산별 금액현황
S4: (단위 : 백만원)
C5: 부동산명 | G5: 취득가액 | K5: 취득후_x000D_ 자본적지출 | O5: 평가손익 | S5: 감가 _x000D_ 상각 _x000D_ 누계액 | U5: 손상_x000D_ 차손_x000D_ 누계액 | W5: 장부가액
G6: 토지 | I6: 건물 | K6: 토지 | M6: 건물 | O6: 토지 | Q6: 건물
C7: 1 | D7: ='2부.Ⅰ.1.1)'!D7 -> 0 | W7: =G7+I7+K7+M7+O7+Q7-S7-U7 -> 0
C8: 2 | D8: ='2부.Ⅰ.1.1)'!D8 -> 0 | W8: =G8+I8+K8+M8+O8+Q8-S8-U8 -> 0
C9: 3 | D9: ='2부.Ⅰ.1.1)'!D9 -> 0 | W9: =G9+I9+K9+M9+O9+Q9-S9-U9 -> 0
C10: 4 | D10: ='2부.Ⅰ.1.1)'!D10 -> 0 | W10: =G10+I10+K10+M10+O10+Q10-S10-U10 -> 0
C11: 5 | D11: ='2부.Ⅰ.1.1)'!D11 -> 0 | W11: =G11+I11+K11+M11+O11+Q11-S11-U11 -> 0
C12: 6 | D12: ='2부.Ⅰ.1.1)'!D12 -> 0 | W12: =G12+I12+K12+M12+O12+Q12-S12-U12 -> 0
C13: 7 | D13: ='2부.Ⅰ.1.1)'!D13 -> 0 | W13: =G13+I13+K13+M13+O13+Q13-S13-U13 -> 0
C14: 8 | D14: ='2부.Ⅰ.1.1)'!D14 -> 0 | W14: =G14+I14+K14+M14+O14+Q14-S14-U14 -> 0
C15: 9 | D15: ='2부.Ⅰ.1.1)'!D15 -> 0 | W15: =G15+I15+K15+M15+O15+Q15-S15-U15 -> 0
C16: 10 | D16: ='2부.Ⅰ.1.1)'!D16 -> 0 | W16: =G16+I16+K16+M16+O16+Q16-S16-U16 -> 0
C17: 11 | D17: ='2부.Ⅰ.1.1)'!D17 -> 0 | W17: =G17+I17+K17+M17+O17+Q17-S17-U17 -> 0
C18: 12 | D18: ='2부.Ⅰ.1.1)'!D18 -> 0 | W18: =G18+I18+K18+M18+O18+Q18-S18-U18 -> 0
... C21: 15 | D21: ='2부.Ⅰ.1.1)'!D21 -> 0 | W21: =G21+I21+K21+M21+O21+Q21-S21-U21 -> 0
Z23: ← 필요시 주석 기재
A26: * 입력도움말_x000D_ 1. 부동산이 15개를 초과할 경우 행추가(복사한 셀 삽입)하여 추가 작성(16번부터 이어서 작성하고 '부동산명'은 _x000D_ 2부.Ⅰ.1.1) 시트와 동일하게 작성)하시기 바라며, 아직 소유한 부동산이 없을 경우 기재하지 마시기 바랍니다.

Sheet 2부.Ⅰ.1.3)
C2: 3) 소유 부동산별 임대현황
C4: 부동산명 | I4: 임대가능_x000D_ 면적_x000D_ (㎡) | N4: 임대면적_x000D_ (㎡) | R4: 임대율_x000D_ (임대면적/임대가능면적, %) | W4: 임대차_x000D_ 계약수
C5: 1 | D5: ='2부.Ⅰ.1.1)'!D7 -> 0 | R5: =IFERROR(N5/I5,"")
C6: 2 | D6: ='2부.Ⅰ.1.1)'!D8 -> 0 | R6: =IFERROR(N6/I6,"")
C7: 3 | D7: ='2부.Ⅰ.1.1)'!D9 -> 0 | R7: =IFERROR(N7/I7,"")
C8: 4 | D8: ='2부.Ⅰ.1.1)'!D10 -> 0 | R8: =IFERROR(N8/I8,"")
C9: 5 | D9: ='2부.Ⅰ.1.1)'!D11 -> 0 | R9: =IFERROR(N9/I9,"")
C10: 6 | D10: ='2부.Ⅰ.1.1)'!D12 -> 0 | R10: =IFERROR(N10/I10,"")
C11: 7 | D11: ='2부.Ⅰ.1.1)'!D13 -> 0 | R11: =IFERROR(N11/I11,"")
C12: 8 | D12: ='2부.Ⅰ.1.1)'!D14 -> 0 | R12: =IFERROR(N12/I12,"")
C13: 9 | D13: ='2부.Ⅰ.1.1)'!D15 -> 0 | R13: =IFERROR(N13/I13,"")
C14: 10 | D14: ='2부.Ⅰ.1.1)'!D16 -> 0 | R14: =IFERROR(N14/I14,"")
C15: 11 | D15: ='2부.Ⅰ.1.1)'!D17 -> 0 | R15: =IFERROR(N15/I15,"")
C16: 12 | D16: ='2부.Ⅰ.1.1)'!D18 -> 0 | R16: =IFERROR(N16/I16,"")
... C19: 15 | D19: ='2부.Ⅰ.1.1)'!D21 -> 0 | R19: =IFERROR(N19/I19,"")
Z21: ← 필요시 주석 기재
A24: * 입력도움말_x000D_ 1. 부동산이 15개를 초과할 경우 행추가(복사한 셀 삽입)하여 추가 작성(16번부터 이어서 작성_x000D_ 하고 '부동산명'은 2부.Ⅰ.1.1) 시트와 동일하게 작성)하시기 바라며, 아직 소유한 부동산이_x000D_ 없을 경우 기재하지 마시기 바랍니다._x000D_ 2. 임대내역이 없을 경우 '임대가능 면적, 임대면적, 임대차 계약수' 입력 칸에 0을 입력하시기_x000D_ 바랍니다.

Sheet 2부.Ⅰ.2
B2: 2. 분기말 현재 부동산 관련 증권 현황
Y4: (단위 : 백만원, %)
C5: 구분 | K5: 종 목 명 | Q5: 취득금액 | V5: 당해 분기말_x000D_ 현재 가액 | AB5: 자산구성비
C6: 부동산관련_x000D_ 증권
C7: 부동산관련_x000D_ 증권
C8: 부동산관련_x000D_ 증권
C9: 부동산관련_x000D_ 증권
C10: 부동산관련_x000D_ 증권
AG12: ← 필요시 주석 기재
A15: * 입력도움말_x000D_ 1. 필요시 행추가(복사한 셀 삽입)하여 추가 작성하시기 바랍니다._x000D_ 2. 해당사항 없는 항목은 기재하지 마시기 바랍니다._x000D_ _x000D_

Sheet 2부.Ⅰ.3
B2: 3. 현금(금융기관 예치내역 포함) 현황
AD4: (단위 : %, 백만원)
E5: 예치 금융상품 | M5: 예치 금융회사 | V5: 이자율 | Z5: 전분기예치금 | AF5: 당분기예치금 | AL5: 비고
E6: 예금 | M6: 국민은행 | V6: 변동금리 | Z6: 300 | AF6: 300
E12: 전분기 : 1기 2분기 / 당분기 1기 3분기 | AP12: ← 필요시 주석 기재
A15: * 입력도움말_x000D_ 1. 필요시 행추가(복사한 셀 삽입)하여 추가 작성하시기 바랍니다._x000D_ 2. 해당사항 없는 항목은 기재하지 마시기 바랍니다._x000D_

Sheet 2부.Ⅰ.4
B2: 4. 분기말 기타 자산 현황
Y4: (단위 : 백만원, %)
C5: 구분 | K5: 종 목 명 | Q5: 취득금액 | V5: 당해 분기말_x000D_ 현재 가액 | AB5: 비고
C6: 유가증권
C7: 유가증권
C8: 유가증권
C9: 유가증권
C10: 유가증권
C11: 파생상품자산
C12: 그 밖의 기타자산
AG14: ← 필요시 주석 기재
A17: * 입력도움말_x000D_ 1. 필요시 행추가(복사한 셀 삽입)하여 추가 작성하시기 바랍니다._x000D_ 2. 해당사항 없는 항목은 기재하지 마시기 바랍니다._x000D_ _x000D_

Sheet 2부.Ⅱ
A2: Ⅱ. 총자산의 변경내역
B4: 1. 당분기동안의 부동산 매입·매각
AA5: (단위 : 백만원)
C6: 구분 | F6: 부동산명 | K6: 위치 | S6: 거래일자 | X6: 매매가액 | AB6: 거래비용 | AF6: 비고
E9: ※ 매각의 경우 비고란에 취득한 금액, 보유기간 등 간략히 기재
AL10: ← 필요시 주석 기재
B12: 2. 당분기동안의 부동산관련 증권 거래내역
E13: - 당분기동안에 거래된 부동산관련 증권의 거래내역, 거래에 따른 이익현황, 거래비용 _x000D_ 등을 간략하게 기재
E15: =IF(AL12="해당사항 없음","거래내역 없음"," ")
B17: 3. 현금(금융기관 예치내역 포함) 변경내역
AD18: (단위 : %, 백만원)
E19: 예치 금융상품 | M19: 예치 금융회사 | V19: 이자율 | Z19: 전분기예치금 | AF19: 당분기예치금
E20: 예금 | M20: 국민은행 | V20: 변동금리 | Z20: 300 | AF20: 300
E26: 전분기 : 1기 2분기 / 당분기 1기 3분기 | AL26: ← 필요시 주석 기재
B28: 4. 기타 자산 변경내역
E30: =IF(AL28="해당사항 없음","거래내역 없음"," ")
A33: * 입력도움말_x000D_ 1. 필요시 행추가(복사한 셀 삽입)하여 추가 작성하시기 바랍니다._x000D_ 2. 해당사항 없는 항목은 기재하지 마시기 바랍니다.

Sheet 3부.Ⅰ
A2: 제 3 부 자산 및 수익과 비용에 관한 사항
A4: Ⅰ. 총수입금액 및 수입구조
C6: 구 분 | O6: 금액(원) | W6: 비율(%) | AE6: 비 고
C7: 부동산 | H7: 임 대 료 | O7: =SUM('3부.Ⅱ.1.1)'!O9:W24) -> 0 | W7: =IFERROR(O7/$O$16,"")
H8: 분양수익 | O8: 0 | W8: =IFERROR(O8/$O$16,"")
H9: 기타수익 | O9: 0 | W9: =IFERROR(O9/$O$16,"")
C10: 부동산관련 증권 | H10: 평가이익 | O10: =SUM('3부.Ⅱ.2'!Q6:U10) -> 0 | W10: =IFERROR(O10/$O$16,"")
H11: 처분이익 | O11: =SUM('3부.Ⅱ.2'!K6:P10) -> 0 | W11: =IFERROR(O11/$O$16,"")
H12: 이자,배당금 등 | O12: =SUM('3부.Ⅱ.2'!V6:AA10) -> 0 | W12: =IFERROR(O12/$O$16,"")
C13: 현금 | H13: 현금관련수익 | O13: =SUM('3부.Ⅱ.3'!AF6:AK10) -> 0 | W13: =IFERROR(O13/$O$16,"")
C14: 기타자산 | H14: 기타자산 관련수익 | O14: =SUM('3부.Ⅱ.4'!O5:W9) -> 0 | W14: =IFERROR(O14/$O$16,"")
C15: 기타 | O15: 0 | W15: =IFERROR(O15/$O$16,"")
C16: 총 수 익 | O16: =SUM(O7:V15) -> 0 | W16: =SUM(W7:AD15) -> 0
E17: ※ 부동산관련 증권 평가이익란에는 당기손익에 반영되는 평가이익만 포함
E18: ※ 기타란에는 자산별로 구분되지 않는 수익을 기재
AL19: ← 필요시 주석 기재
A23: * 입력도움말_x000D_ 1. 부동산(임대료, 분양수익), 부동산관련 유가증권(평가이익, 처분이익, 이자, 배당금 등) 등의 _x000D_ 금액은 뒤 시트와 연결되어 있으므로 수정 불가합니다. _x000D_ 2. 부동산(기타수익), 기타 및 각 항목의 비고, 주석 사항만 직접 기재 바랍니다.

Sheet 3부.Ⅱ.1.1)
A2: Ⅱ. 부문별 상세내역
B4: 1. 부동산(지상권·임차권 등 부동산사용에 관한 권리도 포함)
C6: 1) 부동산 임대료 수익
C8: 부동산명 | O8: 임대료(원) | X8: 비율(%) | AC8: 비 고
C9: 1 | D9: ='2부.Ⅰ.1.1)'!D7 -> 0 | X9: =IFERROR(O9/SUM(O9:W24),"")
C10: 2 | D10: ='2부.Ⅰ.1.1)'!D8 -> 0 | X10: =IFERROR(O10/SUM(O9:W24),"")
C11: 3 | D11: ='2부.Ⅰ.1.1)'!D9 -> 0 | X11: =IFERROR(O11/SUM(O9:W24),"")
C12: 4 | D12: ='2부.Ⅰ.1.1)'!D10 -> 0 | X12: =IFERROR(O12/SUM(O9:W24),"")
C13: 5 | D13: ='2부.Ⅰ.1.1)'!D11 -> 0 | X13: =IFERROR(O13/SUM(O9:W24),"")
C14: 6 | D14: ='2부.Ⅰ.1.1)'!D12 -> 0 | X14: =IFERROR(O14/SUM(O9:W24),"")
C15: 7 | D15: ='2부.Ⅰ.1.1)'!D13 -> 0 | X15: =IFERROR(O15/SUM(O9:W24),"")
C16: 8 | D16: ='2부.Ⅰ.1.1)'!D14 -> 0 | X16: =IFERROR(O16/SUM(O9:W24),"")
C17: 9 | D17: ='2부.Ⅰ.1.1)'!D15 -> 0 | X17: =IFERROR(O17/SUM(O9:W24),"")
C18: 10 | D18: ='2부.Ⅰ.1.1)'!D16 -> 0 | X18: =IFERROR(O18/SUM(O9:W24),"")
C19: 11 | D19: ='2부.Ⅰ.1.1)'!D17 -> 0 | X19: =IFERROR(O19/SUM(O9:W24),"")
C20: 12 | D20: ='2부.Ⅰ.1.1)'!D18 -> 0 | X20: =IFERROR(O20/SUM(O9:W24),"")
C21: 13 | D21: ='2부.Ⅰ.1.1)'!D19 -> 0 | X21: =IFERROR(O21/SUM(O9:W24),"")
C22: 14 | D22: ='2부.Ⅰ.1.1)'!D20 -> 0 | X22: =IFERROR(O22/SUM(O9:W24),"")
C23: 15 | D23: ='2부.Ⅰ.1.1)'!D21 -> 0 | X23: =IFERROR(O23/SUM(O8:W23),"")
C24: 15 | D24: ='2부.Ⅰ.1.1)'!D22 -> 0 | X24: =IFERROR(O24/SUM(O9:W24),"")
AJ26: ← 필요시 주석 기재
C28: ㅇ 임대주택에 투자하는 부동산투자회사의 임대현황
C29: 주택의 종류 | I29: 주택형 | L29: 총세대수 | P29: 임대세대수 | U29: 세대당 평균_x000D_ 임대보증금(원) | AA29: 세대당 평균_x000D_ 월임대료(원) | AG29: 비고
C30: 1
C31: 2
C32: 3
C33: 4
C34: 5
C35: 6
C36: 7
E37: ※ 주택의 종류는 아파트, 오피스텔, 도시형생활주택 등
E38: ※ 주택형은 59A, 59B, 84A, 84B 등
E39: ※ 세대당 평균임대보증금 및 월임대료는 주택형별 구분 기재(기말 현재 기준)
AJ40: ← 필요시 주석 기재
A42: * 입력도움말_x000D_ 1. 부동산이 15개를 초과할 경우 행추가(복사한 셀 삽입)하여 추가 작성(16번부터 이어서 작성_x000D_ 하고 '부동산명'은 2부.Ⅰ.1.1) 시트와 동일하게 작성)하시기 바라며, 아직 소유한 부동산이_x000D_ 없을 경우 기재하지 마시기 바랍니다._x000D_ 2. 임대주택에 투자하는 부동산투자회사의 임대현황은 임대주택일 경우에만 작성하시기 바라며,_x000D_ 여러 부동산의 임대주택인 경우, 비고란에 해당 부동산명을 작성하여 주시기 바랍니다.

Sheet 3부.Ⅱ.1.2)
C2: 2) 부동산 처분수익
AD3: (단위 : 원)
C4: 부동산명 | I4: 취득_x000D_ 가액 | M4: 평가_x000D_ 손익 | P4: 상각_x000D_ 누계액 | T4: 장부_x000D_ 가액 | X4: 매매_x000D_ 가액 | AB4: 처분_x000D_ 손익 | AF4: 비율_x000D_ (%) | AI4: 비고
C5: 1 | AF5: =IFERROR(AB5/SUM(AB5:AE9),"")
C6: 2 | AF6: =IFERROR(AB6/SUM(AB5:AE9),"")
C7: 3 | AF7: =IFERROR(AB7/SUM(AB5:AE9),"")
C8: 4 | AF8: =IFERROR(AB8/SUM(AB5:AE9),"")
C9: 5 | AF9: =IFERROR(AB9/SUM(AB5:AE9),"")
E10: ※ 부동산개발사업을 통한 분양수익은 비고란에 구분 기재
AL11: ← 필요시 주석 기재
A15: * 입력도움말_x000D_ 1. 필요시 행추가(복사한 셀 삽입)하여 추가 작성하시기 바랍니다._x000D_ 2. 해당사항 없는 항목은 기재하지 마시기 바랍니다._x000D_ _x000D_

Sheet 3부.Ⅱ.2
B2: 2. 부동산 관련 증권 처분손익, 평가손익, 이자 및 배당금
AF4: (단위 : 원)
C5: 구 분 | K5: 매매손익 | Q5: 평가손익 | V5: 이자 및 배당금 | AB5: 비율_x000D_ (%) | AG5: 비 고
C6: 1 | AB6: =IFERROR(SUM(K6:AA6)/SUM(K6:AA10),"")
C7: 2 | AB7: =IFERROR(SUM(K7:AA7)/SUM(K6:AA10),"")
C8: 3 | AB8: =IFERROR(SUM(K8:AA8)/SUM(K6:AA10),"")
C9: 4 | AB9: =IFERROR(SUM(K9:AA9)/SUM(K6:AA10),"")
C10: 5 | AB10: =IFERROR(SUM(K10:AA10)/SUM(K6:AA10),"")
AL12: ← 필요시 주석 기재
A15: * 입력도움말_x000D_ 1. 필요시 행추가(복사한 셀 삽입)하여 추가 작성하시기 바랍니다._x000D_ 2. 해당사항 없는 항목은 기재하지 마시기 바랍니다._x000D_ _x000D_

Sheet 3부.Ⅱ.3
B2: 3. 현금(금융기관 예치내역 포함)
AD4: (단위 : %, 원)
E5: 예치 금융상품 | M5: 예치 금융회사 | V5: 이자율 | Z5: 전분기예치금_x000D_ 발생 수익 | AF5: 당분기예치금_x000D_ 발생 수익 | AL5: 비고
AP12: ← 필요시 주석 기재
A15: * 입력도움말_x000D_ 1. 필요시 행추가(복사한 셀 삽입)하여 추가 작성하시기 바랍니다._x000D_ 2. 해당사항 없는 항목은 기재하지 마시기 바랍니다._x000D_

Sheet 3부.Ⅱ.4
B2: 4. 기타 자산 수익
C4: 구 분 | O4: 금 액(원) | X4: 비율(%) | AC4: 비 고
C5: 1 | X5: =IFERROR(O5/SUM(O5:W9),"")
C6: 2 | X6: =IFERROR(O6/SUM(O5:W9),"")
C7: 3 | X7: =IFERROR(O7/SUM(O5:W9),"")
C8: 4 | X8: =IFERROR(O8/SUM(O5:W9),"")
C9: 5 | X9: =IFERROR(O9/SUM(O5:W9),"")
AJ11: ← 필요시 주석 기재
A14: * 입력도움말_x000D_ 1. 필요시 행추가(복사한 셀 삽입)하여 추가 작성하시기 바랍니다._x000D_ 2. 해당사항 없는 항목은 기재하지 마시기 바랍니다.

Sheet 3부.Ⅲ
A2: Ⅲ. 총 비용 및 지출구조
C4: 구 분 | O4: 금액(원) | W4: 비율(%) | AE4: 비 고
C5: 부동산 | H5: 분양원가 | W5: =IFERROR(O5/$O$14,"")
H6: 감가상각비 | O6: 0 | W6: =IFERROR(O6/$O$14,"")
H7: 기타비용 | O7: 0 | W7: =IFERROR(O7/$O$14,"")
C8: 부동산관련 증권 | H8: 평가손실 | W8: =IFERROR(O8/$O$14,"")
H9: 처분손실 | W9: =IFERROR(O9/$O$14,"")
H10: 기타비용 | W10: =IFERROR(O10/$O$14,"")
C11: 현금 | H11: 현금관련비용 | W11: =IFERROR(O11/$O$14,"")
C12: 기타자산 | H12: 기타자산관련비용 | W12: =IFERROR(O12/$O$14,"")
C13: 기타 | O13: 0 | W13: =IFERROR(O13/$O$14,"")
C14: 총 비 용 | O14: =SUM(O5:V13) -> 0 | W14: =SUM(W5:AD13) -> 0
E15: ※ 부동산관련 증권 평가손실란에는 당기손익에 반영되는 평가손실만 포함
E16: ※ 기타란에는 자산별로 구분되지 않는 비용을 기재
AL17: ← 필요시 주석 기재

Sheet 3부.Ⅳ.1
A2: Ⅳ. 상세내역
B4: 1. 부동산 영업경비
Q6: (단위 : 원)
C7: 구 분 | K7: 합계 | L7: 아산탕정대한제50호 | M7: ex)부동산명2 | N7: ex)부동산관련증권1 | O7: 현금 | P7: 기타자산 | Q7: 기타
C8: 분양원가 | K8: =SUM(L8:Q8) -> 0
C9: 급여 | K9: =SUM(L9:Q9) -> 0
C10: 상여 | K10: =SUM(L10:Q10) -> 0
C11: 퇴직급여 | K11: =SUM(L11:Q11) -> 0
C12: 복리후생비 | K12: =SUM(L12:Q12) -> 0
C13: 자산관리수수료_x000D_ (AMC수수료) | K13: =SUM(L13:Q13) -> 0
C14: 부동산관리수수료_x000D_ (PM, FM 등) | K14: =SUM(L14:Q14) -> 0
C15: 자산보관수수료 | K15: =SUM(L15:Q15) -> 0
C16: 일반사무_x000D_ 위탁수수료 | K16: =SUM(L16:Q16) -> 0 | N16: 0
C17: 기타지급수수료 | K17: =SUM(L17:Q17) -> 0
C18: 유형자산_x000D_ 감가상각비 | K18: =SUM(L18:Q18) -> 0
C19: 투자부동산_x000D_ 감가상각비 | K19: =SUM(L19:Q19) -> 0
C20: 무형자산_x000D_ 감가상각비 | K20: =SUM(L20:Q20) -> 0
C21: 세금과공과 | K21: =SUM(L21:Q21) -> 0
C22: 광고선전비 | K22: =SUM(L22:Q22) -> 0
C23: 보험료 | K23: =SUM(L23:Q23) -> 0
C24: 임차료 | K24: =SUM(L24:Q24) -> 0
C25: 교육훈련비 | K25: =SUM(L25:Q25) -> 0
C26: 여비교통비 | K26: =SUM(L26:Q26) -> 0
C27: 통신비 | K27: =SUM(L27:Q27) -> 0
C28: 수선유지비 | K28: =SUM(L28:Q28) -> 0
... C36: 기타영업비용 | K36: =SUM(L36:Q36) -> 0
R38: ← 필요시 주석 기재
A41: * 입력도움말_x000D_ 1. 필요시 열추가(복사한 셀 삽입)하여 추가 작성하시기 바랍니다._x000D_ 2. 해당사항 없는 항목은 기재하지 마시기 바랍니다._x000D_ 3. 부동산과 부동산관련 유가증권은 각각 기재하시되, 현금과 기타자산은 하나의 항목으로 기재바랍니다._x000D_ _x000D_ _x000D_

Sheet 3부.Ⅳ.2
B2: 2. 업무위탁비용
C4: 구 분 | I4: 종 류 | L4: 위탁기관 | N4: 대상물건, 위탁비율, 계산방법, _x000D_ 지급시기 및 지급방법 | AF4: 위탁비용_x000D_ (원)
C5: 자산관리회사 | I5: 기본보수(매입) | L5: 대한토지신탁 | N5: ○금 25,000백만원 (부가세별도)
I6: 성과보수(매입)
I7: 기본보수(운용) | N7: ○연 36,000만원(부가세 별도)_x000D_ ○매분기마다 9,000만원 지급
I8: 성과보수(운용)
I9: 기본보수(매각)
I10: 성과보수(매각)
C11: 사무수탁회사 | I11: 위탁보수 | L11: 신한펀드파트너스 | N11: ○연 6,000만원(부가세별도)_x000D_ ○매분기마다 1,500만원 지급
C12: 자산보관회사 | I12: 위탁보수 | L12: NH투자증권 | N12: - 건설기간중 보수_x000D_ ○연 2,000만원(부가세별도)_x000D_ ○매분기마다 500만원 지급_x000D_ - 운영기간 중 보수 _x000D_ ○연 3,000만원(부가세별도)_x000D_ ○매분기마다 750만원 지급
C13: 시설관리회사 | I13: 위탁보수
C14: 임대관리회사 | I14: 위탁보수
C15: 재산관리회사 | I15: 위탁보수
C16: 합 계 | AF16: =SUM(AF5:AK15) -> 0
E17: ※ 위탁보수 : 자산관리회사, 자산보관회사 등 위탁기관 및 대상물건, 위탁비율, 계산방법, 지급시기 및 지급방법을 위탁기관_x000D_ 별로 구체적으로 기재하며, 해당 기간의 발생주의에 따른 금액을 위탁비용으로 기재
AL18: ← 필요시 주석 기재
A22: * 입력도움말_x000D_ 1. 표 안의 행은 입력사항에 맞춰 높이를 조절하시면 됩니다._x000D_ 2. 부동산별로 위탁수수료 계산방법이 다를 경우에는 대상물건 등의 해당 셀 안의 내용입력시 부동산별로 입력하시면 됩니다._x000D_

Sheet 3부.Ⅴ
A2: Ⅴ. 자기자본수익률
AF4: (단위 : %)
C5: 구 분 | N5: 제 | O5: =표지!E8 -> 1 | P5: =표지!F8 -> 기 | Q5: =표지!G8 -> 3 | R5: 분 | S5: 기 | T5: 제 | U5: 1 | V5: 기 | W5: 2 | X5: 분 | Y5: 기 | Z5: 제 | AA5: 1 | AB5: 기 | AC5: 1 | AD5: 분 | AE5: 기 | AF5: 제 | AG5: - | AH5: 기 | AI5: - | AJ5: 분 | AK5: 기
C6: 당해회사수익률 | N6: =IFERROR((((1+(N12/((N14+N15)/2)))^(12/N13))-1)*100,"") -> 0 | T6: =IFERROR((((1+(T12/((T14+T15)/2)))^(12/T13))-1)*100,"") -> 0 | Z6: =IFERROR((((1+(Z12/((Z14+Z15)/2)))^(12/Z13))-1)*100,"") -> 0 | AF6: =IFERROR((((1+(AF12/((AF14+AF15)/2)))^(12/AF13))-1)*100,"")
E7: ※ 수익률은 회계적 자기자본이익률(Return on Equity)로서 연단위로 환산하며 다음과 같이 _x000D_ 계산함_x000D_ 1사분기수익률={1+(당분기순이익/[(연기초납입자본금+분기말납입자본금)/2])}^4 -1_x000D_ 2사분기수익률={1+(당반기순이익/[(연기초납입자본금+분기말납입자본금)/2])}^2 -1_x000D_ 3사분기수익률={1+(1분기부터 3분기까지의 순이익/[(연기초납입자본금+분기말납입자본금)/2])}^4/3 -1_x000D_ 4사분기수익률=(당기순이익/[(연기초납입자본금+분기말납입자본금)/2])_x000D_ ※ 납입자본금 = 자본금 + 자본잉여금_x000D_ ※ 상기산식은 1기 사업연도가 12개월일 경우를 가정한 것으로, 1기의 사업연도가 6개월일 _x000D_ 경우 상기 산식을 준용하여 최근 1년간 분기별 연환산 자기자본수익율을 제시할 것_x000D_ ※ 수익률은 소수점 둘째 자리까지 기재할 것
AL8: ← 필요시 주석 기재
C10: * 산출근거자료
C11: 구 분 | N11: 제 | O11: =O5 -> 1 | P11: =P5 -> 기 | Q11: =Q5 -> 3 | R11: 분 | S11: 기 | T11: 제 | U11: =U5 -> 1 | V11: =V5 -> 기 | W11: =W5 -> 2 | X11: 분 | Y11: 기 | Z11: 제 | AA11: =AA5 -> 1 | AB11: =AB5 -> 기 | AC11: =AC5 -> 1 | AD11: 분 | AE11: 기 | AF11: 제 | AG11: =AG5 -> - | AH11: =AH5 -> 기 | AI11: =AI5 -> - | AJ11: 분 | AK11: 기
C12: 분기누적순이익 | N12: ='5부.Ⅱ'!U73 -> 0 | T12: 0 | Z12: 0
C13: 분기누적개월수 | N13: 9 | T13: 6 | Z13: 3
C14: 연기초납입자본금 | N14: 300000000 | T14: 300000000 | Z14: 300000000
C15: 분기말납입자본금 | N15: ='5부.Ⅰ'!U112+'5부.Ⅰ'!U115 -> 300000000 | T15: 300000000 | Z15: 300000000
A17: * 입력도움말_x000D_ 1. 기수는 표 왼쪽부터 최근 기수를 입력하여 주시기 바랍니다.

Sheet 4부.Ⅰ.1
A2: 제 4 부 부동산개발사업에 대한 투자 현황
A4: Ⅰ. 부동산개발사업의 현황
B6: 1. 개요
AD8: (단위 : 백만원)
C9: 개발사업명 | H9: 소재지 | M9: 개발규모(㎡) | Q9: 준공_x000D_ 예정일 | U9: 공정률 | X9: 총사업비 | AB9: 총_x000D_ 투자금액 | AF9: 기_x000D_ 투자금액 | AJ9: 비고 | AL9: 투자대상
C10: 충남 아산 탕정 매곡리 공공지원민간임대주택사업 | H10: 충남 아산시 탕정면 매곡리 70-4번지 일원 | M10: 268588.07 | Q10: 2027.10.01 | U10: 0 | X10: 941505 | AB10: =X10-AF10 -> 941505 | AF10: 0 | AL10: 주택
E15: ※ 1. 총사업비는 당해 개발사업의 총사업비를 말함_x000D_ 2. 총투자금액은 당해 부동산투자회사가 투자하여야 하는 총금액을 말함_x000D_ 3. 기투자금액이란 당해 부동산투자회사가 이미 투자한 총금액을 말함
AL16: ← 필요시 주석 기재
A19: * 입력도움말_x000D_ 1. 필요시 행추가(복사한 셀 삽입)하여 추가 작성하시기 바랍니다._x000D_ 2. 해당사항 없는 항목은 기재하지 마시기 바랍니다._x000D_ 3. 개발규모, 공정률, 총사업비, 총투자금액, 기투자금액은 숫자로만 입력하시고, 자세한 사항은 비고 혹은 4부.Ⅰ.2 시트를 이용_x000D_ 하시기 바랍니다._x000D_ 4. 준공예정일은 YYYY-MM-DD 형식으로 입력 바랍니다._x000D_ 5. AL열 투자대상을 선택하여 주시기 바랍니다.

Sheet 4부.Ⅰ.2
B2: 2. 당분기에 추진중인 부동산개발사업 현황
B4: 1) 부동산개발사업명(1)
C5: - 충남 아산 탕정 매곡리 공공지원민간임대주택사업_x000D_ 1. 사업의 개요_x000D_ - 소재지 : 충청남도 아산시 탕정면 매곡리 공공지원민간임대주택 공급촉진지구 S-1BL_x000D_ - 대지면적 : 75,469.00㎡_x000D_ - 총 세대수: 1,710 세대_x000D_ 2. 자금의 조달, 투자 및 회수에 관한 사항_x000D_ - 자금의 조달 : 자본금 188,400백만원/차입금 580,548백만원/임대보증금 등 172,563백만원_x000D_ - 투자 및 회수에 관한 사항_x000D_ 공공지원민간임대주택 1,710세대를 매입 후, 10년 임대공급 후 매각_x000D_ 3. 추정손익에 관한 사항_x000D_ - 본 사업의 추정 영업이익은 135,822백만원_x000D_ 4. 사업의 위험에 관한 사항_x000D_ - 환금성 등 주식 위험 관련_x000D_ - 유동성 관련 위험_x000D_ - 대리인 및 이해상충위험 관련_x000D_ - 제도변화 위험 관련_x000D_ 5. 공사시공 등 외 용역에 관한 사항_x000D_ - 자산관리 : 대한토지신탁(주)_x000D_ - 자산보관 : 엔에이치투자증권(주)_x000D_ - 사무관리 : 신한펀드파트너스(주)_x000D_ 6. 그 밖에 투자자를 보호하기 위하여 필요한 사항_x000D_ - 투자자 보호를 위한 사항을 정관에서 정함 | AL5: - 사업계획서가 작성되어 이사회 결의를 거친 프로젝트 및 건설중인 프로젝트를 의미하며, _x000D_ 이 경우 기 작성된 사업계획서를 바탕으로 하여 다음의 순으로 내용을 개략 나타냄_x000D_ _x000D_ · 사업의 개요_x000D_ · 자금의 조달, 투자 및 회수에 관한 사항_x000D_ · 추정손익에 관한 사항_x000D_ · 사업의 위험에 관한 사항_x000D_ · 공사시공 등 외용역에 관한 사항_x000D_ · 그 밖에 투자자를 보호하기 위하여 필요한 사항
B11: 2) 부동산개발사업명(2)
B18: 3) 장래 예정인 부동산개발사업 현황
AL19: - 사업계획서 작성 이전 단계에 있으나, 개발 추진가능성이 상당하고 정보의 공개가 당사의 이익에_x000D_ 해가 되지 않는다면, 대상 프로젝트에 대한 개략적 정보를 나타냄
A27: * 입력도움말_x000D_ 1. 필요시 행추가(복사한 셀 삽입)하여 추가 작성하시기 바랍니다._x000D_ 2. 해당사항 없는 항목은 기재하지 마시기 바랍니다._x000D_ 3. 하단의 숨김처리된 행은 아래쪽 이중 테두리 서식이 걸려있으며, 이는 프로세스에서 데이터가 끝났음을 인식하기 위한 행이오니 삭제하지 마시기 바랍니다._x000D_

Sheet 5부.Ⅰ
B2: 제 5 부 재무제표에 관한 사항
B4: Ⅰ. 재무상태표
M6: 당기 | P6: 제 | Q6: =표지!E8 -> 1 | R6: 기 | S6: =표지!G8 -> 3 | T6: 분기 | W6: 기준일 | AA6: =표지!G6 -> 2024.09.30 | AE6: 현재
M7: 전기 | P7: 제 | Q7: =Q6-1 -> 0 | R7: 기 | T7: 기말 | W7: 기준일 | AA7: 2023.09.30 | AE7: 현재
D8: 회사명: | G8: =표지!E28 -> (주)아산탕정대한제50호위탁관리부동산투자회사 | AI8: (단위: 원)
D9: 과 목 | R9: 제 | S9: =Q6 -> 1 | T9: (당)기 | V9: =S6 -> 3 | W9: =T6 -> 분기 | AD9: 제 | AE9: =Q7 -> 0 | AF9: (전)기 | AI9: =T7 -> 기말
O10: 금 액 | AA10: 금 액
D11: I. 자 산
A12: A000000 | D12: 1. 유동자산 | U12: =+O13+O14+O15+O16+O17+O18+O19+O20+O21+O22+O23+O24+O25+O26+O32+O33+O34+O35 -> 300000000 | AG12: =+AA13+AA14+AA15+AA16+AA17+AA18+AA19+AA20+AA21+AA22+AA23+AA24+AA25+AA26+AA32+AA33+AA34+AA35 -> 0
A13: A011000 | D13: 1) 현금및현금성자산 | O13: 300000000
A14: A012000 | D14: 2) 단기금융상품
A15: A013000 | D15: 3) 매출채권
A16: A014000 | D16: 4) 미청구공사
A17: A015000 | D17: 5) 미수수익
A18: A016000 | D18: 6) 분양미수금
A19: A017000 | D19: 7) 기타미수금
A20: A018000 | D20: 8) 선급금
A21: A019000 | D21: 9) 선급비용
A22: A020000 | D22: 10) 부가세대급금
A23: A021000 | D23: 11) 선급법인세
A24: A022000 | D24: 12) 단기대여금
A25: A023000 | D25: 13) 유가증권
A26: A024000 | D26: 14) 재고자산 | O26: =+O27+O28+O29+O30+O31 -> 0 | AA26: =+AA27+AA28+AA29+AA30+AA31 -> 0
A27: A024110 | D27: 용지
A28: A024120 | D28: 미성공사
A29: A024130 | D29: 완성주택
A30: A024140 | D30: 미완성주택
A31: A024990 | D31: 기타
A32: A025000 | D32: 15) 유동파생상품자산
A33: A026000 | D33: 16) 유동보증금
A34: A027000 | D34: 17) 매각예정 비유동자산
A35: A099000 | D35: 18) 기타유동자산
A36: B000000 | D36: 2. 비유동자산 | U36: =+O37+O38+O39+O40+O46+O60+O71+O75+O76+O77+O78 -> 0 | AG36: =+AA37+AA38+AA39+AA40+AA46+AA60+AA71+AA75+AA76+AA77+AA78 -> 0
A37: B011000 | D37: 1) 장기금융상품
A38: B012000 | D38: 2) 장기매출채권
A39: B013000 | D39: 3) 장기대여금
A40: B014000 | D40: 4) 유가증권 | O40: =+O41+O42+O43+O44+O45 -> 0 | AA40: =+AA41+AA42+AA43+AA44+AA45 -> 0
A41: B014110 | D41: 매도가능금융자산
A42: B014120 | D42: 만기보유금융자산
A43: B014130 | D43: 관계기업투자
A44: B014140 | D44: 종속기업투자
A45: B014990 | D45: 기타
A46: B015000 | D46: 5) 유형자산 | O46: =+O47+O48+O49+O50+O51+O52+O53+O54+O55+O56+O57+O58+O59 -> 0 | AA46: =+AA47+AA48+AA49+AA50+AA51+AA52+AA53+AA54+AA55+AA56+AA57+AA58+AA59 -> 0
A47: B015110 | D47: 토지
A48: B015111 | D48: 손상차손누계액(유형자산-토지)
A49: B015112 | D49: 기타(유형자산-토지)
A50: B015120 | D50: 건물
A51: B015121 | D51: 감가상각누계액(유형자산-건물)
A52: B015122 | D52: 손상차손누계액(유형자산-건물)
A53: B015123 | D53: 기타(유형자산-건물)
A54: B015130 | D54: 건설중인자산
A55: B015131 | D55: 기타(건설중인자산)
A56: B015990 | D56: 기타유형자산
A57: B015991 | D57: 감가상각누계액(유형자산-기타유형자산)
A58: B015992 | D58: 손상차손누계액(유형자산-기타유형자산)
A59: B015993 | D59: 기타(유형자산-기타유형자산)
A60: B016000 | D60: 6) 투자부동산 | O60: =+O61+O62+O63+O64+O65+O66+O67+O68+O69+O70 -> 0 | AA60: =+AA61+AA62+AA63+AA64+AA65+AA66+AA67+AA68+AA69+AA70 -> 0
A61: B016110 | D61: 토지
A62: B016111 | D62: 손상차손누계액(투자부동산-토지)
A63: B016112 | D63: 기타(투자부동산-토지)
A64: B016120 | D64: 건물
A65: B016121 | D65: 감가상각누계액(투자부동산-건물)
A66: B016122 | D66: 손상차손누계액(투자부동산-건물)
A67: B016123 | D67: 기타(투자부동산-건물)
A68: B016130 | D68: 건설중인자산
A69: B016131 | D69: 기타(건설중인자산)
A70: B016990 | D70: 기타
A71: B017000 | D71: 7) 무형자산 | O71: =+O72+O73+O74 -> 0 | AA71: =+AA72+AA73+AA74 -> 0
A72: B017110 | D72: 소프트웨어
A73: B017120 | D73: 회원권
A74: B017990 | D74: 기타
A75: B018000 | D75: 8) 비유동보증금
A76: B019000 | D76: 9) 비유동파생상품자산
A77: B020000 | D77: 10) 금융리스채권
A78: B099000 | D78: 110) 기타비유동자산
A79: C000000 | D79: 자 산 총 계 | U79: =U12+U36 -> 300000000 | AG79: =AG12+AG36 -> 0
D80: Ⅱ. 부채
A81: D000000 | D81: 1. 유동부채 | U81: =+O82+O83+O84+O85+O86+O87+O88+O89+O90+O91+O92+O93+O94+O95+O96+O97+O98+O99 -> 0 | AG81: =+AA82+AA83+AA84+AA85+AA86+AA87+AA88+AA89+AA90+AA91+AA92+AA93+AA94+AA95+AA96+AA97+AA98+AA99 -> 0
A82: D011000 | D82: 1) 매입채무
A83: D012000 | D83: 2) 초과청구공사
A84: D013000 | D84: 3) 분양선수금
A85: D014000 | D85: 4) 기타선수금
A86: D015000 | D86: 5) 선수수익
A87: D016000 | D87: 6) 미지급금
A88: D017000 | D88: 7) 미지급비용
A89: D018000 | D89: 8) 예수금
A90: D019000 | D90: 9) 부가세예수금
A91: D020000 | D91: 10) 미지급법인세
A92: D021000 | D92: 11) 미지급배당금
A93: D022000 | D93: 12) 단기차입금
... A99: D099000 | D99: 18) 기타유동부채
A100: E000000 | D100: 2. 비유동부채 | U100: =+O101+O102+O103+O104+O105+O106+O107+O108+O109 -> 0 | AG100: =+AA101+AA102+AA103+AA104+AA105+AA106+AA107+AA108+AA109 -> 0
A101: E011000 | D101: 1) 장기매입채무
A102: E012000 | D102: 2) 장기미지급금
A103: E013000 | D103: 3) 장기차입금
A104: E014000 | D104: 4) 비유동사채
A105: E015000 | D105: 5) 비유동보증금
A106: E016000 | D106: 6) 비유동파생상품부채
A107: E017000 | D107: 7) 순확정급여채무
A108: E018000 | D108: 8) 비유동충당부채
...

Sheet 5부.Ⅱ
B2: Ⅱ. 손익계산서
J4: 당기 | L4: 제 | M4: ='5부.Ⅰ'!Q6 -> 1 | N4: 기 | O4: ='5부.Ⅰ'!S6 -> 3 | P4: 분기 | S4: 시작일 | V4: 2024.07.01 | Z4: 종료일 | AC4: =표지!G6 -> 2024.09.30
J5: 전기 | L5: 제 | M5: ='5부.Ⅰ'!Q7 -> 0 | N5: 기 | O5: =IF(OR(M4=1),"-",O4) -> - | P5: 분기 | S5: 시작일 | Z5: 종료일
D6: 회사명: | G6: =표지!E28 -> (주)아산탕정대한제50호위탁관리부동산투자회사 | AI6: (단위: 원)
D7: 과 목 | S7: 제 | T7: =M4 -> 1 | U7: (당)기 | AE7: 제 | AF7: =M5 -> 0 | AG7: (전)기
A8: 코 드 | O8: 금 액 | AA8: 금 액
O9: 최근3개월 | U9: 당기누적 | AA9: 최근3개월 | AG9: 전기누적
A10: N000000 | D10: Ⅰ. 영업수익 | O10: =+O11+O12+O13+O14+O15+O16+O17 -> 0 | U10: =+U11+U12+U13+U14+U15+U16+U17 -> 0 | AA10: =+AA11+AA12+AA13+AA14+AA15+AA16+AA17 -> 0 | AG10: =+AG11+AG12+AG13+AG14+AG15+AG16+AG17 -> 0
A11: N011000 | D11: 1) 분양수익
A12: N012000 | D12: 2) 임대료수익
A13: N013000 | D13: 3) 관리비수익
A14: N014000 | D14: 4) 부동산평가수익
A15: N015000 | D15: 5) 배당금수익
A16: N016000 | D16: 6) 금융리스이자수익
A17: N099000 | D17: 7) 기타영업수익
A18: O000000 | D18: Ⅱ. 영업비용 | O18: =+O19+O20+O21+O22+O23+O24+O25+O26+O27+O28+O29+O30+O31+O32+O33+O34+O35+O36+O37+O38+O39+O40+O41+O42+O43+O44+O45+O46+O47 -> 0 | U18: =+U19+U20+U21+U22+U23+U24+U25+U26+U27+U28+U29+U30+U31+U32+U33+U34+U35+U36+U37+U38+U39+U40+U41+U42+U43+U44+U45+U46+U47 -> 0 | AA18: =+AA19+AA20+AA21+AA22+AA23+AA24+AA25+AA26+AA27+AA28+AA29+AA30+AA31+AA32+AA33+AA34+AA35+AA36+AA37+AA38+AA39+AA40+AA41+AA42+AA43+AA44+AA45+AA46+AA47 -> 0 | AG18: =+AG19+AG20+AG21+AG22+AG23+AG24+AG25+AG26+AG27+AG28+AG29+AG30+AG31+AG32+AG33+AG34+AG35+AG36+AG37+AG38+AG39+AG40+AG41+AG42+AG43+AG44+AG45+AG46+AG47 -> 0
A19: O011000 | D19: 1) 분양원가
A20: O012000 | D20: 2) 급여
A21: O013000 | D21: 3) 상여
A22: O014000 | D22: 4) 퇴직급여
A23: O015000 | D23: 5) 복리후생비
A24: O016000 | D24: 6) 자산관리수수료(AMC수수료)
A25: O017000 | D25: 7) 부동산관리수수료(PM, FM 등)
A26: O018000 | D26: 8) 자산보관수수료
A27: O019000 | D27: 9) 일반사무위탁수수료
A28: O020000 | D28: 10) 기타지급수수료
A29: O021000 | D29: 11) 유형자산감가상각비
A30: O022000 | D30: 12) 투자부동산감가상각비
... A47: O099000 | D47: 29) 기타영업비용
A48: P000000 | D48: Ⅲ. 영업이익 | O48: =O10-O18 -> 0 | U48: =U10-U18 -> 0 | AA48: =AA10-AA18 -> 0 | AG48: =AG10-AG18 -> 0
A49: Q000000 | D49: Ⅳ. 영업외수익 | O49: =+O50+O51+O52+O53+O54+O55+O56+O57+O58+O59 -> 0 | U49: =+U50+U51+U52+U53+U54+U55+U56+U57+U58+U59 -> 0 | AA49: =+AA50+AA51+AA52+AA53+AA54+AA55+AA56+AA57+AA58+AA59 -> 0 | AG49: =+AG50+AG51+AG52+AG53+AG54+AG55+AG56+AG57+AG58+AG59 -> 0
A50: Q011000 | D50: 1) 이자수익
A51: Q012000 | D51: 2) 배당금수익
A52: Q013000 | D52: 3) 유가증권관련이익(처분이익 등)
A53: Q014000 | D53: 4) 파생상품관련이익(처분이익 등)
A54: Q015000 | D54: 5) 유형자산관련이익(처분이익 등)
A55: Q016000 | D55: 6) 투자부동산관련이익(처분이익 등)
A56: Q017000 | D56: 7) 외화환산이익
A57: Q018000 | D57: 8) 외환차익
A58: Q019000 | D58: 9) 충당부채환입
A59: Q099000 | D59: 10) 기타영업외수익
A60: R000000 | D60: Ⅴ. 영업외비용 | O60: =+O61+O62+O63+O64+O65+O66+O67+O68+O69+O70 -> 0 | U60: =+U61+U62+U63+U64+U65+U66+U67+U68+U69+U70 -> 0 | AA60: =+AA61+AA62+AA63+AA64+AA65+AA66+AA67+AA68+AA69+AA70 -> 0 | AG60: =+AG61+AG62+AG63+AG64+AG65+AG66+AG67+AG68+AG69+AG70 -> 0
A61: R011000 | D61: 1) 이자비용
A62: R012000 | D62: 2) 유가증권관련손실(처분손실 등)
A63: R013000 | D63: 3) 파생상품관련손실(처분손실 등)
A64: R014000 | D64: 4) 유형자산관련손실(처분손실 등)
A65: R015000 | D65: 5) 투자부동산관련손실(처분손실 등)
A66: R016000 | D66: 6) 외화환산손실
A67: R017000 | D67: 7) 외환차손
A68: R018000 | D68: 8) 기부금
A69: R019000 | D69: 9) 충당부채전입
A70: R099000 | D70: 10) 기타영업외비용
A71: S000000 | D71: Ⅵ. 법인세비용차감전순이익(손실) | O71: =O48+O49-O60 -> 0 | U71: =U48+U49-U60 -> 0 | AA71: =AA48+AA49-AA60 -> 0 | AG71: =AG48+AG49-AG60 -> 0
A72: T000000 | D72: Ⅶ. 법인세비용(수익)
A73: U000000 | D73: Ⅷ. 당기순이익(손실) | O73: =O71-O72 -> 0 | U73: =U71-U72 -> 0 | AA73: =AA71-AA72 -> 0 | AG73: =AG71-AG72 -> 0
A74: V000000 | D74: Ⅸ. 기타포괄이익(손실) | O74: =+O75+O76+O77 -> 0 | U74: =+U75+U76+U77 -> 0 | AA74: =+AA75+AA76+AA77 -> 0 | AG74: =+AG75+AG76+AG77 -> 0
A75: V011000 | D75: 1) 확정급여채무 관련 기타포괄손익
A76: V012000 | D76: 2) 유가증권 관련 기타포괄손익
A77: V099000 | D77: 3) 기타의 기타포괄손익
A78: W000000 | D78: Ⅹ. 총포괄이익(손실) | O78: =O73+O74 -> 0 | U78: =U73+U74 -> 0 | AA78: =AA73+AA74 -> 0 | AG78: =AG73+AG74 -> 0
A79: X000000 | D79: ⅩⅠ. 주당이익
AM81: ← 필요시 주석 기재
B84: * 입력도움말_x000D_ 1. 계정과목은 수정하지 마시기 바랍니다.(일치하는 계정과목이 없는경우 해당 대분류 아래 '기타'에 입력)_x000D_ 2. 해당하는 계정과목에만 금액을 입력하시고, 그외는 기재하지 마시기 바랍니다._x000D_ 3. 전기는 당기와 동일한 기간으로 입력하시기 바랍니다._x000D_ (예) : 3분기 투자보고서인 경우, 당기 최근3개월(당기 3분기 발생액), 당기누적(당기 1~3분기 누적액)_x000D_ 전기 최근3개월(전기 3분기 발생액), 전기누적(전기 1~3분기 누적액) _x000D_ 4. 회사별로 계정과목 대분류가 다를 수 있습니다._x000D_ 각 회사 기존 감사보고서상 재무제표와 대분류(영업수익, 영업비용, 영업외수익, 영업외비용 등)를 일치시켜 주시기 바랍_x000D_ 니다. 예를들어 투자부동산평가이익을 영업수익으로 분류하는 회사는 Ⅰ. 영업수익 아래 4. 기타영업수익으로 입력하고, _x000D_ 투자부동산평가이익을 영업외수익으로 분류하는 회사는 Ⅳ. 영업외수익 아래 6. 투자부동산관련이익(처분이익 등)으로 _x000D_ 분류하시면 됩니다._x000D_ 5. 매출원가와 판매비와관리비는 영업비용에 넣으시기 바랍니다. _x000D_ 6. 당기순손실, 기타포괄손실 등 음수인 계정과목은 숫자 앞에 '-'를 붙여 음수로 입력하시기 바랍니다._x000D_ 7. 표 왼쪽에 적혀있는 코드는 수정 및 삭제하지 마시기 바랍니다.

Sheet 5부.Ⅲ
B2: Ⅲ. 이익잉여금처분계산서
G3: 이익잉여금처분계산서는 결산기 작성대상으로 분기에는 작성하지 않습니다.
J4: 당기 | L4: 제 | M4: ='5부.Ⅰ'!Q6 -> 1 | N4: 기 | O4: ='5부.Ⅰ'!S6 -> 3 | P4: 분기 | S4: 시작일 | V4: ='5부.Ⅱ'!V4 -> 2024.07.01 | Z4: 종료일 | AC4: ='5부.Ⅱ'!AC4 -> 2024.09.30
J5: 전기 | L5: 제 | M5: ='5부.Ⅰ'!Q7 -> 0 | N5: 기 | P5: 기말 | S5: 시작일 | V5: ='5부.Ⅱ'!V5 -> 0 | Z5: 종료일 | AC5: ='5부.Ⅱ'!AC5 -> 0
D6: 회사명: | G6: =표지!E28 -> (주)아산탕정대한제50호위탁관리부동산투자회사 | AI6: (단위: 원)
D7: 과 목 | S7: 제 | T7: =M4 -> 1 | U7: (당)기 | AE7: 제 | AF7: =M5 -> 0 | AG7: (전)기
O8: 처분예정일 | U8: 0000.00.00 | AA8: 처분확정일 | AG8: 0000.00.00
A9: 코 드 | O9: 금 액 | AA9: 금 액
A10: P000000 | D10: Ⅰ. 미처분이익잉여금(미처리결손금) | U10: =SUM(O11:T14) -> 0 | AG10: =SUM(AA11:AF14) -> 0
A11: P000001 | D11: 1. 전기이월미처분이익잉여금(미처리결손금)
A12: P000002 | D12: 2. 당기순이익(손실)
A13: P000003 | D13: 3. 확정급여채무의 재측정요소
A14: P000004 | D14: 4. 기타
A15: P000005 | D15: Ⅱ. 임의적립금등의 이입액
A16: P000006 | D16: Ⅲ. 이익잉여금처분액 | U16: =-(O17+O18+O19+O20+O25) -> 0 | AG16: =-(AA17+AA18+AA19+AA20+AA25) -> 0
A17: P000007 | D17: 1. 법정준비금
A18: P000008 | D18: 2. 임의준비금
A19: P000009 | D19: 3. 주식할인발행차금상각액
A20: P000010 | D20: 4. 배당금 | O20: =SUM(O21:T24) -> 0 | AA20: =SUM(AA21:AF24) -> 0
A21: P000011 | D21: 보통주현금배당금
A22: P000012 | D22: 종류주현금배당금
A23: P000013 | D23: 보통주주식배당금
A24: P000014 | D24: 종류주주식배당금
A25: P000015 | D25: 5. 기타
A26: P000016 | D26: Ⅳ. 결손금처리액
A27: P000017 | D27: Ⅴ. 차기이월미처분이익잉여금(미처리결손금) | U27: =U10+U15+U16+U26 -> 0 | AG27: =AG10+AG15+AG16+AG26 -> 0
AM29: ← 필요시 주석 기재
B32: * 입력도움말_x000D_ 1. 계정과목은 수정하지 마시기 바랍니다.(일치하는 계정과목이 없는경우 해당 대분류 아래 '기타'에 입력)_x000D_ 2. 해당하는 계정과목에만 금액을 입력하시고, 그외는 기재하지 마시기 바랍니다._x000D_ 3 이익잉여금처분계산서는 결산기에만 입력하시기 바랍니다._x000D_ 4. 미처리결손금, 당기순손실, 결손금처리액과 같이 음수인 계정과목은 숫자 앞에 '-'를 붙여 음수로 입력하시기 바랍니다._x000D_ 5. 표 왼쪽에 적혀있는 코드는 수정 및 삭제하지 마시기 바랍니다._x000D_

Sheet 5부.Ⅳ
B2: Ⅳ. 현금흐름표
G3: 현금흐름표는 결산기 작성대상으로 분기에는 작성하지 않습니다.
J4: 당기 | L4: 제 | M4: ='5부.Ⅰ'!Q6 -> 1 | N4: 기 | O4: ='5부.Ⅰ'!S6 -> 3 | P4: 분기 | S4: 시작일 | V4: ='5부.Ⅱ'!V4 -> 2024.07.01 | Z4: 종료일 | AC4: ='5부.Ⅱ'!AC4 -> 2024.09.30
J5: 전기 | L5: 제 | M5: ='5부.Ⅰ'!Q7 -> 0 | N5: 기 | P5: 기말 | S5: 시작일 | V5: ='5부.Ⅱ'!V5 -> 0 | Z5: 종료일 | AC5: ='5부.Ⅱ'!AC5 -> 0
D6: 회사명: | G6: =표지!E28 -> (주)아산탕정대한제50호위탁관리부동산투자회사 | AI6: (단위: 원)
D7: 과 목 | S7: 제 | T7: =M4 -> 1 | U7: (당)기 | AE7: 제 | AF7: =M5 -> 0 | AG7: (전)기
A8: 코 드 | O8: 금 액 | AA8: 금 액
A9: Q000000 | D9: Ⅰ. 영업활동으로 인한 현금흐름 | U9: =U10+U11+U24+U47+U48+U49+U50 -> 0 | AG9: =AG10+AG11+AG24+AG47+AG48+AG49+AG50 -> 0
A10: Q000001 | D10: 1. 당기순이익(손실)
A11: R000000 | D11: 2. 당기순이익 조정을 위한 가감 | U11: =SUM(O12:T23) -> 0 | AG11: =SUM(AA12:AF23) -> 0
A12: R000001 | D12: 법인세비용
A13: R000002 | D13: 이자수익
A14: R000003 | D14: 이자비용
A15: R000004 | D15: 감가상각비
A16: R000005 | D16: 유가증권관련손실(이익)
A17: R000006 | D17: 파생상품관련손실(이익)
A18: R000007 | D18: 유형자산관련손실(이익)
A19: R000008 | D19: 투자부동산관련손실(이익)
A20: R000009 | D20: 외화환산손실(이익)
A21: R000011 | D21: 금융리스이자비용
A22: R000012 | D22: 금융리스이자수익
A23: R000010 | D23: 기타
A24: S000000 | D24: 3. 영업활동 관련 자산(부채)의 감소(증가) | U24: =SUM(O25:T46) -> 0 | AG24: =SUM(AA25:AF46) -> 0
A25: S000001 | D25: 재고자산의 변동
A26: S000002 | D26: 금융상품의 변동
A27: S000003 | D27: 매출채권의 변동
A28: S000004 | D28: 투자부동산의 변동
A29: S000005 | D29: 미청구공사의 변동
A30: S000006 | D30: 미수수익의 변동
A31: S000007 | D31: 분양미수금의 변동
A32: S000008 | D32: 기타미수금의 변동
A33: S000009 | D33: 선급금의 변동
A34: S000010 | D34: 선급비용의 변동
A35: S000011 | D35: 매입채무의 변동
A36: S000012 | D36: 초과청구공사의 변동
... A50: T000003 | D50: 7. 법인세의 납부
A51: U000000 | D51: Ⅱ. 투자활동으로 인한 현금흐름 | U51: =U52+U60 -> 0 | AG51: =AG52+AG60 -> 0
A52: U000001 | D52: 1. 투자활동으로 인한 현금유입액 | U52: =SUM(O53:T59) -> 0 | AG52: =SUM(AA53:AF59) -> 0
A53: U000002 | D53: 매도가능금융자산의 처분
A54: U000003 | D54: 만기보유금융자산의 처분
A55: U000004 | D55: 관계기업투자주식의 처분
A56: U000005 | D56: 종속기업투자주식 처분
A57: U000006 | D57: 유형자산의 처분
A58: U000007 | D58: 투자부동산의 처분
A59: U000008 | D59: 기타
A60: U000009 | D60: 2. 투자활동으로 인한 현금유출액 | U60: =-SUM(O61:T67) -> 0 | AG60: =-SUM(AA61:AF67) -> 0
A61: U000010 | D61: 매도가능금융자산의 취득
A62: U000011 | D62: 만기보유금융자산의 취득
A63: U000012 | D63: 관계기업투자주식의 취득
A64: U000013 | D64: 종속기업투자주식의 취득
A65: U000014 | D65: 유형자산의 취득
A66: U000015 | D66: 투자부동산의 취득
A67: U000016 | D67: 기타
A68: V000000 | D68: Ⅲ. 재무활동으로 인한 현금흐름 | U68: =U69+U75 -> 0 | AG68: =AG69+AG75 -> 0
A69: V000001 | D69: 1. 재무활동으로 인한 현금유입액 | U69: =SUM(O70:T74) -> 0 | AG69: =SUM(AA70:AF74) -> 0
A70: V000002 | D70: 주식의 발행
A71: V000003 | D71: 단기차입금의 차입
A72: V000004 | D72: 장기차입금의 차입
A73: V000005 | D73: 사채의 발행
A74: V000006 | D74: 기타
A75: V000007 | D75: 2. 재무활동으로 인한 현금유출액 | U75: =-SUM(O76:T80) -> 0 | AG75: =-SUM(AA76:AF80) -> 0
A76: V000008 | D76: 단기차입금의 상환
A77: V000009 | D77: 장기차입금의 상환
A78: V000010 | D78: 사채의 상환
A79: V000011 | D79: 배당금의 지급
A80: V000012 | D80: 기타
A81: W000000 | D81: Ⅳ. 환율변동효과 반영전 현금및현금성자산의 증감 | U81: =U9+U51+U68 -> 0 | AG81: =AG9+AG51+AG68 -> 0
A82: W000001 | D82: Ⅴ. 현금및현금성자산에 대한 환율변동효과
A83: W000002 | D83: Ⅵ. 현금및현금성자산의 순증감 | U83: =U81+U82 -> 0 | AG83: =AG81+AG82 -> 0
A84: W000003 | D84: Ⅶ. 기초 현금및현금성자산
A85: W000004 | D85: Ⅷ. 기말 현금및현금성자산 | U85: =U83+U84 -> 0 | AG85: =AG83+AG84 -> 0
AM87: ← 필요시 주석 기재
B90: * 입력도움말_x000D_ 1. 계정과목은 수정하지 마시기 바랍니다.(일치하는 계정과목이 없는경우 해당 대분류 아래 '기타'에 입력)_x000D_ 2. 해당하는 계정과목에만 금액을 입력하시고, 그외는 기재하지 마시기 바랍니다._x000D_ 3. 현금흐름표는 결산기에만 입력하시기 바랍니다._x000D_ 4. 이자의 지급, 법인세납부 등과 같이 음수인 계정과목은 숫자 앞에 '-'를 붙여 음수로 입력하시기 바랍니다._x000D_ 5. 표 왼쪽에 적혀있는 코드는 수정하지 마시기 바랍니다._x000D_

Sheet 5부.Ⅴ
B2: Ⅴ. 자본변동표
G3: 자본변동표는 결산기 작성대상으로 분기에는 작성하지 않습니다.
J4: 당기 | L4: 제 | M4: ='5부.Ⅱ'!M4 -> 1 | N4: 기 | O4: ='5부.Ⅰ'!S6 -> 3 | P4: 분기 | S4: 시작일 | V4: ='5부.Ⅱ'!V4 -> 2024.07.01 | Z4: 종료일 | AC4: ='5부.Ⅱ'!AC4 -> 2024.09.30
J5: 전기 | L5: 제 | M5: ='5부.Ⅱ'!M5 -> 0 | N5: 기 | P5: 기말 | S5: 시작일 | V5: ='5부.Ⅱ'!V5 -> 0 | Z5: 종료일 | AC5: ='5부.Ⅱ'!AC5 -> 0
D6: 회사명: | G6: =표지!E28 -> (주)아산탕정대한제50호위탁관리부동산투자회사 | AI6: (단위: 원)
C7: 구 분 | I7: 자본금 | M7: 자본잉여금 | P7: 자본조정 | T7: 기타포괄_x000D_ 손익누계액 | X7: 이익잉여금 | AB7: 기타 | AF7: 비지배지분 | AI7: 총계
AI8: =SUM(I8:AH8) -> 0
AI9: =SUM(I9:AH9) -> 0
AI10: =SUM(I10:AH10) -> 0
AI11: =SUM(I11:AH11) -> 0
AI12: =SUM(I12:AH12) -> 0
AI13: =SUM(I13:AH13) -> 0
AI14: =SUM(I14:AH14) -> 0
AI15: =SUM(I15:AH15) -> 0
AM17: ← 필요시 주석 기재
B20: * 입력도움말_x000D_ 1. 필요시 행추가(복사한 셀 삽입)하여 추가 작성하시기 바랍니다._x000D_ 2. 해당사항 없는 항목은 기재하지 마시기 바랍니다._x000D_

Sheet 5부.Ⅵ
B2: Ⅵ. 재무제표에 대한 주석(차입에 관한 구체적인 사항을 포함)
C4: 주석은 투자보고서 마지막에 별첨합니다.
A13: * 입력도움말_x000D_ 1. 주석은 별도의 PDF 파일로 업로드 해 주세요._x000D_

Sheet 5부.Ⅶ
B2: Ⅶ. 감사인의 감사(검토) 의견
B4: - 외부감사인의 감사(검토) 의견 및 위반사항
C6: 감사(검토)의견 : | I6: 해당사항 없음
C7: 기타사항(특기사항 포함)
B19: - 내부감사인의 감사(검토) 의견
C21: 감사(검토)의견 : | I21: 해당사항 없음
C22: 기타사항(특기사항 포함)
A35: * 입력도움말_x000D_ 1. 외부감사인의 감사(검토)의견란에는 "적정, 부적정, 한정, 의견거절, 해당사항 없음(분기 등 해당기간 아닌경우)" 중 해당되는_x000D_ 사항을 선택해 주시기 바랍니다._x000D_ 2. 기타사항(특기사항 포함) 내용이 입력범위를 초과하는 경우 셀 높이를 조절하시기 바랍니다.

Sheet 6부.Ⅰ
A2: 제 6 부 중요한 소송등 진행 현황
A4: Ⅰ. 중요한 소송진행사항
A11: * 입력도움말_x000D_ 1. 입력범위를 초과하는 경우 셀 높이를 조절하시기 바랍니다._x000D_ 2. 해당사항 없는 항목은 기재하지 마시기 바랍니다._x000D_ 3. 해당 기에 소송이 진행 중인 경우 초기 진행사항부터 기재하시기 바랍니다.

Sheet 7부.Ⅰ
A2: 제 7 부 특별관계자 등과의 거래 현황
A4: Ⅰ. 거래현황
E9: ※ 특별관계자 등은 다음에 해당하는 자를 말함 _x000D_ 1. 해당 부동산투자회사의 임직원 및 그 특별관계자_x000D_ 2. 해당 부동산투자회사의 주식을 100분의 10 이상 소유하고 있는 주주 및 그 특별관계자_x000D_ ※ 특별관계자는 자본시장법 시행령 제141조제1항의 특수관계인 및 공동보유자를 말함_x000D_ ※ 특별관계자 등과의 거래는 법 제30조제2항 각 호에 해당하는 거래를 말함
A12: * 입력도움말_x000D_ 1. 입력범위를 초과하는 경우 셀 높이를 조절하시기 바랍니다._x000D_ 2. 해당사항 없는 항목은 기재하지 마시기 바랍니다.

Sheet 8부.Ⅰ
A2: 제 8 부 기타사항
A4: Ⅰ. 제재현황
A11: * 입력도움말_x000D_ 1. 입력범위를 초과하는 경우 셀 높이를 조절하시기 바랍니다._x000D_ 2. 해당사항 없는 항목은 기재하지 마시기 바랍니다.
